Workbook
Name lista_bemoles_switch: Rosetta!$A$141:$B$300
Name Tonalidades: Rosetta!$A$121:$B$138

Sheet Rosetta
B1: Visualizador de Escalas de Abix | J1: Te ha sido útil? Considera una donación:
B2: https://abixites.com/masterclass-de-escalas-musicales | J2: link.mercadopago.com.mx/abixites
J3: paypal.me/abimaelruizb
E4: Modifica solamente las celdas amarillas | J4: Banamex 002180700568138276
D5: Visualizador: | E5: GTR | F5: Sostenidos / Bemoles : | G5: Auto (Teórico)
E6: Tónica | F6: Escala | G6: Idn Base | H6: Nombre
A7: A4= | B7: 440 | C7: Hz | E7: =IF(E5="GTR",GTR!D3,PIANO!C3) -> A | F7: =IF(E5="GTR",GTR!F3,PIANO!F3) -> Mayor | G7: =VLOOKUP($E$7,$A$122:$B$138,2,FALSE) -> 37 | H7: =CONCATENATE(E7," ",VLOOKUP(F7,J101:W120,14,FALSE)) -> A maj
A10: IDn | B10: Tonalidad | C10: Octava | D10: Color | E10: Freq (Hz) | F10: Observaciones | G10: Dif | H10: En escala? | I10: Nota | J10: Idn | K10: Grado | L10: Nom # | M10: Nom b
A11: 1 | B11: =IF($G$5=$F$100,IFERROR(IF(VLOOKUP($H$7,lista_bemoles_switch,2,FALSE)="s",M11,L11),L11),IF($G$5=$F$102,M11,L11)) -> A | C11: 0 | D11: Blanca | E11: =$B$7*2^((A11-49)/12) -> 27.5 | F11: Nota más grave (Límite inferior) | G11: =IF(VLOOKUP($B11,$A$122:$B$138,2,FALSE)-$G$7<0,12+VLOOKUP($B11,$A$122:$B$138,2,FALSE)-$G$7,VLOOKUP($B11,$A$122:$B$138,2,FALSE)-$G$7) -> 0 | H11: =VLOOKUP($F$7,$J$101:$V$120,2+$G11,FALSE) -> si | I11: =CONCATENATE($B11," ",$C11) -> A 0 | J11: =A11 -> 1 | K11: =IF($H11="si",IF(VLOOKUP("Grado",$J$100:$V$100,2+$G11,FALSE)=0,VLOOKUP("Grado",$J$100:$V$100,1+$G11,FALSE),VLOOKUP("Grado",$J$100:$V$100,2+$G11,FALSE)),"") -> I Tónica | L11: A | M11: =IFERROR(VLOOKUP(L11,$A$101:$B$105,2,FALSE),L11) -> A
A12: 2 | B12: =IF($G$5=$F$100,IFERROR(IF(VLOOKUP($H$7,lista_bemoles_switch,2,FALSE)="s",M12,L12),L12),IF($G$5=$F$102,M12,L12)) -> A# | C12: 0 | D12: Negra | E12: =$B$7*2^((A12-49)/12) -> 29.135235 | G12: =IF(VLOOKUP($B12,$A$122:$B$138,2,FALSE)-$G$7<0,12+VLOOKUP($B12,$A$122:$B$138,2,FALSE)-$G$7,VLOOKUP($B12,$A$122:$B$138,2,FALSE)-$G$7) -> 1 | H12: =VLOOKUP($F$7,$J$101:$V$120,2+$G12,FALSE) -> no | I12: =CONCATENATE($B12," ",$C12) -> A# 0 | J12: =A12 -> 2 | K12: =IF($H12="si",IF(VLOOKUP("Grado",$J$100:$V$100,2+$G12,FALSE)=0,VLOOKUP("Grado",$J$100:$V$100,1+$G12,FALSE),VLOOKUP("Grado",$J$100:$V$100,2+$G12,FALSE)),"") | L12: A# | M12: =IFERROR(VLOOKUP(L12,$A$101:$B$105,2,FALSE),L12) -> Bb
A13: 3 | B13: =IF($G$5=$F$100,IFERROR(IF(VLOOKUP($H$7,lista_bemoles_switch,2,FALSE)="s",M13,L13),L13),IF($G$5=$F$102,M13,L13)) -> B | C13: 0 | D13: Blanca | E13: =$B$7*2^((A13-49)/12) -> 30.867706 | G13: =IF(VLOOKUP($B13,$A$122:$B$138,2,FALSE)-$G$7<0,12+VLOOKUP($B13,$A$122:$B$138,2,FALSE)-$G$7,VLOOKUP($B13,$A$122:$B$138,2,FALSE)-$G$7) -> 2 | H13: =VLOOKUP($F$7,$J$101:$V$120,2+$G13,FALSE) -> si | I13: =CONCATENATE($B13," ",$C13) -> B 0 | J13: =A13 -> 3 | K13: =IF($H13="si",IF(VLOOKUP("Grado",$J$100:$V$100,2+$G13,FALSE)=0,VLOOKUP("Grado",$J$100:$V$100,1+$G13,FALSE),VLOOKUP("Grado",$J$100:$V$100,2+$G13,FALSE)),"") -> II | L13: B | M13: =IFERROR(VLOOKUP(L13,$A$101:$B$105,2,FALSE),L13) -> B
A14: 4 | B14: =IF($G$5=$F$100,IFERROR(IF(VLOOKUP($H$7,lista_bemoles_switch,2,FALSE)="s",M14,L14),L14),IF($G$5=$F$102,M14,L14)) -> C | C14: 1 | D14: Blanca | E14: =$B$7*2^((A14-49)/12) -> 32.703196 | G14: =IF(VLOOKUP($B14,$A$122:$B$138,2,FALSE)-$G$7<0,12+VLOOKUP($B14,$A$122:$B$138,2,FALSE)-$G$7,VLOOKUP($B14,$A$122:$B$138,2,FALSE)-$G$7) -> 3 | H14: =VLOOKUP($F$7,$J$101:$V$120,2+$G14,FALSE) -> no | I14: =CONCATENATE($B14," ",$C14) -> C 1 | J14: =A14 -> 4 | K14: =IF($H14="si",IF(VLOOKUP("Grado",$J$100:$V$100,2+$G14,FALSE)=0,VLOOKUP("Grado",$J$100:$V$100,1+$G14,FALSE),VLOOKUP("Grado",$J$100:$V$100,2+$G14,FALSE)),"") | L14: C | M14: =IFERROR(VLOOKUP(L14,$A$101:$B$105,2,FALSE),L14) -> C
A15: 5 | B15: =IF($G$5=$F$100,IFERROR(IF(VLOOKUP($H$7,lista_bemoles_switch,2,FALSE)="s",M15,L15),L15),IF($G$5=$F$102,M15,L15)) -> C# | C15: 1 | D15: Negra | E15: =$B$7*2^((A15-49)/12) -> 34.647829 | G15: =IF(VLOOKUP($B15,$A$122:$B$138,2,FALSE)-$G$7<0,12+VLOOKUP($B15,$A$122:$B$138,2,FALSE)-$G$7,VLOOKUP($B15,$A$122:$B$138,2,FALSE)-$G$7) -> 4 | H15: =VLOOKUP($F$7,$J$101:$V$120,2+$G15,FALSE) -> si | I15: =CONCATENATE($B15," ",$C15) -> C# 1 | J15: =A15 -> 5 | K15: =IF($H15="si",IF(VLOOKUP("Grado",$J$100:$V$100,2+$G15,FALSE)=0,VLOOKUP("Grado",$J$100:$V$100,1+$G15,FALSE),VLOOKUP("Grado",$J$100:$V$100,2+$G15,FALSE)),"") -> III Tercera | L15: C# | M15: =IFERROR(VLOOKUP(L15,$A$101:$B$105,2,FALSE),L15) -> Db
A16: 6 | B16: =IF($G$5=$F$100,IFERROR(IF(VLOOKUP($H$7,lista_bemoles_switch,2,FALSE)="s",M16,L16),L16),IF($G$5=$F$102,M16,L16)) -> D | C16: 1 | D16: Blanca | E16: =$B$7*2^((A16-49)/12) -> 36.708096 | G16: =IF(VLOOKUP($B16,$A$122:$B$138,2,FALSE)-$G$7<0,12+VLOOKUP($B16,$A$122:$B$138,2,FALSE)-$G$7,VLOOKUP($B16,$A$122:$B$138,2,FALSE)-$G$7) -> 5 | H16: =VLOOKUP($F$7,$J$101:$V$120,2+$G16,FALSE) -> si | I16: =CONCATENATE($B16," ",$C16) -> D 1 | J16: =A16 -> 6 | K16: =IF($H16="si",IF(VLOOKUP("Grado",$J$100:$V$100,2+$G16,FALSE)=0,VLOOKUP("Grado",$J$100:$V$100,1+$G16,FALSE),VLOOKUP("Grado",$J$100:$V$100,2+$G16,FALSE)),"") -> IV Cuarta | L16: D | M16: =IFERROR(VLOOKUP(L16,$A$101:$B$105,2,FALSE),L16) -> D
A17: 7 | B17: =IF($G$5=$F$100,IFERROR(IF(VLOOKUP($H$7,lista_bemoles_switch,2,FALSE)="s",M17,L17),L17),IF($G$5=$F$102,M17,L17)) -> D# | C17: 1 | D17: Negra | E17: =$B$7*2^((A17-49)/12) -> 38.890873 | G17: =IF(VLOOKUP($B17,$A$122:$B$138,2,FALSE)-$G$7<0,12+VLOOKUP($B17,$A$122:$B$138,2,FALSE)-$G$7,VLOOKUP($B17,$A$122:$B$138,2,FALSE)-$G$7) -> 6 | H17: =VLOOKUP($F$7,$J$101:$V$120,2+$G17,FALSE) -> no | I17: =CONCATENATE($B17," ",$C17) -> D# 1 | J17: =A17 -> 7 | K17: =IF($H17="si",IF(VLOOKUP("Grado",$J$100:$V$100,2+$G17,FALSE)=0,VLOOKUP("Grado",$J$100:$V$100,1+$G17,FALSE),VLOOKUP("Grado",$J$100:$V$100,2+$G17,FALSE)),"") | L17: D# | M17: =IFERROR(VLOOKUP(L17,$A$101:$B$105,2,FALSE),L17) -> Eb
A18: 8 | B18: =IF($G$5=$F$100,IFERROR(IF(VLOOKUP($H$7,lista_bemoles_switch,2,FALSE)="s",M18,L18),L18),IF($G$5=$F$102,M18,L18)) -> E | C18: 1 | D18: Blanca | E18: =$B$7*2^((A18-49)/12) -> 41.203445 | F18: 4ta Cuerda Bajo (E1) | G18: =IF(VLOOKUP($B18,$A$122:$B$138,2,FALSE)-$G$7<0,12+VLOOKUP($B18,$A$122:$B$138,2,FALSE)-$G$7,VLOOKUP($B18,$A$122:$B$138,2,FALSE)-$G$7) -> 7 | H18: =VLOOKUP($F$7,$J$101:$V$120,2+$G18,FALSE) -> si | I18: =CONCATENATE($B18," ",$C18) -> E 1 | J18: =A18 -> 8 | K18: =IF($H18="si",IF(VLOOKUP("Grado",$J$100:$V$100,2+$G18,FALSE)=0,VLOOKUP("Grado",$J$100:$V$100,1+$G18,FALSE),VLOOKUP("Grado",$J$100:$V$100,2+$G18,FALSE)),"") -> V Quinta | L18: E | M18: =IFERROR(VLOOKUP(L18,$A$101:$B$105,2,FALSE),L18) -> E | O18: Rango de Bajo
A19: 9 | B19: =IF($G$5=$F$100,IFERROR(IF(VLOOKUP($H$7,lista_bemoles_switch,2,FALSE)="s",M19,L19),L19),IF($G$5=$F$102,M19,L19)) -> F | C19: 1 | D19: Blanca | E19: =$B$7*2^((A19-49)/12) -> 43.653529 | G19: =IF(VLOOKUP($B19,$A$122:$B$138,2,FALSE)-$G$7<0,12+VLOOKUP($B19,$A$122:$B$138,2,FALSE)-$G$7,VLOOKUP($B19,$A$122:$B$138,2,FALSE)-$G$7) -> 8 | H19: =VLOOKUP($F$7,$J$101:$V$120,2+$G19,FALSE) -> no | I19: =CONCATENATE($B19," ",$C19) -> F 1 | J19: =A19 -> 9 | K19: =IF($H19="si",IF(VLOOKUP("Grado",$J$100:$V$100,2+$G19,FALSE)=0,VLOOKUP("Grado",$J$100:$V$100,1+$G19,FALSE),VLOOKUP("Grado",$J$100:$V$100,2+$G19,FALSE)),"") | L19: F | M19: =IFERROR(VLOOKUP(L19,$A$101:$B$105,2,FALSE),L19) -> F
A20: 10 | B20: =IF($G$5=$F$100,IFERROR(IF(VLOOKUP($H$7,lista_bemoles_switch,2,FALSE)="s",M20,L20),L20),IF($G$5=$F$102,M20,L20)) -> F# | C20: 1 | D20: Negra | E20: =$B$7*2^((A20-49)/12) -> 46.249303 | G20: =IF(VLOOKUP($B20,$A$122:$B$138,2,FALSE)-$G$7<0,12+VLOOKUP($B20,$A$122:$B$138,2,FALSE)-$G$7,VLOOKUP($B20,$A$122:$B$138,2,FALSE)-$G$7) -> 9 | H20: =VLOOKUP($F$7,$J$101:$V$120,2+$G20,FALSE) -> si | I20: =CONCATENATE($B20," ",$C20) -> F# 1 | J20: =A20 -> 10 | K20: =IF($H20="si",IF(VLOOKUP("Grado",$J$100:$V$100,2+$G20,FALSE)=0,VLOOKUP("Grado",$J$100:$V$100,1+$G20,FALSE),VLOOKUP("Grado",$J$100:$V$100,2+$G20,FALSE)),"") -> VI Sexta | L20: F# | M20: =IFERROR(VLOOKUP(L20,$A$101:$B$105,2,FALSE),L20) -> Gb
A21: 11 | B21: =IF($G$5=$F$100,IFERROR(IF(VLOOKUP($H$7,lista_bemoles_switch,2,FALSE)="s",M21,L21),L21),IF($G$5=$F$102,M21,L21)) -> G | C21: 1 | D21: Blanca | E21: =$B$7*2^((A21-49)/12) -> 48.999429 | G21: =IF(VLOOKUP($B21,$A$122:$B$138,2,FALSE)-$G$7<0,12+VLOOKUP($B21,$A$122:$B$138,2,FALSE)-$G$7,VLOOKUP($B21,$A$122:$B$138,2,FALSE)-$G$7) -> 10 | H21: =VLOOKUP($F$7,$J$101:$V$120,2+$G21,FALSE) -> no | I21: =CONCATENATE($B21," ",$C21) -> G 1 | J21: =A21 -> 11 | K21: =IF($H21="si",IF(VLOOKUP("Grado",$J$100:$V$100,2+$G21,FALSE)=0,VLOOKUP("Grado",$J$100:$V$100,1+$G21,FALSE),VLOOKUP("Grado",$J$100:$V$100,2+$G21,FALSE)),"") | L21: G | M21: =IFERROR(VLOOKUP(L21,$A$101:$B$105,2,FALSE),L21) -> G
A22: 12 | B22: =IF($G$5=$F$100,IFERROR(IF(VLOOKUP($H$7,lista_bemoles_switch,2,FALSE)="s",M22,L22),L22),IF($G$5=$F$102,M22,L22)) -> G# | C22: 1 | D22: Negra | E22: =$B$7*2^((A22-49)/12) -> 51.913087 | G22: =IF(VLOOKUP($B22,$A$122:$B$138,2,FALSE)-$G$7<0,12+VLOOKUP($B22,$A$122:$B$138,2,FALSE)-$G$7,VLOOKUP($B22,$A$122:$B$138,2,FALSE)-$G$7) -> 11 | H22: =VLOOKUP($F$7,$J$101:$V$120,2+$G22,FALSE) -> si | I22: =CONCATENATE($B22," ",$C22) -> G# 1 | J22: =A22 -> 12 | K22: =IF($H22="si",IF(VLOOKUP("Grado",$J$100:$V$100,2+$G22,FALSE)=0,VLOOKUP("Grado",$J$100:$V$100,1+$G22,FALSE),VLOOKUP("Grado",$J$100:$V$100,2+$G22,FALSE)),"") -> VII Séptima | L22: G# | M22: =IFERROR(VLOOKUP(L22,$A$101:$B$105,2,FALSE),L22) -> Ab
A23: 13 | B23: =IF($G$5=$F$100,IFERROR(IF(VLOOKUP($H$7,lista_bemoles_switch,2,FALSE)="s",M23,L23),L23),IF($G$5=$F$102,M23,L23)) -> A | C23: 1 | D23: Blanca | E23: =$B$7*2^((A23-49)/12) -> 55 | F23: 3ra Cuerda Bajo (A1) | G23: =IF(VLOOKUP($B23,$A$122:$B$138,2,FALSE)-$G$7<0,12+VLOOKUP($B23,$A$122:$B$138,2,FALSE)-$G$7,VLOOKUP($B23,$A$122:$B$138,2,FALSE)-$G$7) -> 0 | H23: =VLOOKUP($F$7,$J$101:$V$120,2+$G23,FALSE) -> si | I23: =CONCATENATE($B23," ",$C23) -> A 1 | J23: =A23 -> 13 | K23: =IF($H23="si",IF(VLOOKUP("Grado",$J$100:$V$100,2+$G23,FALSE)=0,VLOOKUP("Grado",$J$100:$V$100,1+$G23,FALSE),VLOOKUP("Grado",$J$100:$V$100,2+$G23,FALSE)),"") -> I Tónica | L23: A | M23: =IFERROR(VLOOKUP(L23,$A$101:$B$105,2,FALSE),L23) -> A
A24: 14 | B24: =IF($G$5=$F$100,IFERROR(IF(VLOOKUP($H$7,lista_bemoles_switch,2,FALSE)="s",M24,L24),L24),IF($G$5=$F$102,M24,L24)) -> A# | C24: 1 | D24: Negra | E24: =$B$7*2^((A24-49)/12) -> 58.27047 | G24: =IF(VLOOKUP($B24,$A$122:$B$138,2,FALSE)-$G$7<0,12+VLOOKUP($B24,$A$122:$B$138,2,FALSE)-$G$7,VLOOKUP($B24,$A$122:$B$138,2,FALSE)-$G$7) -> 1 | H24: =VLOOKUP($F$7,$J$101:$V$120,2+$G24,FALSE) -> no | I24: =CONCATENATE($B24," ",$C24) -> A# 1 | J24: =A24 -> 14 | K24: =IF($H24="si",IF(VLOOKUP("Grado",$J$100:$V$100,2+$G24,FALSE)=0,VLOOKUP("Grado",$J$100:$V$100,1+$G24,FALSE),VLOOKUP("Grado",$J$100:$V$100,2+$G24,FALSE)),"") | L24: A# | M24: =IFERROR(VLOOKUP(L24,$A$101:$B$105,2,FALSE),L24) -> Bb
A25: 15 | B25: =IF($G$5=$F$100,IFERROR(IF(VLOOKUP($H$7,lista_bemoles_switch,2,FALSE)="s",M25,L25),L25),IF($G$5=$F$102,M25,L25)) -> B | C25: 1 | D25: Blanca | E25: =$B$7*2^((A25-49)/12) -> 61.735413 | G25: =IF(VLOOKUP($B25,$A$122:$B$138,2,FALSE)-$G$7<0,12+VLOOKUP($B25,$A$122:$B$138,2,FALSE)-$G$7,VLOOKUP($B25,$A$122:$B$138,2,FALSE)-$G$7) -> 2 | H25: =VLOOKUP($F$7,$J$101:$V$120,2+$G25,FALSE) -> si | I25: =CONCATENATE($B25," ",$C25) -> B 1 | J25: =A25 -> 15 | K25: =IF($H25="si",IF(VLOOKUP("Grado",$J$100:$V$100,2+$G25,FALSE)=0,VLOOKUP("Grado",$J$100:$V$100,1+$G25,FALSE),VLOOKUP("Grado",$J$100:$V$100,2+$G25,FALSE)),"") -> II | L25: B | M25: =IFERROR(VLOOKUP(L25,$A$101:$B$105,2,FALSE),L25) -> B
A26: 16 | B26: =IF($G$5=$F$100,IFERROR(IF(VLOOKUP($H$7,lista_bemoles_switch,2,FALSE)="s",M26,L26),L26),IF($G$5=$F$102,M26,L26)) -> C | C26: 2 | D26: Blanca | E26: =$B$7*2^((A26-49)/12) -> 65.406391 | G26: =IF(VLOOKUP($B26,$A$122:$B$138,2,FALSE)-$G$7<0,12+VLOOKUP($B26,$A$122:$B$138,2,FALSE)-$G$7,VLOOKUP($B26,$A$122:$B$138,2,FALSE)-$G$7) -> 3 | H26: =VLOOKUP($F$7,$J$101:$V$120,2+$G26,FALSE) -> no | I26: =CONCATENATE($B26," ",$C26) -> C 2 | J26: =A26 -> 16 | K26: =IF($H26="si",IF(VLOOKUP("Grado",$J$100:$V$100,2+$G26,FALSE)=0,VLOOKUP("Grado",$J$100:$V$100,1+$G26,FALSE),VLOOKUP("Grado",$J$100:$V$100,2+$G26,FALSE)),"") | L26: C | M26: =IFERROR(VLOOKUP(L26,$A$101:$B$105,2,FALSE),L26) -> C
A27: 17 | B27: =IF($G$5=$F$100,IFERROR(IF(VLOOKUP($H$7,lista_bemoles_switch,2,FALSE)="s",M27,L27),L27),IF($G$5=$F$102,M27,L27)) -> C# | C27: 2 | D27: Negra | E27: =$B$7*2^((A27-49)/12) -> 69.295658 | G27: =IF(VLOOKUP($B27,$A$122:$B$138,2,FALSE)-$G$7<0,12+VLOOKUP($B27,$A$122:$B$138,2,FALSE)-$G$7,VLOOKUP($B27,$A$122:$B$138,2,FALSE)-$G$7) -> 4 | H27: =VLOOKUP($F$7,$J$101:$V$120,2+$G27,FALSE) -> si | I27: =CONCATENATE($B27," ",$C27) -> C# 2 | J27: =A27 -> 17 | K27: =IF($H27="si",IF(VLOOKUP("Grado",$J$100:$V$100,2+$G27,FALSE)=0,VLOOKUP("Grado",$J$100:$V$100,1+$G27,FALSE),VLOOKUP("Grado",$J$100:$V$100,2+$G27,FALSE)),"") -> III Tercera | L27: C# | M27: =IFERROR(VLOOKUP(L27,$A$101:$B$105,2,FALSE),L27) -> Db
A28: 18 | B28: =IF($G$5=$F$100,IFERROR(IF(VLOOKUP($H$7,lista_bemoles_switch,2,FALSE)="s",M28,L28),L28),IF($G$5=$F$102,M28,L28)) -> D | C28: 2 | D28: Blanca | E28: =$B$7*2^((A28-49)/12) -> 73.416192 | F28: 2da Cuerda Bajo (D2) | G28: =IF(VLOOKUP($B28,$A$122:$B$138,2,FALSE)-$G$7<0,12+VLOOKUP($B28,$A$122:$B$138,2,FALSE)-$G$7,VLOOKUP($B28,$A$122:$B$138,2,FALSE)-$G$7) -> 5 | H28: =VLOOKUP($F$7,$J$101:$V$120,2+$G28,FALSE) -> si | I28: =CONCATENATE($B28," ",$C28) -> D 2 | J28: =A28 -> 18 | K28: =IF($H28="si",IF(VLOOKUP("Grado",$J$100:$V$100,2+$G28,FALSE)=0,VLOOKUP("Grado",$J$100:$V$100,1+$G28,FALSE),VLOOKUP("Grado",$J$100:$V$100,2+$G28,FALSE)),"") -> IV Cuarta | L28: D | M28: =IFERROR(VLOOKUP(L28,$A$101:$B$105,2,FALSE),L28) -> D
A29: 19 | B29: =IF($G$5=$F$100,IFERROR(IF(VLOOKUP($H$7,lista_bemoles_switch,2,FALSE)="s",M29,L29),L29),IF($G$5=$F$102,M29,L29)) -> D# | C29: 2 | D29: Negra | E29: =$B$7*2^((A29-49)/12) -> 77.781746 | G29: =IF(VLOOKUP($B29,$A$122:$B$138,2,FALSE)-$G$7<0,12+VLOOKUP($B29,$A$122:$B$138,2,FALSE)-$G$7,VLOOKUP($B29,$A$122:$B$138,2,FALSE)-$G$7) -> 6 | H29: =VLOOKUP($F$7,$J$101:$V$120,2+$G29,FALSE) -> no | I29: =CONCATENATE($B29," ",$C29) -> D# 2 | J29: =A29 -> 19 | K29: =IF($H29="si",IF(VLOOKUP("Grado",$J$100:$V$100,2+$G29,FALSE)=0,VLOOKUP("Grado",$J$100:$V$100,1+$G29,FALSE),VLOOKUP("Grado",$J$100:$V$100,2+$G29,FALSE)),"") | L29: D# | M29: =IFERROR(VLOOKUP(L29,$A$101:$B$105,2,FALSE),L29) -> Eb
A30: 20 | B30: =IF($G$5=$F$100,IFERROR(IF(VLOOKUP($H$7,lista_bemoles_switch,2,FALSE)="s",M30,L30),L30),IF($G$5=$F$102,M30,L30)) -> E | C30: 2 | D30: Blanca | E30: =$B$7*2^((A30-49)/12) -> 82.406889 | F30: 6ta Cuerda Guitarra (E2) | G30: =IF(VLOOKUP($B30,$A$122:$B$138,2,FALSE)-$G$7<0,12+VLOOKUP($B30,$A$122:$B$138,2,FALSE)-$G$7,VLOOKUP($B30,$A$122:$B$138,2,FALSE)-$G$7) -> 7 | H30: =VLOOKUP($F$7,$J$101:$V$120,2+$G30,FALSE) -> si | I30: =CONCATENATE($B30," ",$C30) -> E 2 | J30: =A30 -> 20 | K30: =IF($H30="si",IF(VLOOKUP("Grado",$J$100:$V$100,2+$G30,FALSE)=0,VLOOKUP("Grado",$J$100:$V$100,1+$G30,FALSE),VLOOKUP("Grado",$J$100:$V$100,2+$G30,FALSE)),"") -> V Quinta | L30: E | M30: =IFERROR(VLOOKUP(L30,$A$101:$B$105,2,FALSE),L30) -> E | N30: Rango de Guitarra
A31: 21 | B31: =IF($G$5=$F$100,IFERROR(IF(VLOOKUP($H$7,lista_bemoles_switch,2,FALSE)="s",M31,L31),L31),IF($G$5=$F$102,M31,L31)) -> F | C31: 2 | D31: Blanca | E31: =$B$7*2^((A31-49)/12) -> 87.307058 | G31: =IF(VLOOKUP($B31,$A$122:$B$138,2,FALSE)-$G$7<0,12+VLOOKUP($B31,$A$122:$B$138,2,FALSE)-$G$7,VLOOKUP($B31,$A$122:$B$138,2,FALSE)-$G$7) -> 8 | H31: =VLOOKUP($F$7,$J$101:$V$120,2+$G31,FALSE) -> no | I31: =CONCATENATE($B31," ",$C31) -> F 2 | J31: =A31 -> 21 | K31: =IF($H31="si",IF(VLOOKUP("Grado",$J$100:$V$100,2+$G31,FALSE)=0,VLOOKUP("Grado",$J$100:$V$100,1+$G31,FALSE),VLOOKUP("Grado",$J$100:$V$100,2+$G31,FALSE)),"") | L31: F | M31: =IFERROR(VLOOKUP(L31,$A$101:$B$105,2,FALSE),L31) -> F
A32: 22 | B32: =IF($G$5=$F$100,IFERROR(IF(VLOOKUP($H$7,lista_bemoles_switch,2,FALSE)="s",M32,L32),L32),IF($G$5=$F$102,M32,L32)) -> F# | C32: 2 | D32: Negra | E32: =$B$7*2^((A32-49)/12) -> 92.498606 | G32: =IF(VLOOKUP($B32,$A$122:$B$138,2,FALSE)-$G$7<0,12+VLOOKUP($B32,$A$122:$B$138,2,FALSE)-$G$7,VLOOKUP($B32,$A$122:$B$138,2,FALSE)-$G$7) -> 9 | H32: =VLOOKUP($F$7,$J$101:$V$120,2+$G32,FALSE) -> si | I32: =CONCATENATE($B32," ",$C32) -> F# 2 | J32: =A32 -> 22 | K32: =IF($H32="si",IF(VLOOKUP("Grado",$J$100:$V$100,2+$G32,FALSE)=0,VLOOKUP("Grado",$J$100:$V$100,1+$G32,FALSE),VLOOKUP("Grado",$J$100:$V$100,2+$G32,FALSE)),"") -> VI Sexta | L32: F# | M32: =IFERROR(VLOOKUP(L32,$A$101:$B$105,2,FALSE),L32) -> Gb
A33: 23 | B33: =IF($G$5=$F$100,IFERROR(IF(VLOOKUP($H$7,lista_bemoles_switch,2,FALSE)="s",M33,L33),L33),IF($G$5=$F$102,M33,L33)) -> G | C33: 2 | D33: Blanca | E33: =$B$7*2^((A33-49)/12) -> 97.998859 | F33: 1ra Cuerda Bajo (G2) | G33: =IF(VLOOKUP($B33,$A$122:$B$138,2,FALSE)-$G$7<0,12+VLOOKUP($B33,$A$122:$B$138,2,FALSE)-$G$7,VLOOKUP($B33,$A$122:$B$138,2,FALSE)-$G$7) -> 10 | H33: =VLOOKUP($F$7,$J$101:$V$120,2+$G33,FALSE) -> no | I33: =CONCATENATE($B33," ",$C33) -> G 2 | J33: =A33 -> 23 | K33: =IF($H33="si",IF(VLOOKUP("Grado",$J$100:$V$100,2+$G33,FALSE)=0,VLOOKUP("Grado",$J$100:$V$100,1+$G33,FALSE),VLOOKUP("Grado",$J$100:$V$100,2+$G33,FALSE)),"") | L33: G | M33: =IFERROR(VLOOKUP(L33,$A$101:$B$105,2,FALSE),L33) -> G
A34: 24 | B34: =IF($G$5=$F$100,IFERROR(IF(VLOOKUP($H$7,lista_bemoles_switch,2,FALSE)="s",M34,L34),L34),IF($G$5=$F$102,M34,L34)) -> G# | C34: 2 | D34: Negra | E34: =$B$7*2^((A34-49)/12) -> 103.82617 | G34: =IF(VLOOKUP($B34,$A$122:$B$138,2,FALSE)-$G$7<0,12+VLOOKUP($B34,$A$122:$B$138,2,FALSE)-$G$7,VLOOKUP($B34,$A$122:$B$138,2,FALSE)-$G$7) -> 11 | H34: =VLOOKUP($F$7,$J$101:$V$120,2+$G34,FALSE) -> si | I34: =CONCATENATE($B34," ",$C34) -> G# 2 | J34: =A34 -> 24 | K34: =IF($H34="si",IF(VLOOKUP("Grado",$J$100:$V$100,2+$G34,FALSE)=0,VLOOKUP("Grado",$J$100:$V$100,1+$G34,FALSE),VLOOKUP("Grado",$J$100:$V$100,2+$G34,FALSE)),"") -> VII Séptima | L34: G# | M34: =IFERROR(VLOOKUP(L34,$A$101:$B$105,2,FALSE),L34) -> Ab
A35: 25 | B35: =IF($G$5=$F$100,IFERROR(IF(VLOOKUP($H$7,lista_bemoles_switch,2,FALSE)="s",M35,L35),L35),IF($G$5=$F$102,M35,L35)) -> A | C35: 2 | D35: Blanca | E35: =$B$7*2^((A35-49)/12) -> 110 | F35: 5ta Cuerda Guitarra (A2) | G35: =IF(VLOOKUP($B35,$A$122:$B$138,2,FALSE)-$G$7<0,12+VLOOKUP($B35,$A$122:$B$138,2,FALSE)-$G$7,VLOOKUP($B35,$A$122:$B$138,2,FALSE)-$G$7) -> 0 | H35: =VLOOKUP($F$7,$J$101:$V$120,2+$G35,FALSE) -> si | I35: =CONCATENATE($B35," ",$C35) -> A 2 | J35: =A35 -> 25 | K35: =IF($H35="si",IF(VLOOKUP("Grado",$J$100:$V$100,2+$G35,FALSE)=0,VLOOKUP("Grado",$J$100:$V$100,1+$G35,FALSE),VLOOKUP("Grado",$J$100:$V$100,2+$G35,FALSE)),"") -> I Tónica | L35: A | M35: =IFERROR(VLOOKUP(L35,$A$101:$B$105,2,FALSE),L35) -> A
A36: 26 | B36: =IF($G$5=$F$100,IFERROR(IF(VLOOKUP($H$7,lista_bemoles_switch,2,FALSE)="s",M36,L36),L36),IF($G$5=$F$102,M36,L36)) -> A# | C36: 2 | D36: Negra | E36: =$B$7*2^((A36-49)/12) -> 116.54094 | G36: =IF(VLOOKUP($B36,$A$122:$B$138,2,FALSE)-$G$7<0,12+VLOOKUP($B36,$A$122:$B$138,2,FALSE)-$G$7,VLOOKUP($B36,$A$122:$B$138,2,FALSE)-$G$7) -> 1 | H36: =VLOOKUP($F$7,$J$101:$V$120,2+$G36,FALSE) -> no | I36: =CONCATENATE($B36," ",$C36) -> A# 2 | J36: =A36 -> 26 | K36: =IF($H36="si",IF(VLOOKUP("Grado",$J$100:$V$100,2+$G36,FALSE)=0,VLOOKUP("Grado",$J$100:$V$100,1+$G36,FALSE),VLOOKUP("Grado",$J$100:$V$100,2+$G36,FALSE)),"") | L36: A# | M36: =IFERROR(VLOOKUP(L36,$A$101:$B$105,2,FALSE),L36) -> Bb
A37: 27 | B37: =IF($G$5=$F$100,IFERROR(IF(VLOOKUP($H$7,lista_bemoles_switch,2,FALSE)="s",M37,L37),L37),IF($G$5=$F$102,M37,L37)) -> B | C37: 2 | D37: Blanca | E37: =$B$7*2^((A37-49)/12) -> 123.47083 | G37: =IF(VLOOKUP($B37,$A$122:$B$138,2,FALSE)-$G$7<0,12+VLOOKUP($B37,$A$122:$B$138,2,FALSE)-$G$7,VLOOKUP($B37,$A$122:$B$138,2,FALSE)-$G$7) -> 2 | H37: =VLOOKUP($F$7,$J$101:$V$120,2+$G37,FALSE) -> si | I37: =CONCATENATE($B37," ",$C37) -> B 2 | J37: =A37 -> 27 | K37: =IF($H37="si",IF(VLOOKUP("Grado",$J$100:$V$100,2+$G37,FALSE)=0,VLOOKUP("Grado",$J$100:$V$100,1+$G37,FALSE),VLOOKUP("Grado",$J$100:$V$100,2+$G37,FALSE)),"") -> II | L37: B | M37: =IFERROR(VLOOKUP(L37,$A$101:$B$105,2,FALSE),L37) -> B
A38: 28 | B38: =IF($G$5=$F$100,IFERROR(IF(VLOOKUP($H$7,lista_bemoles_switch,2,FALSE)="s",M38,L38),L38),IF($G$5=$F$102,M38,L38)) -> C | C38: 3 | D38: Blanca | E38: =$B$7*2^((A38-49)/12) -> 130.81278 | G38: =IF(VLOOKUP($B38,$A$122:$B$138,2,FALSE)-$G$7<0,12+VLOOKUP($B38,$A$122:$B$138,2,FALSE)-$G$7,VLOOKUP($B38,$A$122:$B$138,2,FALSE)-$G$7) -> 3 | H38: =VLOOKUP($F$7,$J$101:$V$120,2+$G38,FALSE) -> no | I38: =CONCATENATE($B38," ",$C38) -> C 3 | J38: =A38 -> 28 | K38: =IF($H38="si",IF(VLOOKUP("Grado",$J$100:$V$100,2+$G38,FALSE)=0,VLOOKUP("Grado",$J$100:$V$100,1+$G38,FALSE),VLOOKUP("Grado",$J$100:$V$100,2+$G38,FALSE)),"") | L38: C | M38: =IFERROR(VLOOKUP(L38,$A$101:$B$105,2,FALSE),L38) -> C
A39: 29 | B39: =IF($G$5=$F$100,IFERROR(IF(VLOOKUP($H$7,lista_bemoles_switch,2,FALSE)="s",M39,L39),L39),IF($G$5=$F$102,M39,L39)) -> C# | C39: 3 | D39: Negra | E39: =$B$7*2^((A39-49)/12) -> 138.59132 | G39: =IF(VLOOKUP($B39,$A$122:$B$138,2,FALSE)-$G$7<0,12+VLOOKUP($B39,$A$122:$B$138,2,FALSE)-$G$7,VLOOKUP($B39,$A$122:$B$138,2,FALSE)-$G$7) -> 4 | H39: =VLOOKUP($F$7,$J$101:$V$120,2+$G39,FALSE) -> si | I39: =CONCATENATE($B39," ",$C39) -> C# 3 | J39: =A39 -> 29 | K39: =IF($H39="si",IF(VLOOKUP("Grado",$J$100:$V$100,2+$G39,FALSE)=0,VLOOKUP("Grado",$J$100:$V$100,1+$G39,FALSE),VLOOKUP("Grado",$J$100:$V$100,2+$G39,FALSE)),"") -> III Tercera | L39: C# | M39: =IFERROR(VLOOKUP(L39,$A$101:$B$105,2,FALSE),L39) -> Db
A40: 30 | B40: =IF($G$5=$F$100,IFERROR(IF(VLOOKUP($H$7,lista_bemoles_switch,2,FALSE)="s",M40,L40),L40),IF($G$5=$F$102,M40,L40)) -> D | C40: 3 | D40: Blanca | E40: =$B$7*2^((A40-49)/12) -> 146.83238 | F40: 4ta Cuerda Guitarra (D3) | G40: =IF(VLOOKUP($B40,$A$122:$B$138,2,FALSE)-$G$7<0,12+VLOOKUP($B40,$A$122:$B$138,2,FALSE)-$G$7,VLOOKUP($B40,$A$122:$B$138,2,FALSE)-$G$7) -> 5 | H40: =VLOOKUP($F$7,$J$101:$V$120,2+$G40,FALSE) -> si | I40: =CONCATENATE($B40," ",$C40) -> D 3 | J40: =A40 -> 30 | K40: =IF($H40="si",IF(VLOOKUP("Grado",$J$100:$V$100,2+$G40,FALSE)=0,VLOOKUP("Grado",$J$100:$V$100,1+$G40,FALSE),VLOOKUP("Grado",$J$100:$V$100,2+$G40,FALSE)),"") -> IV Cuarta | L40: D | M40: =IFERROR(VLOOKUP(L40,$A$101:$B$105,2,FALSE),L40) -> D
A41: 31 | B41: =IF($G$5=$F$100,IFERROR(IF(VLOOKUP($H$7,lista_bemoles_switch,2,FALSE)="s",M41,L41),L41),IF($G$5=$F$102,M41,L41)) -> D# | C41: 3 | D41: Negra | E41: =$B$7*2^((A41-49)/12) -> 155.56349 | G41: =IF(VLOOKUP($B41,$A$122:$B$138,2,FALSE)-$G$7<0,12+VLOOKUP($B41,$A$122:$B$138,2,FALSE)-$G$7,VLOOKUP($B41,$A$122:$B$138,2,FALSE)-$G$7) -> 6 | H41: =VLOOKUP($F$7,$J$101:$V$120,2+$G41,FALSE) -> no | I41: =CONCATENATE($B41," ",$C41) -> D# 3 | J41: =A41 -> 31 | K41: =IF($H41="si",IF(VLOOKUP("Grado",$J$100:$V$100,2+$G41,FALSE)=0,VLOOKUP("Grado",$J$100:$V$100,1+$G41,FALSE),VLOOKUP("Grado",$J$100:$V$100,2+$G41,FALSE)),"") | L41: D# | M41: =IFERROR(VLOOKUP(L41,$A$101:$B$105,2,FALSE),L41) -> Eb
A42: 32 | B42: =IF($G$5=$F$100,IFERROR(IF(VLOOKUP($H$7,lista_bemoles_switch,2,FALSE)="s",M42,L42),L42),IF($G$5=$F$102,M42,L42)) -> E | C42: 3 | D42: Blanca | E42: =$B$7*2^((A42-49)/12) -> 164.81378 | G42: =IF(VLOOKUP($B42,$A$122:$B$138,2,FALSE)-$G$7<0,12+VLOOKUP($B42,$A$122:$B$138,2,FALSE)-$G$7,VLOOKUP($B42,$A$122:$B$138,2,FALSE)-$G$7) -> 7 | H42: =VLOOKUP($F$7,$J$101:$V$120,2+$G42,FALSE) -> si | I42: =CONCATENATE($B42," ",$C42) -> E 3 | J42: =A42 -> 32 | K42: =IF($H42="si",IF(VLOOKUP("Grado",$J$100:$V$100,2+$G42,FALSE)=0,VLOOKUP("Grado",$J$100:$V$100,1+$G42,FALSE),VLOOKUP("Grado",$J$100:$V$100,2+$G42,FALSE)),"") -> V Quinta | L42: E | M42: =IFERROR(VLOOKUP(L42,$A$101:$B$105,2,FALSE),L42) -> E
...

Sheet GTR
A1: Modifica solamente las celdas amarillas
D2: Tonalidad | F2: Escala
D3: A | F3: Mayor | J3: =IF(Rosetta!E5="GTR",IFERROR(VLOOKUP(F3,Rosetta!J100:X120,15,FALSE),""),"Cambia el visualizador a GTR en la hoja Rosetta") -> El estándar de oro, la escala reina: Ocupa los 7 grados I II III IV V VI VII. Es la escala base de la música occidental; brillante, estable y equilibrada. Día soleado. | AF3: Te ha sido útil? Considera una donación:
AF4: link.mercadopago.com.mx/abixites
F5: =Rosetta!H7 -> A maj | K5: Grados: | L5: I Tónica | N5: II | P5: III Tercera | R5: IV Cuarta | T5: V dis | V5: V Quinta | X5: VI Sexta | Z5: VII Séptima | AF5: paypal.me/abimaelruizb
K6: notas: | L6: =IFERROR(IF(VLOOKUP($F$5,lista_bemoles_switch,2,FALSE)="s",IFERROR(VLOOKUP(L$5,Rosetta!$K$11:$M$34,3,FALSE),""),IFERROR(VLOOKUP(L$5,Rosetta!$K$11:$L$34,2,FALSE),"")),IFERROR(VLOOKUP(L$5,Rosetta!$K$11:$L$34,2,FALSE),"")) -> A | M6: =IFERROR(IF(VLOOKUP($F$5,lista_bemoles_switch,2,FALSE)="s",IFERROR(VLOOKUP(M$5,Rosetta!$K$11:$M$34,3,FALSE),""),IFERROR(VLOOKUP(M$5,Rosetta!$K$11:$L$34,2,FALSE),"")),IFERROR(VLOOKUP(M$5,Rosetta!$K$11:$L$34,2,FALSE),"")) | N6: =IFERROR(IF(VLOOKUP($F$5,lista_bemoles_switch,2,FALSE)="s",IFERROR(VLOOKUP(N$5,Rosetta!$K$11:$M$34,3,FALSE),""),IFERROR(VLOOKUP(N$5,Rosetta!$K$11:$L$34,2,FALSE),"")),IFERROR(VLOOKUP(N$5,Rosetta!$K$11:$L$34,2,FALSE),"")) -> B | O6: =IFERROR(IF(VLOOKUP($F$5,lista_bemoles_switch,2,FALSE)="s",IFERROR(VLOOKUP(O$5,Rosetta!$K$11:$M$34,3,FALSE),""),IFERROR(VLOOKUP(O$5,Rosetta!$K$11:$L$34,2,FALSE),"")),IFERROR(VLOOKUP(O$5,Rosetta!$K$11:$L$34,2,FALSE),"")) | P6: =IFERROR(IF(VLOOKUP($F$5,lista_bemoles_switch,2,FALSE)="s",IFERROR(VLOOKUP(P$5,Rosetta!$K$11:$M$34,3,FALSE),""),IFERROR(VLOOKUP(P$5,Rosetta!$K$11:$L$34,2,FALSE),"")),IFERROR(VLOOKUP(P$5,Rosetta!$K$11:$L$34,2,FALSE),"")) -> C# | Q6: =IFERROR(IF(VLOOKUP($F$5,lista_bemoles_switch,2,FALSE)="s",IFERROR(VLOOKUP(Q$5,Rosetta!$K$11:$M$34,3,FALSE),""),IFERROR(VLOOKUP(Q$5,Rosetta!$K$11:$L$34,2,FALSE),"")),IFERROR(VLOOKUP(Q$5,Rosetta!$K$11:$L$34,2,FALSE),"")) | R6: =IFERROR(IF(VLOOKUP($F$5,lista_bemoles_switch,2,FALSE)="s",IFERROR(VLOOKUP(R$5,Rosetta!$K$11:$M$34,3,FALSE),""),IFERROR(VLOOKUP(R$5,Rosetta!$K$11:$L$34,2,FALSE),"")),IFERROR(VLOOKUP(R$5,Rosetta!$K$11:$L$34,2,FALSE),"")) -> D | S6: =IFERROR(IF(VLOOKUP($F$5,lista_bemoles_switch,2,FALSE)="s",IFERROR(VLOOKUP(S$5,Rosetta!$K$11:$M$34,3,FALSE),""),IFERROR(VLOOKUP(S$5,Rosetta!$K$11:$L$34,2,FALSE),"")),IFERROR(VLOOKUP(S$5,Rosetta!$K$11:$L$34,2,FALSE),"")) | ... Z6: =IFERROR(IF(VLOOKUP($F$5,lista_bemoles_switch,2,FALSE)="s",IFERROR(VLOOKUP(Z$5,Rosetta!$K$11:$M$34,3,FALSE),""),IFERROR(VLOOKUP(Z$5,Rosetta!$K$11:$L$34,2,FALSE),"")),IFERROR(VLOOKUP(Z$5,Rosetta!$K$11:$L$34,2,FALSE),"")) -> G# | AF6: Banamex 002180700568138276
A7: Copia estos patrones en la celda F11 | K7: semitonos: | L7: =IF(L$6="","",CONCATENATE("+",VLOOKUP(L$6,Rosetta!$B$11:$G$98,6,FALSE))) -> +0 | N7: =IF(N$6="","",CONCATENATE("+",VLOOKUP(N$6,Rosetta!$B$11:$G$98,6,FALSE))) -> +2 | P7: =IF(P$6="","",CONCATENATE("+",VLOOKUP(P$6,Rosetta!$B$11:$G$98,6,FALSE))) -> +4 | R7: =IF(R$6="","",CONCATENATE("+",VLOOKUP(R$6,Rosetta!$B$11:$G$98,6,FALSE))) -> +5 | T7: =IF(T$6="","",CONCATENATE("+",VLOOKUP(T$6,Rosetta!$B$11:$G$98,6,FALSE))) | V7: =IF(V$6="","",CONCATENATE("+",VLOOKUP(V$6,Rosetta!$B$11:$G$98,6,FALSE))) -> +7 | X7: =IF(X$6="","",CONCATENATE("+",VLOOKUP(X$6,Rosetta!$B$11:$G$98,6,FALSE))) -> +9 | Z7: =IF(Z$6="","",CONCATENATE("+",VLOOKUP(Z$6,Rosetta!$B$11:$G$98,6,FALSE))) -> +11
F9: Traste | I9: * | K9: * | M9: * | O9: * | R9: ** | U9: * | W9: * | Y9: * | AA9: * | AD9: **
A10: GTR | B10: Bajo 4 | C10: Bajo 5 | D10: Bajo 6 | E10: IDn | F10: Cuerda | G10: 1 | H10: 2 | I10: 3 | J10: 4 | K10: 5 | L10: 6 | M10: 7 | N10: 8 | O10: 9 | P10: 10 | Q10: 11 | R10: 12 | S10: 13 | T10: 14 | U10: 15 | V10: 16 | W10: 17 | X10: 18 | Y10: 19 | Z10: 20 | AA10: 21 | AB10: 22 | AC10: 23 | AD10: 24
A11: E 4 | B11: 0 | C11: 0 | D11: C 3 | E11: =IFERROR(VLOOKUP($F11,Rosetta!$I$11:$J$98,2,FALSE),"") -> 44 | F11: E 4 | G11: =IFERROR(VLOOKUP($E11+G$10,Rosetta!$A$11:$I$98,9,FALSE),"") -> F 4 | H11: =IFERROR(VLOOKUP($E11+H$10,Rosetta!$A$11:$I$98,9,FALSE),"") -> F# 4 | I11: =IFERROR(VLOOKUP($E11+I$10,Rosetta!$A$11:$I$98,9,FALSE),"") -> G 4 | J11: =IFERROR(VLOOKUP($E11+J$10,Rosetta!$A$11:$I$98,9,FALSE),"") -> G# 4 | K11: =IFERROR(VLOOKUP($E11+K$10,Rosetta!$A$11:$I$98,9,FALSE),"") -> A 4 | L11: =IFERROR(VLOOKUP($E11+L$10,Rosetta!$A$11:$I$98,9,FALSE),"") -> A# 4 | M11: =IFERROR(VLOOKUP($E11+M$10,Rosetta!$A$11:$I$98,9,FALSE),"") -> B 4 | N11: =IFERROR(VLOOKUP($E11+N$10,Rosetta!$A$11:$I$98,9,FALSE),"") -> C 5 | ... AD11: =IFERROR(VLOOKUP($E11+AD$10,Rosetta!$A$11:$I$98,9,FALSE),"") -> E 6
A12: B 3 | B12: 0 | C12: G 2 | D12: G 2 | E12: =IFERROR(VLOOKUP($F12,Rosetta!$I$11:$J$98,2,FALSE),"") -> 39 | F12: B 3 | G12: =IFERROR(VLOOKUP($E12+G$10,Rosetta!$A$11:$I$98,9,FALSE),"") -> C 4 | H12: =IFERROR(VLOOKUP($E12+H$10,Rosetta!$A$11:$I$98,9,FALSE),"") -> C# 4 | I12: =IFERROR(VLOOKUP($E12+I$10,Rosetta!$A$11:$I$98,9,FALSE),"") -> D 4 | J12: =IFERROR(VLOOKUP($E12+J$10,Rosetta!$A$11:$I$98,9,FALSE),"") -> D# 4 | K12: =IFERROR(VLOOKUP($E12+K$10,Rosetta!$A$11:$I$98,9,FALSE),"") -> E 4 | L12: =IFERROR(VLOOKUP($E12+L$10,Rosetta!$A$11:$I$98,9,FALSE),"") -> F 4 | M12: =IFERROR(VLOOKUP($E12+M$10,Rosetta!$A$11:$I$98,9,FALSE),"") -> F# 4 | N12: =IFERROR(VLOOKUP($E12+N$10,Rosetta!$A$11:$I$98,9,FALSE),"") -> G 4 | ... AD12: =IFERROR(VLOOKUP($E12+AD$10,Rosetta!$A$11:$I$98,9,FALSE),"") -> B 5
A13: G 3 | B13: G 2 | C13: D 2 | D13: D 2 | E13: =IFERROR(VLOOKUP($F13,Rosetta!$I$11:$J$98,2,FALSE),"") -> 35 | F13: G 3 | G13: =IFERROR(VLOOKUP($E13+G$10,Rosetta!$A$11:$I$98,9,FALSE),"") -> G# 3 | H13: =IFERROR(VLOOKUP($E13+H$10,Rosetta!$A$11:$I$98,9,FALSE),"") -> A 3 | I13: =IFERROR(VLOOKUP($E13+I$10,Rosetta!$A$11:$I$98,9,FALSE),"") -> A# 3 | J13: =IFERROR(VLOOKUP($E13+J$10,Rosetta!$A$11:$I$98,9,FALSE),"") -> B 3 | K13: =IFERROR(VLOOKUP($E13+K$10,Rosetta!$A$11:$I$98,9,FALSE),"") -> C 4 | L13: =IFERROR(VLOOKUP($E13+L$10,Rosetta!$A$11:$I$98,9,FALSE),"") -> C# 4 | M13: =IFERROR(VLOOKUP($E13+M$10,Rosetta!$A$11:$I$98,9,FALSE),"") -> D 4 | N13: =IFERROR(VLOOKUP($E13+N$10,Rosetta!$A$11:$I$98,9,FALSE),"") -> D# 4 | ... AD13: =IFERROR(VLOOKUP($E13+AD$10,Rosetta!$A$11:$I$98,9,FALSE),"") -> G 5
A14: D 3 | B14: D 2 | C14: A 1 | D14: A 1 | E14: =IFERROR(VLOOKUP($F14,Rosetta!$I$11:$J$98,2,FALSE),"") -> 30 | F14: D 3 | G14: =IFERROR(VLOOKUP($E14+G$10,Rosetta!$A$11:$I$98,9,FALSE),"") -> D# 3 | H14: =IFERROR(VLOOKUP($E14+H$10,Rosetta!$A$11:$I$98,9,FALSE),"") -> E 3 | I14: =IFERROR(VLOOKUP($E14+I$10,Rosetta!$A$11:$I$98,9,FALSE),"") -> F 3 | J14: =IFERROR(VLOOKUP($E14+J$10,Rosetta!$A$11:$I$98,9,FALSE),"") -> F# 3 | K14: =IFERROR(VLOOKUP($E14+K$10,Rosetta!$A$11:$I$98,9,FALSE),"") -> G 3 | L14: =IFERROR(VLOOKUP($E14+L$10,Rosetta!$A$11:$I$98,9,FALSE),"") -> G# 3 | M14: =IFERROR(VLOOKUP($E14+M$10,Rosetta!$A$11:$I$98,9,FALSE),"") -> A 3 | N14: =IFERROR(VLOOKUP($E14+N$10,Rosetta!$A$11:$I$98,9,FALSE),"") -> A# 3 | ... AD14: =IFERROR(VLOOKUP($E14+AD$10,Rosetta!$A$11:$I$98,9,FALSE),"") -> D 5
A15: A 2 | B15: A 1 | C15: E 1 | D15: E 1 | E15: =IFERROR(VLOOKUP($F15,Rosetta!$I$11:$J$98,2,FALSE),"") -> 25 | F15: A 2 | G15: =IFERROR(VLOOKUP($E15+G$10,Rosetta!$A$11:$I$98,9,FALSE),"") -> A# 2 | H15: =IFERROR(VLOOKUP($E15+H$10,Rosetta!$A$11:$I$98,9,FALSE),"") -> B 2 | I15: =IFERROR(VLOOKUP($E15+I$10,Rosetta!$A$11:$I$98,9,FALSE),"") -> C 3 | J15: =IFERROR(VLOOKUP($E15+J$10,Rosetta!$A$11:$I$98,9,FALSE),"") -> C# 3 | K15: =IFERROR(VLOOKUP($E15+K$10,Rosetta!$A$11:$I$98,9,FALSE),"") -> D 3 | L15: =IFERROR(VLOOKUP($E15+L$10,Rosetta!$A$11:$I$98,9,FALSE),"") -> D# 3 | M15: =IFERROR(VLOOKUP($E15+M$10,Rosetta!$A$11:$I$98,9,FALSE),"") -> E 3 | N15: =IFERROR(VLOOKUP($E15+N$10,Rosetta!$A$11:$I$98,9,FALSE),"") -> F 3 | ... AD15: =IFERROR(VLOOKUP($E15+AD$10,Rosetta!$A$11:$I$98,9,FALSE),"") -> A 4
A16: E 2 | B16: E 1 | C16: B 0 | D16: B 0 | E16: =IFERROR(VLOOKUP($F16,Rosetta!$I$11:$J$98,2,FALSE),"") -> 20 | F16: E 2 | G16: =IFERROR(VLOOKUP($E16+G$10,Rosetta!$A$11:$I$98,9,FALSE),"") -> F 2 | H16: =IFERROR(VLOOKUP($E16+H$10,Rosetta!$A$11:$I$98,9,FALSE),"") -> F# 2 | I16: =IFERROR(VLOOKUP($E16+I$10,Rosetta!$A$11:$I$98,9,FALSE),"") -> G 2 | J16: =IFERROR(VLOOKUP($E16+J$10,Rosetta!$A$11:$I$98,9,FALSE),"") -> G# 2 | K16: =IFERROR(VLOOKUP($E16+K$10,Rosetta!$A$11:$I$98,9,FALSE),"") -> A 2 | L16: =IFERROR(VLOOKUP($E16+L$10,Rosetta!$A$11:$I$98,9,FALSE),"") -> A# 2 | M16: =IFERROR(VLOOKUP($E16+M$10,Rosetta!$A$11:$I$98,9,FALSE),"") -> B 2 | N16: =IFERROR(VLOOKUP($E16+N$10,Rosetta!$A$11:$I$98,9,FALSE),"") -> C 3 | ... AD16: =IFERROR(VLOOKUP($E16+AD$10,Rosetta!$A$11:$I$98,9,FALSE),"") -> E 4
F17: ^ | I17: * | K17: * | M17: * | O17: * | R17: ** | U17: * | W17: * | Y17: * | AA17: * | AD17: **
F21: 0 | G21: 1 | H21: 2 | I21: 3 | J21: 4 | K21: 5 | L21: 6 | M21: 7 | N21: 8 | O21: 9 | P21: 10 | Q21: 11 | R21: 12 | S21: 13 | T21: 14 | U21: 15 | V21: 16 | W21: 17 | X21: 18 | Y21: 19 | Z21: 20 | AA21: 21 | AB21: 22 | AC21: 23 | AD21: 24
E22: =E11 -> 44 | F22: =IF(F32="si",IF(VLOOKUP("Grado",Rosetta!$J$100:$V$100,2+VLOOKUP($E22+F$21,Rosetta!$A$11:$I$98,7,FALSE),FALSE)=0,VLOOKUP("Grado",Rosetta!$J$100:$V$100,1+VLOOKUP($E22+F$21,Rosetta!$A$11:$I$98,7,FALSE),FALSE),VLOOKUP("Grado",Rosetta!$J$100:$V$100,2+VLOOKUP($E22+F$21,Rosetta!$A$11:$I$98,7,FALSE),FALSE)),"") -> V Quinta | G22: =IF(G32="si",IF(VLOOKUP("Grado",Rosetta!$J$100:$V$100,2+VLOOKUP($E22+G$21,Rosetta!$A$11:$I$98,7,FALSE),FALSE)=0,VLOOKUP("Grado",Rosetta!$J$100:$V$100,1+VLOOKUP($E22+G$21,Rosetta!$A$11:$I$98,7,FALSE),FALSE),VLOOKUP("Grado",Rosetta!$J$100:$V$100,2+VLOOKUP($E22+G$21,Rosetta!$A$11:$I$98,7,FALSE),FALSE)),"") | H22: =IF(H32="si",IF(VLOOKUP("Grado",Rosetta!$J$100:$V$100,2+VLOOKUP($E22+H$21,Rosetta!$A$11:$I$98,7,FALSE),FALSE)=0,VLOOKUP("Grado",Rosetta!$J$100:$V$100,1+VLOOKUP($E22+H$21,Rosetta!$A$11:$I$98,7,FALSE),FALSE),VLOOKUP("Grado",Rosetta!$J$100:$V$100,2+VLOOKUP($E22+H$21,Rosetta!$A$11:$I$98,7,FALSE),FALSE)),"") -> VI Sexta | I22: =IF(I32="si",IF(VLOOKUP("Grado",Rosetta!$J$100:$V$100,2+VLOOKUP($E22+I$21,Rosetta!$A$11:$I$98,7,FALSE),FALSE)=0,VLOOKUP("Grado",Rosetta!$J$100:$V$100,1+VLOOKUP($E22+I$21,Rosetta!$A$11:$I$98,7,FALSE),FALSE),VLOOKUP("Grado",Rosetta!$J$100:$V$100,2+VLOOKUP($E22+I$21,Rosetta!$A$11:$I$98,7,FALSE),FALSE)),"") | J22: =IF(J32="si",IF(VLOOKUP("Grado",Rosetta!$J$100:$V$100,2+VLOOKUP($E22+J$21,Rosetta!$A$11:$I$98,7,FALSE),FALSE)=0,VLOOKUP("Grado",Rosetta!$J$100:$V$100,1+VLOOKUP($E22+J$21,Rosetta!$A$11:$I$98,7,FALSE),FALSE),VLOOKUP("Grado",Rosetta!$J$100:$V$100,2+VLOOKUP($E22+J$21,Rosetta!$A$11:$I$98,7,FALSE),FALSE)),"") -> VII Séptima | K22: =IF(K32="si",IF(VLOOKUP("Grado",Rosetta!$J$100:$V$100,2+VLOOKUP($E22+K$21,Rosetta!$A$11:$I$98,7,FALSE),FALSE)=0,VLOOKUP("Grado",Rosetta!$J$100:$V$100,1+VLOOKUP($E22+K$21,Rosetta!$A$11:$I$98,7,FALSE),FALSE),VLOOKUP("Grado",Rosetta!$J$100:$V$100,2+VLOOKUP($E22+K$21,Rosetta!$A$11:$I$98,7,FALSE),FALSE)),"") -> I Tónica | L22: =IF(L32="si",IF(VLOOKUP("Grado",Rosetta!$J$100:$V$100,2+VLOOKUP($E22+L$21,Rosetta!$A$11:$I$98,7,FALSE),FALSE)=0,VLOOKUP("Grado",Rosetta!$J$100:$V$100,1+VLOOKUP($E22+L$21,Rosetta!$A$11:$I$98,7,FALSE),FALSE),VLOOKUP("Grado",Rosetta!$J$100:$V$100,2+VLOOKUP($E22+L$21,Rosetta!$A$11:$I$98,7,FALSE),FALSE)),"") | M22: =IF(M32="si",IF(VLOOKUP("Grado",Rosetta!$J$100:$V$100,2+VLOOKUP($E22+M$21,Rosetta!$A$11:$I$98,7,FALSE),FALSE)=0,VLOOKUP("Grado",Rosetta!$J$100:$V$100,1+VLOOKUP($E22+M$21,Rosetta!$A$11:$I$98,7,FALSE),FALSE),VLOOKUP("Grado",Rosetta!$J$100:$V$100,2+VLOOKUP($E22+M$21,Rosetta!$A$11:$I$98,7,FALSE),FALSE)),"") -> II | ... AD22: =IF(AD32="si",IF(VLOOKUP("Grado",Rosetta!$J$100:$V$100,2+VLOOKUP($E22+AD$21,Rosetta!$A$11:$I$98,7,FALSE),FALSE)=0,VLOOKUP("Grado",Rosetta!$J$100:$V$100,1+VLOOKUP($E22+AD$21,Rosetta!$A$11:$I$98,7,FALSE),FALSE),VLOOKUP("Grado",Rosetta!$J$100:$V$100,2+VLOOKUP($E22+AD$21,Rosetta!$A$11:$I$98,7,FALSE),FALSE)),"") -> V Quinta
E23: =E12 -> 39 | F23: =IF(F33="si",IF(VLOOKUP("Grado",Rosetta!$J$100:$V$100,2+VLOOKUP($E23+F$21,Rosetta!$A$11:$I$98,7,FALSE),FALSE)=0,VLOOKUP("Grado",Rosetta!$J$100:$V$100,1+VLOOKUP($E23+F$21,Rosetta!$A$11:$I$98,7,FALSE),FALSE),VLOOKUP("Grado",Rosetta!$J$100:$V$100,2+VLOOKUP($E23+F$21,Rosetta!$A$11:$I$98,7,FALSE),FALSE)),"") -> II | G23: =IF(G33="si",IF(VLOOKUP("Grado",Rosetta!$J$100:$V$100,2+VLOOKUP($E23+G$21,Rosetta!$A$11:$I$98,7,FALSE),FALSE)=0,VLOOKUP("Grado",Rosetta!$J$100:$V$100,1+VLOOKUP($E23+G$21,Rosetta!$A$11:$I$98,7,FALSE),FALSE),VLOOKUP("Grado",Rosetta!$J$100:$V$100,2+VLOOKUP($E23+G$21,Rosetta!$A$11:$I$98,7,FALSE),FALSE)),"") | H23: =IF(H33="si",IF(VLOOKUP("Grado",Rosetta!$J$100:$V$100,2+VLOOKUP($E23+H$21,Rosetta!$A$11:$I$98,7,FALSE),FALSE)=0,VLOOKUP("Grado",Rosetta!$J$100:$V$100,1+VLOOKUP($E23+H$21,Rosetta!$A$11:$I$98,7,FALSE),FALSE),VLOOKUP("Grado",Rosetta!$J$100:$V$100,2+VLOOKUP($E23+H$21,Rosetta!$A$11:$I$98,7,FALSE),FALSE)),"") -> III Tercera | I23: =IF(I33="si",IF(VLOOKUP("Grado",Rosetta!$J$100:$V$100,2+VLOOKUP($E23+I$21,Rosetta!$A$11:$I$98,7,FALSE),FALSE)=0,VLOOKUP("Grado",Rosetta!$J$100:$V$100,1+VLOOKUP($E23+I$21,Rosetta!$A$11:$I$98,7,FALSE),FALSE),VLOOKUP("Grado",Rosetta!$J$100:$V$100,2+VLOOKUP($E23+I$21,Rosetta!$A$11:$I$98,7,FALSE),FALSE)),"") -> IV Cuarta | J23: =IF(J33="si",IF(VLOOKUP("Grado",Rosetta!$J$100:$V$100,2+VLOOKUP($E23+J$21,Rosetta!$A$11:$I$98,7,FALSE),FALSE)=0,VLOOKUP("Grado",Rosetta!$J$100:$V$100,1+VLOOKUP($E23+J$21,Rosetta!$A$11:$I$98,7,FALSE),FALSE),VLOOKUP("Grado",Rosetta!$J$100:$V$100,2+VLOOKUP($E23+J$21,Rosetta!$A$11:$I$98,7,FALSE),FALSE)),"") | K23: =IF(K33="si",IF(VLOOKUP("Grado",Rosetta!$J$100:$V$100,2+VLOOKUP($E23+K$21,Rosetta!$A$11:$I$98,7,FALSE),FALSE)=0,VLOOKUP("Grado",Rosetta!$J$100:$V$100,1+VLOOKUP($E23+K$21,Rosetta!$A$11:$I$98,7,FALSE),FALSE),VLOOKUP("Grado",Rosetta!$J$100:$V$100,2+VLOOKUP($E23+K$21,Rosetta!$A$11:$I$98,7,FALSE),FALSE)),"") -> V Quinta | L23: =IF(L33="si",IF(VLOOKUP("Grado",Rosetta!$J$100:$V$100,2+VLOOKUP($E23+L$21,Rosetta!$A$11:$I$98,7,FALSE),FALSE)=0,VLOOKUP("Grado",Rosetta!$J$100:$V$100,1+VLOOKUP($E23+L$21,Rosetta!$A$11:$I$98,7,FALSE),FALSE),VLOOKUP("Grado",Rosetta!$J$100:$V$100,2+VLOOKUP($E23+L$21,Rosetta!$A$11:$I$98,7,FALSE),FALSE)),"") | M23: =IF(M33="si",IF(VLOOKUP("Grado",Rosetta!$J$100:$V$100,2+VLOOKUP($E23+M$21,Rosetta!$A$11:$I$98,7,FALSE),FALSE)=0,VLOOKUP("Grado",Rosetta!$J$100:$V$100,1+VLOOKUP($E23+M$21,Rosetta!$A$11:$I$98,7,FALSE),FALSE),VLOOKUP("Grado",Rosetta!$J$100:$V$100,2+VLOOKUP($E23+M$21,Rosetta!$A$11:$I$98,7,FALSE),FALSE)),"") -> VI Sexta | ... AD23: =IF(AD33="si",IF(VLOOKUP("Grado",Rosetta!$J$100:$V$100,2+VLOOKUP($E23+AD$21,Rosetta!$A$11:$I$98,7,FALSE),FALSE)=0,VLOOKUP("Grado",Rosetta!$J$100:$V$100,1+VLOOKUP($E23+AD$21,Rosetta!$A$11:$I$98,7,FALSE),FALSE),VLOOKUP("Grado",Rosetta!$J$100:$V$100,2+VLOOKUP($E23+AD$21,Rosetta!$A$11:$I$98,7,FALSE),FALSE)),"") -> II
E24: =E13 -> 35 | F24: =IF(F34="si",IF(VLOOKUP("Grado",Rosetta!$J$100:$V$100,2+VLOOKUP($E24+F$21,Rosetta!$A$11:$I$98,7,FALSE),FALSE)=0,VLOOKUP("Grado",Rosetta!$J$100:$V$100,1+VLOOKUP($E24+F$21,Rosetta!$A$11:$I$98,7,FALSE),FALSE),VLOOKUP("Grado",Rosetta!$J$100:$V$100,2+VLOOKUP($E24+F$21,Rosetta!$A$11:$I$98,7,FALSE),FALSE)),"") | G24: =IF(G34="si",IF(VLOOKUP("Grado",Rosetta!$J$100:$V$100,2+VLOOKUP($E24+G$21,Rosetta!$A$11:$I$98,7,FALSE),FALSE)=0,VLOOKUP("Grado",Rosetta!$J$100:$V$100,1+VLOOKUP($E24+G$21,Rosetta!$A$11:$I$98,7,FALSE),FALSE),VLOOKUP("Grado",Rosetta!$J$100:$V$100,2+VLOOKUP($E24+G$21,Rosetta!$A$11:$I$98,7,FALSE),FALSE)),"") -> VII Séptima | H24: =IF(H34="si",IF(VLOOKUP("Grado",Rosetta!$J$100:$V$100,2+VLOOKUP($E24+H$21,Rosetta!$A$11:$I$98,7,FALSE),FALSE)=0,VLOOKUP("Grado",Rosetta!$J$100:$V$100,1+VLOOKUP($E24+H$21,Rosetta!$A$11:$I$98,7,FALSE),FALSE),VLOOKUP("Grado",Rosetta!$J$100:$V$100,2+VLOOKUP($E24+H$21,Rosetta!$A$11:$I$98,7,FALSE),FALSE)),"") -> I Tónica | I24: =IF(I34="si",IF(VLOOKUP("Grado",Rosetta!$J$100:$V$100,2+VLOOKUP($E24+I$21,Rosetta!$A$11:$I$98,7,FALSE),FALSE)=0,VLOOKUP("Grado",Rosetta!$J$100:$V$100,1+VLOOKUP($E24+I$21,Rosetta!$A$11:$I$98,7,FALSE),FALSE),VLOOKUP("Grado",Rosetta!$J$100:$V$100,2+VLOOKUP($E24+I$21,Rosetta!$A$11:$I$98,7,FALSE),FALSE)),"") | J24: =IF(J34="si",IF(VLOOKUP("Grado",Rosetta!$J$100:$V$100,2+VLOOKUP($E24+J$21,Rosetta!$A$11:$I$98,7,FALSE),FALSE)=0,VLOOKUP("Grado",Rosetta!$J$100:$V$100,1+VLOOKUP($E24+J$21,Rosetta!$A$11:$I$98,7,FALSE),FALSE),VLOOKUP("Grado",Rosetta!$J$100:$V$100,2+VLOOKUP($E24+J$21,Rosetta!$A$11:$I$98,7,FALSE),FALSE)),"") -> II | K24: =IF(K34="si",IF(VLOOKUP("Grado",Rosetta!$J$100:$V$100,2+VLOOKUP($E24+K$21,Rosetta!$A$11:$I$98,7,FALSE),FALSE)=0,VLOOKUP("Grado",Rosetta!$J$100:$V$100,1+VLOOKUP($E24+K$21,Rosetta!$A$11:$I$98,7,FALSE),FALSE),VLOOKUP("Grado",Rosetta!$J$100:$V$100,2+VLOOKUP($E24+K$21,Rosetta!$A$11:$I$98,7,FALSE),FALSE)),"") | L24: =IF(L34="si",IF(VLOOKUP("Grado",Rosetta!$J$100:$V$100,2+VLOOKUP($E24+L$21,Rosetta!$A$11:$I$98,7,FALSE),FALSE)=0,VLOOKUP("Grado",Rosetta!$J$100:$V$100,1+VLOOKUP($E24+L$21,Rosetta!$A$11:$I$98,7,FALSE),FALSE),VLOOKUP("Grado",Rosetta!$J$100:$V$100,2+VLOOKUP($E24+L$21,Rosetta!$A$11:$I$98,7,FALSE),FALSE)),"") -> III Tercera | M24: =IF(M34="si",IF(VLOOKUP("Grado",Rosetta!$J$100:$V$100,2+VLOOKUP($E24+M$21,Rosetta!$A$11:$I$98,7,FALSE),FALSE)=0,VLOOKUP("Grado",Rosetta!$J$100:$V$100,1+VLOOKUP($E24+M$21,Rosetta!$A$11:$I$98,7,FALSE),FALSE),VLOOKUP("Grado",Rosetta!$J$100:$V$100,2+VLOOKUP($E24+M$21,Rosetta!$A$11:$I$98,7,FALSE),FALSE)),"") -> IV Cuarta | ... AD24: =IF(AD34="si",IF(VLOOKUP("Grado",Rosetta!$J$100:$V$100,2+VLOOKUP($E24+AD$21,Rosetta!$A$11:$I$98,7,FALSE),FALSE)=0,VLOOKUP("Grado",Rosetta!$J$100:$V$100,1+VLOOKUP($E24+AD$21,Rosetta!$A$11:$I$98,7,FALSE),FALSE),VLOOKUP("Grado",Rosetta!$J$100:$V$100,2+VLOOKUP($E24+AD$21,Rosetta!$A$11:$I$98,7,FALSE),FALSE)),"")
E25: =E14 -> 30 | F25: =IF(F35="si",IF(VLOOKUP("Grado",Rosetta!$J$100:$V$100,2+VLOOKUP($E25+F$21,Rosetta!$A$11:$I$98,7,FALSE),FALSE)=0,VLOOKUP("Grado",Rosetta!$J$100:$V$100,1+VLOOKUP($E25+F$21,Rosetta!$A$11:$I$98,7,FALSE),FALSE),VLOOKUP("Grado",Rosetta!$J$100:$V$100,2+VLOOKUP($E25+F$21,Rosetta!$A$11:$I$98,7,FALSE),FALSE)),"") -> IV Cuarta | G25: =IF(G35="si",IF(VLOOKUP("Grado",Rosetta!$J$100:$V$100,2+VLOOKUP($E25+G$21,Rosetta!$A$11:$I$98,7,FALSE),FALSE)=0,VLOOKUP("Grado",Rosetta!$J$100:$V$100,1+VLOOKUP($E25+G$21,Rosetta!$A$11:$I$98,7,FALSE),FALSE),VLOOKUP("Grado",Rosetta!$J$100:$V$100,2+VLOOKUP($E25+G$21,Rosetta!$A$11:$I$98,7,FALSE),FALSE)),"") | H25: =IF(H35="si",IF(VLOOKUP("Grado",Rosetta!$J$100:$V$100,2+VLOOKUP($E25+H$21,Rosetta!$A$11:$I$98,7,FALSE),FALSE)=0,VLOOKUP("Grado",Rosetta!$J$100:$V$100,1+VLOOKUP($E25+H$21,Rosetta!$A$11:$I$98,7,FALSE),FALSE),VLOOKUP("Grado",Rosetta!$J$100:$V$100,2+VLOOKUP($E25+H$21,Rosetta!$A$11:$I$98,7,FALSE),FALSE)),"") -> V Quinta | I25: =IF(I35="si",IF(VLOOKUP("Grado",Rosetta!$J$100:$V$100,2+VLOOKUP($E25+I$21,Rosetta!$A$11:$I$98,7,FALSE),FALSE)=0,VLOOKUP("Grado",Rosetta!$J$100:$V$100,1+VLOOKUP($E25+I$21,Rosetta!$A$11:$I$98,7,FALSE),FALSE),VLOOKUP("Grado",Rosetta!$J$100:$V$100,2+VLOOKUP($E25+I$21,Rosetta!$A$11:$I$98,7,FALSE),FALSE)),"") | J25: =IF(J35="si",IF(VLOOKUP("Grado",Rosetta!$J$100:$V$100,2+VLOOKUP($E25+J$21,Rosetta!$A$11:$I$98,7,FALSE),FALSE)=0,VLOOKUP("Grado",Rosetta!$J$100:$V$100,1+VLOOKUP($E25+J$21,Rosetta!$A$11:$I$98,7,FALSE),FALSE),VLOOKUP("Grado",Rosetta!$J$100:$V$100,2+VLOOKUP($E25+J$21,Rosetta!$A$11:$I$98,7,FALSE),FALSE)),"") -> VI Sexta | K25: =IF(K35="si",IF(VLOOKUP("Grado",Rosetta!$J$100:$V$100,2+VLOOKUP($E25+K$21,Rosetta!$A$11:$I$98,7,FALSE),FALSE)=0,VLOOKUP("Grado",Rosetta!$J$100:$V$100,1+VLOOKUP($E25+K$21,Rosetta!$A$11:$I$98,7,FALSE),FALSE),VLOOKUP("Grado",Rosetta!$J$100:$V$100,2+VLOOKUP($E25+K$21,Rosetta!$A$11:$I$98,7,FALSE),FALSE)),"") | L25: =IF(L35="si",IF(VLOOKUP("Grado",Rosetta!$J$100:$V$100,2+VLOOKUP($E25+L$21,Rosetta!$A$11:$I$98,7,FALSE),FALSE)=0,VLOOKUP("Grado",Rosetta!$J$100:$V$100,1+VLOOKUP($E25+L$21,Rosetta!$A$11:$I$98,7,FALSE),FALSE),VLOOKUP("Grado",Rosetta!$J$100:$V$100,2+VLOOKUP($E25+L$21,Rosetta!$A$11:$I$98,7,FALSE),FALSE)),"") -> VII Séptima | M25: =IF(M35="si",IF(VLOOKUP("Grado",Rosetta!$J$100:$V$100,2+VLOOKUP($E25+M$21,Rosetta!$A$11:$I$98,7,FALSE),FALSE)=0,VLOOKUP("Grado",Rosetta!$J$100:$V$100,1+VLOOKUP($E25+M$21,Rosetta!$A$11:$I$98,7,FALSE),FALSE),VLOOKUP("Grado",Rosetta!$J$100:$V$100,2+VLOOKUP($E25+M$21,Rosetta!$A$11:$I$98,7,FALSE),FALSE)),"") -> I Tónica | ... AD25: =IF(AD35="si",IF(VLOOKUP("Grado",Rosetta!$J$100:$V$100,2+VLOOKUP($E25+AD$21,Rosetta!$A$11:$I$98,7,FALSE),FALSE)=0,VLOOKUP("Grado",Rosetta!$J$100:$V$100,1+VLOOKUP($E25+AD$21,Rosetta!$A$11:$I$98,7,FALSE),FALSE),VLOOKUP("Grado",Rosetta!$J$100:$V$100,2+VLOOKUP($E25+AD$21,Rosetta!$A$11:$I$98,7,FALSE),FALSE)),"") -> IV Cuarta
E26: =E15 -> 25 | F26: =IF(F36="si",IF(VLOOKUP("Grado",Rosetta!$J$100:$V$100,2+VLOOKUP($E26+F$21,Rosetta!$A$11:$I$98,7,FALSE),FALSE)=0,VLOOKUP("Grado",Rosetta!$J$100:$V$100,1+VLOOKUP($E26+F$21,Rosetta!$A$11:$I$98,7,FALSE),FALSE),VLOOKUP("Grado",Rosetta!$J$100:$V$100,2+VLOOKUP($E26+F$21,Rosetta!$A$11:$I$98,7,FALSE),FALSE)),"") -> I Tónica | G26: =IF(G36="si",IF(VLOOKUP("Grado",Rosetta!$J$100:$V$100,2+VLOOKUP($E26+G$21,Rosetta!$A$11:$I$98,7,FALSE),FALSE)=0,VLOOKUP("Grado",Rosetta!$J$100:$V$100,1+VLOOKUP($E26+G$21,Rosetta!$A$11:$I$98,7,FALSE),FALSE),VLOOKUP("Grado",Rosetta!$J$100:$V$100,2+VLOOKUP($E26+G$21,Rosetta!$A$11:$I$98,7,FALSE),FALSE)),"") | H26: =IF(H36="si",IF(VLOOKUP("Grado",Rosetta!$J$100:$V$100,2+VLOOKUP($E26+H$21,Rosetta!$A$11:$I$98,7,FALSE),FALSE)=0,VLOOKUP("Grado",Rosetta!$J$100:$V$100,1+VLOOKUP($E26+H$21,Rosetta!$A$11:$I$98,7,FALSE),FALSE),VLOOKUP("Grado",Rosetta!$J$100:$V$100,2+VLOOKUP($E26+H$21,Rosetta!$A$11:$I$98,7,FALSE),FALSE)),"") -> II | I26: =IF(I36="si",IF(VLOOKUP("Grado",Rosetta!$J$100:$V$100,2+VLOOKUP($E26+I$21,Rosetta!$A$11:$I$98,7,FALSE),FALSE)=0,VLOOKUP("Grado",Rosetta!$J$100:$V$100,1+VLOOKUP($E26+I$21,Rosetta!$A$11:$I$98,7,FALSE),FALSE),VLOOKUP("Grado",Rosetta!$J$100:$V$100,2+VLOOKUP($E26+I$21,Rosetta!$A$11:$I$98,7,FALSE),FALSE)),"") | J26: =IF(J36="si",IF(VLOOKUP("Grado",Rosetta!$J$100:$V$100,2+VLOOKUP($E26+J$21,Rosetta!$A$11:$I$98,7,FALSE),FALSE)=0,VLOOKUP("Grado",Rosetta!$J$100:$V$100,1+VLOOKUP($E26+J$21,Rosetta!$A$11:$I$98,7,FALSE),FALSE),VLOOKUP("Grado",Rosetta!$J$100:$V$100,2+VLOOKUP($E26+J$21,Rosetta!$A$11:$I$98,7,FALSE),FALSE)),"") -> III Tercera | K26: =IF(K36="si",IF(VLOOKUP("Grado",Rosetta!$J$100:$V$100,2+VLOOKUP($E26+K$21,Rosetta!$A$11:$I$98,7,FALSE),FALSE)=0,VLOOKUP("Grado",Rosetta!$J$100:$V$100,1+VLOOKUP($E26+K$21,Rosetta!$A$11:$I$98,7,FALSE),FALSE),VLOOKUP("Grado",Rosetta!$J$100:$V$100,2+VLOOKUP($E26+K$21,Rosetta!$A$11:$I$98,7,FALSE),FALSE)),"") -> IV Cuarta | L26: =IF(L36="si",IF(VLOOKUP("Grado",Rosetta!$J$100:$V$100,2+VLOOKUP($E26+L$21,Rosetta!$A$11:$I$98,7,FALSE),FALSE)=0,VLOOKUP("Grado",Rosetta!$J$100:$V$100,1+VLOOKUP($E26+L$21,Rosetta!$A$11:$I$98,7,FALSE),FALSE),VLOOKUP("Grado",Rosetta!$J$100:$V$100,2+VLOOKUP($E26+L$21,Rosetta!$A$11:$I$98,7,FALSE),FALSE)),"") | M26: =IF(M36="si",IF(VLOOKUP("Grado",Rosetta!$J$100:$V$100,2+VLOOKUP($E26+M$21,Rosetta!$A$11:$I$98,7,FALSE),FALSE)=0,VLOOKUP("Grado",Rosetta!$J$100:$V$100,1+VLOOKUP($E26+M$21,Rosetta!$A$11:$I$98,7,FALSE),FALSE),VLOOKUP("Grado",Rosetta!$J$100:$V$100,2+VLOOKUP($E26+M$21,Rosetta!$A$11:$I$98,7,FALSE),FALSE)),"") -> V Quinta | ... AD26: =IF(AD36="si",IF(VLOOKUP("Grado",Rosetta!$J$100:$V$100,2+VLOOKUP($E26+AD$21,Rosetta!$A$11:$I$98,7,FALSE),FALSE)=0,VLOOKUP("Grado",Rosetta!$J$100:$V$100,1+VLOOKUP($E26+AD$21,Rosetta!$A$11:$I$98,7,FALSE),FALSE),VLOOKUP("Grado",Rosetta!$J$100:$V$100,2+VLOOKUP($E26+AD$21,Rosetta!$A$11:$I$98,7,FALSE),FALSE)),"") -> I Tónica
E27: =E16 -> 20 | F27: =IF(F37="si",IF(VLOOKUP("Grado",Rosetta!$J$100:$V$100,2+VLOOKUP($E27+F$21,Rosetta!$A$11:$I$98,7,FALSE),FALSE)=0,VLOOKUP("Grado",Rosetta!$J$100:$V$100,1+VLOOKUP($E27+F$21,Rosetta!$A$11:$I$98,7,FALSE),FALSE),VLOOKUP("Grado",Rosetta!$J$100:$V$100,2+VLOOKUP($E27+F$21,Rosetta!$A$11:$I$98,7,FALSE),FALSE)),"") -> V Quinta | G27: =IF(G37="si",IF(VLOOKUP("Grado",Rosetta!$J$100:$V$100,2+VLOOKUP($E27+G$21,Rosetta!$A$11:$I$98,7,FALSE),FALSE)=0,VLOOKUP("Grado",Rosetta!$J$100:$V$100,1+VLOOKUP($E27+G$21,Rosetta!$A$11:$I$98,7,FALSE),FALSE),VLOOKUP("Grado",Rosetta!$J$100:$V$100,2+VLOOKUP($E27+G$21,Rosetta!$A$11:$I$98,7,FALSE),FALSE)),"") | H27: =IF(H37="si",IF(VLOOKUP("Grado",Rosetta!$J$100:$V$100,2+VLOOKUP($E27+H$21,Rosetta!$A$11:$I$98,7,FALSE),FALSE)=0,VLOOKUP("Grado",Rosetta!$J$100:$V$100,1+VLOOKUP($E27+H$21,Rosetta!$A$11:$I$98,7,FALSE),FALSE),VLOOKUP("Grado",Rosetta!$J$100:$V$100,2+VLOOKUP($E27+H$21,Rosetta!$A$11:$I$98,7,FALSE),FALSE)),"") -> VI Sexta | I27: =IF(I37="si",IF(VLOOKUP("Grado",Rosetta!$J$100:$V$100,2+VLOOKUP($E27+I$21,Rosetta!$A$11:$I$98,7,FALSE),FALSE)=0,VLOOKUP("Grado",Rosetta!$J$100:$V$100,1+VLOOKUP($E27+I$21,Rosetta!$A$11:$I$98,7,FALSE),FALSE),VLOOKUP("Grado",Rosetta!$J$100:$V$100,2+VLOOKUP($E27+I$21,Rosetta!$A$11:$I$98,7,FALSE),FALSE)),"") | J27: =IF(J37="si",IF(VLOOKUP("Grado",Rosetta!$J$100:$V$100,2+VLOOKUP($E27+J$21,Rosetta!$A$11:$I$98,7,FALSE),FALSE)=0,VLOOKUP("Grado",Rosetta!$J$100:$V$100,1+VLOOKUP($E27+J$21,Rosetta!$A$11:$I$98,7,FALSE),FALSE),VLOOKUP("Grado",Rosetta!$J$100:$V$100,2+VLOOKUP($E27+J$21,Rosetta!$A$11:$I$98,7,FALSE),FALSE)),"") -> VII Séptima | K27: =IF(K37="si",IF(VLOOKUP("Grado",Rosetta!$J$100:$V$100,2+VLOOKUP($E27+K$21,Rosetta!$A$11:$I$98,7,FALSE),FALSE)=0,VLOOKUP("Grado",Rosetta!$J$100:$V$100,1+VLOOKUP($E27+K$21,Rosetta!$A$11:$I$98,7,FALSE),FALSE),VLOOKUP("Grado",Rosetta!$J$100:$V$100,2+VLOOKUP($E27+K$21,Rosetta!$A$11:$I$98,7,FALSE),FALSE)),"") -> I Tónica | L27: =IF(L37="si",IF(VLOOKUP("Grado",Rosetta!$J$100:$V$100,2+VLOOKUP($E27+L$21,Rosetta!$A$11:$I$98,7,FALSE),FALSE)=0,VLOOKUP("Grado",Rosetta!$J$100:$V$100,1+VLOOKUP($E27+L$21,Rosetta!$A$11:$I$98,7,FALSE),FALSE),VLOOKUP("Grado",Rosetta!$J$100:$V$100,2+VLOOKUP($E27+L$21,Rosetta!$A$11:$I$98,7,FALSE),FALSE)),"") | M27: =IF(M37="si",IF(VLOOKUP("Grado",Rosetta!$J$100:$V$100,2+VLOOKUP($E27+M$21,Rosetta!$A$11:$I$98,7,FALSE),FALSE)=0,VLOOKUP("Grado",Rosetta!$J$100:$V$100,1+VLOOKUP($E27+M$21,Rosetta!$A$11:$I$98,7,FALSE),FALSE),VLOOKUP("Grado",Rosetta!$J$100:$V$100,2+VLOOKUP($E27+M$21,Rosetta!$A$11:$I$98,7,FALSE),FALSE)),"") -> II | ... AD27: =IF(AD37="si",IF(VLOOKUP("Grado",Rosetta!$J$100:$V$100,2+VLOOKUP($E27+AD$21,Rosetta!$A$11:$I$98,7,FALSE),FALSE)=0,VLOOKUP("Grado",Rosetta!$J$100:$V$100,1+VLOOKUP($E27+AD$21,Rosetta!$A$11:$I$98,7,FALSE),FALSE),VLOOKUP("Grado",Rosetta!$J$100:$V$100,2+VLOOKUP($E27+AD$21,Rosetta!$A$11:$I$98,7,FALSE),FALSE)),"") -> V Quinta
F31: 0 | G31: 1 | H31: 2 | I31: 3 | J31: 4 | K31: 5 | L31: 6 | M31: 7 | N31: 8 | O31: 9 | P31: 10 | Q31: 11 | R31: 12 | S31: 13 | T31: 14 | U31: 15 | V31: 16 | W31: 17 | X31: 18 | Y31: 19 | Z31: 20 | AA31: 21 | AB31: 22 | AC31: 23 | AD31: 24
E32: =E11 -> 44 | F32: =IFERROR(VLOOKUP($E32,Rosetta!$A$11:$I$98,8,FALSE),"") -> si | G32: =IFERROR(VLOOKUP($E32+G$10,Rosetta!$A$11:$I$98,8,FALSE),"") -> no | H32: =IFERROR(VLOOKUP($E32+H$10,Rosetta!$A$11:$I$98,8,FALSE),"") -> si | I32: =IFERROR(VLOOKUP($E32+I$10,Rosetta!$A$11:$I$98,8,FALSE),"") -> no | J32: =IFERROR(VLOOKUP($E32+J$10,Rosetta!$A$11:$I$98,8,FALSE),"") -> si | K32: =IFERROR(VLOOKUP($E32+K$10,Rosetta!$A$11:$I$98,8,FALSE),"") -> si | L32: =IFERROR(VLOOKUP($E32+L$10,Rosetta!$A$11:$I$98,8,FALSE),"") -> no | M32: =IFERROR(VLOOKUP($E32+M$10,Rosetta!$A$11:$I$98,8,FALSE),"") -> si | N32: =IFERROR(VLOOKUP($E32+N$10,Rosetta!$A$11:$I$98,8,FALSE),"") -> no | ... AD32: =IFERROR(VLOOKUP($E32+AD$10,Rosetta!$A$11:$I$98,8,FALSE),"") -> si
E33: =E12 -> 39 | F33: =IFERROR(VLOOKUP($E33,Rosetta!$A$11:$I$98,8,FALSE),"") -> si | G33: =IFERROR(VLOOKUP($E33+G$10,Rosetta!$A$11:$I$98,8,FALSE),"") -> no | H33: =IFERROR(VLOOKUP($E33+H$10,Rosetta!$A$11:$I$98,8,FALSE),"") -> si | I33: =IFERROR(VLOOKUP($E33+I$10,Rosetta!$A$11:$I$98,8,FALSE),"") -> si | J33: =IFERROR(VLOOKUP($E33+J$10,Rosetta!$A$11:$I$98,8,FALSE),"") -> no | K33: =IFERROR(VLOOKUP($E33+K$10,Rosetta!$A$11:$I$98,8,FALSE),"") -> si | L33: =IFERROR(VLOOKUP($E33+L$10,Rosetta!$A$11:$I$98,8,FALSE),"") -> no | M33: =IFERROR(VLOOKUP($E33+M$10,Rosetta!$A$11:$I$98,8,FALSE),"") -> si | N33: =IFERROR(VLOOKUP($E33+N$10,Rosetta!$A$11:$I$98,8,FALSE),"") -> no | ... AD33: =IFERROR(VLOOKUP($E33+AD$10,Rosetta!$A$11:$I$98,8,FALSE),"") -> si
E34: =E13 -> 35 | F34: =IFERROR(VLOOKUP($E34,Rosetta!$A$11:$I$98,8,FALSE),"") -> no | G34: =IFERROR(VLOOKUP($E34+G$10,Rosetta!$A$11:$I$98,8,FALSE),"") -> si | H34: =IFERROR(VLOOKUP($E34+H$10,Rosetta!$A$11:$I$98,8,FALSE),"") -> si | I34: =IFERROR(VLOOKUP($E34+I$10,Rosetta!$A$11:$I$98,8,FALSE),"") -> no | J34: =IFERROR(VLOOKUP($E34+J$10,Rosetta!$A$11:$I$98,8,FALSE),"") -> si | K34: =IFERROR(VLOOKUP($E34+K$10,Rosetta!$A$11:$I$98,8,FALSE),"") -> no | L34: =IFERROR(VLOOKUP($E34+L$10,Rosetta!$A$11:$I$98,8,FALSE),"") -> si | M34: =IFERROR(VLOOKUP($E34+M$10,Rosetta!$A$11:$I$98,8,FALSE),"") -> si | N34: =IFERROR(VLOOKUP($E34+N$10,Rosetta!$A$11:$I$98,8,FALSE),"") -> no | ... AD34: =IFERROR(VLOOKUP($E34+AD$10,Rosetta!$A$11:$I$98,8,FALSE),"") -> no
E35: =E14 -> 30 | F35: =IFERROR(VLOOKUP($E35,Rosetta!$A$11:$I$98,8,FALSE),"") -> si | G35: =IFERROR(VLOOKUP($E35+G$10,Rosetta!$A$11:$I$98,8,FALSE),"") -> no | H35: =IFERROR(VLOOKUP($E35+H$10,Rosetta!$A$11:$I$98,8,FALSE),"") -> si | I35: =IFERROR(VLOOKUP($E35+I$10,Rosetta!$A$11:$I$98,8,FALSE),"") -> no | J35: =IFERROR(VLOOKUP($E35+J$10,Rosetta!$A$11:$I$98,8,FALSE),"") -> si | K35: =IFERROR(VLOOKUP($E35+K$10,Rosetta!$A$11:$I$98,8,FALSE),"") -> no | L35: =IFERROR(VLOOKUP($E35+L$10,Rosetta!$A$11:$I$98,8,FALSE),"") -> si | M35: =IFERROR(VLOOKUP($E35+M$10,Rosetta!$A$11:$I$98,8,FALSE),"") -> si | N35: =IFERROR(VLOOKUP($E35+N$10,Rosetta!$A$11:$I$98,8,FALSE),"") -> no | ... AD35: =IFERROR(VLOOKUP($E35+AD$10,Rosetta!$A$11:$I$98,8,FALSE),"") -> si
E36: =E15 -> 25 | F36: =IFERROR(VLOOKUP($E36,Rosetta!$A$11:$I$98,8,FALSE),"") -> si | G36: =IFERROR(VLOOKUP($E36+G$10,Rosetta!$A$11:$I$98,8,FALSE),"") -> no | H36: =IFERROR(VLOOKUP($E36+H$10,Rosetta!$A$11:$I$98,8,FALSE),"") -> si | I36: =IFERROR(VLOOKUP($E36+I$10,Rosetta!$A$11:$I$98,8,FALSE),"") -> no | J36: =IFERROR(VLOOKUP($E36+J$10,Rosetta!$A$11:$I$98,8,FALSE),"") -> si | K36: =IFERROR(VLOOKUP($E36+K$10,Rosetta!$A$11:$I$98,8,FALSE),"") -> si | L36: =IFERROR(VLOOKUP($E36+L$10,Rosetta!$A$11:$I$98,8,FALSE),"") -> no | M36: =IFERROR(VLOOKUP($E36+M$10,Rosetta!$A$11:$I$98,8,FALSE),"") -> si | N36: =IFERROR(VLOOKUP($E36+N$10,Rosetta!$A$11:$I$98,8,FALSE),"") -> no | ... AD36: =IFERROR(VLOOKUP($E36+AD$10,Rosetta!$A$11:$I$98,8,FALSE),"") -> si
E37: =E16 -> 20 | F37: =IFERROR(VLOOKUP($E37,Rosetta!$A$11:$I$98,8,FALSE),"") -> si | G37: =IFERROR(VLOOKUP($E37+G$10,Rosetta!$A$11:$I$98,8,FALSE),"") -> no | H37: =IFERROR(VLOOKUP($E37+H$10,Rosetta!$A$11:$I$98,8,FALSE),"") -> si | I37: =IFERROR(VLOOKUP($E37+I$10,Rosetta!$A$11:$I$98,8,FALSE),"") -> no | J37: =IFERROR(VLOOKUP($E37+J$10,Rosetta!$A$11:$I$98,8,FALSE),"") -> si | K37: =IFERROR(VLOOKUP($E37+K$10,Rosetta!$A$11:$I$98,8,FALSE),"") -> si | L37: =IFERROR(VLOOKUP($E37+L$10,Rosetta!$A$11:$I$98,8,FALSE),"") -> no | M37: =IFERROR(VLOOKUP($E37+M$10,Rosetta!$A$11:$I$98,8,FALSE),"") -> si | N37: =IFERROR(VLOOKUP($E37+N$10,Rosetta!$A$11:$I$98,8,FALSE),"") -> no | ... AD37: =IFERROR(VLOOKUP($E37+AD$10,Rosetta!$A$11:$I$98,8,FALSE),"") -> si

Sheet PIANO
A1: Modifica solamente las celdas amarillas
D2: Tonalidad | F2: Escala
C3: C | F3: Mayor
C4: =Rosetta!H7 -> A maj
C5: =IF(Rosetta!E5="PIANO",IFERROR(VLOOKUP(F3,Rosetta!J100:X120,15,FALSE),""),"Cambia el visualizador a PIANO en la hoja Rosetta.") -> Cambia el visualizador a PIANO en la hoja Rosetta. | BD5: Te ha sido útil? Considera una donación:
BD6: link.mercadopago.com.mx/abixites
K7: Grados: | O7: I Tónica | S7: II | W7: III Tercera | AA7: IV Cuarta | AE7: V dis | AI7: V Quinta | AM7: VI Sexta | AQ7: VII Séptima | BD7: paypal.me/abimaelruizb
M8: Notas: | O8: =IFERROR(IFERROR(IF(VLOOKUP($C$4,lista_bemoles_switch,2,FALSE)="s",VLOOKUP(PIANO!O$7,Rosetta!$K$11:$M$33,3,FALSE),VLOOKUP(PIANO!O$7,Rosetta!$K$11:$M$33,2,FALSE)),VLOOKUP(PIANO!O$7,Rosetta!$K$11:$M$33,2,FALSE)),"") -> A | S8: =IFERROR(IFERROR(IF(VLOOKUP($C$4,lista_bemoles_switch,2,FALSE)="s",VLOOKUP(PIANO!S$7,Rosetta!$K$11:$M$33,3,FALSE),VLOOKUP(PIANO!S$7,Rosetta!$K$11:$M$33,2,FALSE)),VLOOKUP(PIANO!S$7,Rosetta!$K$11:$M$33,2,FALSE)),"") -> B | W8: =IFERROR(IFERROR(IF(VLOOKUP($C$4,lista_bemoles_switch,2,FALSE)="s",VLOOKUP(PIANO!W$7,Rosetta!$K$11:$M$33,3,FALSE),VLOOKUP(PIANO!W$7,Rosetta!$K$11:$M$33,2,FALSE)),VLOOKUP(PIANO!W$7,Rosetta!$K$11:$M$33,2,FALSE)),"") -> C# | AA8: =IFERROR(IFERROR(IF(VLOOKUP($C$4,lista_bemoles_switch,2,FALSE)="s",VLOOKUP(PIANO!AA$7,Rosetta!$K$11:$M$33,3,FALSE),VLOOKUP(PIANO!AA$7,Rosetta!$K$11:$M$33,2,FALSE)),VLOOKUP(PIANO!AA$7,Rosetta!$K$11:$M$33,2,FALSE)),"") -> D | AE8: =IFERROR(IFERROR(IF(VLOOKUP($C$4,lista_bemoles_switch,2,FALSE)="s",VLOOKUP(PIANO!AE$7,Rosetta!$K$11:$M$33,3,FALSE),VLOOKUP(PIANO!AE$7,Rosetta!$K$11:$M$33,2,FALSE)),VLOOKUP(PIANO!AE$7,Rosetta!$K$11:$M$33,2,FALSE)),"") | AI8: =IFERROR(IFERROR(IF(VLOOKUP($C$4,lista_bemoles_switch,2,FALSE)="s",VLOOKUP(PIANO!AI$7,Rosetta!$K$11:$M$33,3,FALSE),VLOOKUP(PIANO!AI$7,Rosetta!$K$11:$M$33,2,FALSE)),VLOOKUP(PIANO!AI$7,Rosetta!$K$11:$M$33,2,FALSE)),"") -> E | AM8: =IFERROR(IFERROR(IF(VLOOKUP($C$4,lista_bemoles_switch,2,FALSE)="s",VLOOKUP(PIANO!AM$7,Rosetta!$K$11:$M$33,3,FALSE),VLOOKUP(PIANO!AM$7,Rosetta!$K$11:$M$33,2,FALSE)),VLOOKUP(PIANO!AM$7,Rosetta!$K$11:$M$33,2,FALSE)),"") -> F# | AQ8: =IFERROR(IFERROR(IF(VLOOKUP($C$4,lista_bemoles_switch,2,FALSE)="s",VLOOKUP(PIANO!AQ$7,Rosetta!$K$11:$M$33,3,FALSE),VLOOKUP(PIANO!AQ$7,Rosetta!$K$11:$M$33,2,FALSE)),VLOOKUP(PIANO!AQ$7,Rosetta!$K$11:$M$33,2,FALSE)),"") -> G# | BD8: Banamex 002180700568138276
M9: Semitonos: | O9: =IF(O8="","",CONCATENATE("+",VLOOKUP(O$8,Rosetta!$B$11:$G$22,6,FALSE))) -> +0 | S9: =IF(S8="","",CONCATENATE("+",VLOOKUP(S$8,Rosetta!$B$11:$G$22,6,FALSE))) -> +2 | W9: =IF(W8="","",CONCATENATE("+",VLOOKUP(W$8,Rosetta!$B$11:$G$22,6,FALSE))) -> +4 | AA9: =IF(AA8="","",CONCATENATE("+",VLOOKUP(AA$8,Rosetta!$B$11:$G$22,6,FALSE))) -> +5 | AE9: =IF(AE8="","",CONCATENATE("+",VLOOKUP(AE$8,Rosetta!$B$11:$G$22,6,FALSE))) | AI9: =IF(AI8="","",CONCATENATE("+",VLOOKUP(AI$8,Rosetta!$B$11:$G$22,6,FALSE))) -> +7 | AM9: =IF(AM8="","",CONCATENATE("+",VLOOKUP(AM$8,Rosetta!$B$11:$G$22,6,FALSE))) -> +9 | AQ9: =IF(AQ8="","",CONCATENATE("+",VLOOKUP(AQ$8,Rosetta!$B$11:$G$22,6,FALSE))) -> +11
D11: =VLOOKUP(D12,Rosetta!$A$11:$B$98,2,FALSE) -> A# | J11: =VLOOKUP(J12,Rosetta!$A$11:$B$98,2,FALSE) -> C# | M11: =VLOOKUP(M12,Rosetta!$A$11:$B$98,2,FALSE) -> D# | S11: =VLOOKUP(S12,Rosetta!$A$11:$B$98,2,FALSE) -> F# | V11: =VLOOKUP(V12,Rosetta!$A$11:$B$98,2,FALSE) -> G# | Y11: =VLOOKUP(Y12,Rosetta!$A$11:$B$98,2,FALSE) -> A# | AE11: =VLOOKUP(AE12,Rosetta!$A$11:$B$98,2,FALSE) -> C# | AH11: =VLOOKUP(AH12,Rosetta!$A$11:$B$98,2,FALSE) -> D# | AN11: =VLOOKUP(AN12,Rosetta!$A$11:$B$98,2,FALSE) -> F# | AQ11: =VLOOKUP(AQ12,Rosetta!$A$11:$B$98,2,FALSE) -> G# | AT11: =VLOOKUP(AT12,Rosetta!$A$11:$B$98,2,FALSE) -> A#
B12: 36 | C12: 37 | D12: 38 | E12: 38 | F12: 39 | G12: 39 | H12: 40 | I12: 40 | J12: 41 | K12: 41 | L12: 42 | M12: 43 | N12: 43 | O12: 44 | P12: 44 | Q12: 45 | R12: 45 | S12: 46 | T12: 46 | U12: 47 | V12: 48 | W12: 48 | X12: 49 | Y12: 50 | Z12: 50 | AA12: 51 | AB12: 51 | AC12: 52 | AD12: 52 | AE12: 53 | AF12: 53 | AG12: 54 | AH12: 55 | AI12: 55 | AJ12: 56 | AK12: 56 | AL12: 57 | AM12: 57 | AN12: 58 | AO12: 58 | AP12: 59 | AQ12: 60 | AR12: 60 | AS12: 61 | AT12: 62 | AU12: 62 | AV12: 63 | AW12: 63 | AX12: 64 | AY12: 64 | AZ12: 65
B13: 37 | C13: 37 | D13: 37 | E13: 39 | F13: 39 | G13: 39 | H13: 40 | I13: 40 | J13: 40 | K13: 42 | L13: 42 | M13: 42 | N13: 44 | O13: 44 | P13: 44 | Q13: 45 | R13: 45 | S13: 45 | T13: 47 | U13: 47 | V13: 47 | W13: 49 | X13: 49 | Y13: 49 | Z13: 51 | AA13: 51 | AB13: 51 | AC13: 52 | AD13: 52 | AE13: 52 | AF13: 54 | AG13: 54 | AH13: 54 | AI13: 56 | AJ13: 56 | AK13: 56 | AL13: 57 | AM13: 57 | AN13: 57 | AO13: 59 | AP13: 59 | AQ13: 59 | AR13: 61 | AS13: 61 | AT13: 61 | AU13: 63 | AV13: 63 | AW13: 63 | AX13: 64 | AY13: 64 | AZ13: 64
