Workbook
Name lista_bemoles_switch: Rosetta!$A$141:$B$300
Name Tonalidades: Rosetta!$A$121:$B$138

Sheet Rosetta
B1: Visualizador de Escalas de Abix | J1: Te ha sido útil? Considera una donación:
B2: https://abixites.com/masterclass-de-escalas-musicales | J2: link.mercadopago.com.mx/abixites
J3: paypal.me/abimaelruizb
E4: Modifica solamente las celdas amarillas | J4: Banamex 002180700568138276
D5: Visualizador: | E5: GTR | F5: Sostenidos / Bemoles : | G5: Auto (Teórico)
E6: Tónica | F6: Escala | G6: Idn Base | H6: Nombre
A7: A4= | B7: 440 | C7: Hz | E7: =IF(E5="GTR",GTR!D3,PIANO!C3) -> A | F7: =IF(E5="GTR",GTR!F3,PIANO!F3) -> Mayor | G7: =VLOOKUP($E$7,$A$122:$B$138,2,FALSE) -> 37 | H7: =CONCATENATE(E7," ",VLOOKUP(F7,J101:W120,14,FALSE)) -> A maj
A10: IDn | B10: Tonalidad | C10: Octava | D10: Color | E10: Freq (Hz) | F10: Observaciones | G10: Dif | H10: En escala? | I10: Nota | J10: Idn | K10: Grado | L10: Nom # | M10: Nom b
A11: 1 | B11: =IF($G$5=$F$100,IFERROR(IF(VLOOKUP($H$7,lista_bemoles_switch,2,FALSE)="s",M11,L11),L11),IF($G$5=$F$102,M11,L11)) -> A | C11: 0 | D11: Blanca | E11: =$B$7*2^((A11-49)/12) -> 27.5 | F11: Nota más grave (Límite inferior) | G11: =IF(VLOOKUP($B11,$A$122:$B$138,2,FALSE)-$G$7<0,12+VLOOKUP($B11,$A$122:$B$138,2,FALSE)-$G$7,VLOOKUP($B11,$A$122:$B$138,2,FALSE)-$G$7) -> 0 | H11: =VLOOKUP($F$7,$J$101:$V$120,2+$G11,FALSE) -> si | I11: =CONCATENATE($B11," ",$C11) -> A 0 | J11: =A11 -> 1 | K11: =IF($H11="si",IF(VLOOKUP("Grado",$J$100:$V$100,2+$G11,FALSE)=0,VLOOKUP("Grado",$J$100:$V$100,1+$G11,FALSE),VLOOKUP("Grado",$J$100:$V$100,2+$G11,FALSE)),"") -> I Tónica | L11: A | M11: =IFERROR(VLOOKUP(L11,$A$101:$B$105,2,FALSE),L11) -> A
A12: 2 | B12: =IF($G$5=$F$100,IFERROR(IF(VLOOKUP($H$7,lista_bemoles_switch,2,FALSE)="s",M12,L12),L12),IF($G$5=$F$102,M12,L12)) -> A# | C12: 0 | D12: Negra | E12: =$B$7*2^((A12-49)/12) -> 29.135235 | G12: =IF(VLOOKUP($B12,$A$122:$B$138,2,FALSE)-$G$7<0,12+VLOOKUP($B12,$A$122:$B$138,2,FALSE)-$G$7,VLOOKUP($B12,$A$122:$B$138,2,FALSE)-$G$7) -> 1 | H12: =VLOOKUP($F$7,$J$101:$V$120,2+$G12,FALSE) -> no | I12: =CONCATENATE($B12," ",$C12) -> A# 0 | J12: =A12 -> 2 | K12: =IF($H12="si",IF(VLOOKUP("Grado",$J$100:$V$100,2+$G12,FALSE)=0,VLOOKUP("Grado",$J$100:$V$100,1+$G12,FALSE),VLOOKUP("Grado",$J$100:$V$100,2+$G12,FALSE)),"") | L12: A# | M12: =IFERROR(VLOOKUP(L12,$A$101:$B$105,2,FALSE),L12) -> Bb
A13: 3 | B13: =IF($G$5=$F$100,IFERROR(IF(VLOOKUP($H$7,lista_bemoles_switch,2,FALSE)="s",M13,L13),L13),IF($G$5=$F$102,M13,L13)) -> B | C13: 0 | D13: Blanca | E13: =$B$7*2^((A13-49)/12) -> 30.867706 | G13: =IF(VLOOKUP($B13,$A$122:$B$138,2,FALSE)-$G$7<0,12+VLOOKUP($B13,$A$122:$B$138,2,FALSE)-$G$7,VLOOKUP($B13,$A$122:$B$138,2,FALSE)-$G$7) -> 2 | H13: =VLOOKUP($F$7,$J$101:$V$120,2+$G13,FALSE) -> si | I13: =CONCATENATE($B13," ",$C13) -> B 0 | J13: =A13 -> 3 | K13: =IF($H13="si",IF(VLOOKUP("Grado",$J$100:$V$100,2+$G13,FALSE)=0,VLOOKUP("Grado",$J$100:$V$100,1+$G13,FALSE),VLOOKUP("Grado",$J$100:$V$100,2+$G13,FALSE)),"") -> II | L13: B | M13: =IFERROR(VLOOKUP(L13,$A$101:$B$105,2,FALSE),L13) -> B
A14: 4 | B14: =IF($G$5=$F$100,IFERROR(IF(VLOOKUP($H$7,lista_bemoles_switch,2,FALSE)="s",M14,L14),L14),IF($G$5=$F$102,M14,L14)) -> C | C14: 1 | D14: Blanca | E14: =$B$7*2^((A14-49)/12) -> 32.703196 | G14: =IF(VLOOKUP($B14,$A$122:$B$138,2,FALSE)-$G$7<0,12+VLOOKUP($B14,$A$122:$B$138,2,FALSE)-$G$7,VLOOKUP($B14,$A$122:$B$138,2,FALSE)-$G$7) -> 3 | H14: =VLOOKUP($F$7,$J$101:$V$120,2+$G14,FALSE) -> no | I14: =CONCATENATE($B14," ",$C14) -> C 1 | J14: =A14 -> 4 | K14: =IF($H14="si",IF(VLOOKUP("Grado",$J$100:$V$100,2+$G14,FALSE)=0,VLOOKUP("Grado",$J$100:$V$100,1+$G14,FALSE),VLOOKUP("Grado",$J$100:$V$100,2+$G14,FALSE)),"") | L14: C | M14: =IFERROR(VLOOKUP(L14,$A$101:$B$105,2,FALSE),L14) -> C
A15: 5 | B15: =IF($G$5=$F$100,IFERROR(IF(VLOOKUP($H$7,lista_bemoles_switch,2,FALSE)="s",M15,L15),L15),IF($G$5=$F$102,M15,L15)) -> C# | C15: 1 | D15: Negra | E15: =$B$7*2^((A15-49)/12) -> 34.647829 | G15: =IF(VLOOKUP($B15,$A$122:$B$138,2,FALSE)-$G$7<0,12+VLOOKUP($B15,$A$122:$B$138,2,FALSE)-$G$7,VLOOKUP($B15,$A$122:$B$138,2,FALSE)-$G$7) -> 4 | H15: =VLOOKUP($F$7,$J$101:$V$120,2+$G15,FALSE) -> si | I15: =CONCATENATE($B15," ",$C15) -> C# 1 | J15: =A15 -> 5 | K15: =IF($H15="si",IF(VLOOKUP("Grado",$J$100:$V$100,2+$G15,FALSE)=0,VLOOKUP("Grado",$J$100:$V$100,1+$G15,FALSE),VLOOKUP("Grado",$J$100:$V$100,2+$G15,FALSE)),"") -> III Tercera | L15: C# | M15: =IFERROR(VLOOKUP(L15,$A$101:$B$105,2,FALSE),L15) -> Db
A16: 6 | B16: =IF($G$5=$F$100,IFERROR(IF(VLOOKUP($H$7,lista_bemoles_switch,2,FALSE)="s",M16,L16),L16),IF($G$5=$F$102,M16,L16)) -> D | C16: 1 | D16: Blanca | E16: =$B$7*2^((A16-49)/12) -> 36.708096 | G16: =IF(VLOOKUP($B16,$A$122:$B$138,2,FALSE)-$G$7<0,12+VLOOKUP($B16,$A$122:$B$138,2,FALSE)-$G$7,VLOOKUP($B16,$A$122:$B$138,2,FALSE)-$G$7) -> 5 | H16: =VLOOKUP($F$7,$J$101:$V$120,2+$G16,FALSE) -> si | I16: =CONCATENATE($B16," ",$C16) -> D 1 | J16: =A16 -> 6 | K16: =IF($H16="si",IF(VLOOKUP("Grado",$J$100:$V$100,2+$G16,FALSE)=0,VLOOKUP("Grado",$J$100:$V$100,1+$G16,FALSE),VLOOKUP("Grado",$J$100:$V$100,2+$G16,FALSE)),"") -> IV Cuarta | L16: D | M16: =IFERROR(VLOOKUP(L16,$A$101:$B$105,2,FALSE),L16) -> D
A17: 7 | B17: =IF($G$5=$F$100,IFERROR(IF(VLOOKUP($H$7,lista_bemoles_switch,2,FALSE)="s",M17,L17),L17),IF($G$5=$F$102,M17,L17)) -> D# | C17: 1 | D17: Negra | E17: =$B$7*2^((A17-49)/12) -> 38.890873 | G17: =IF(VLOOKUP($B17,$A$122:$B$138,2,FALSE)-$G$7<0,12+VLOOKUP($B17,$A$122:$B$138,2,FALSE)-$G$7,VLOOKUP($B17,$A$122:$B$138,2,FALSE)-$G$7) -> 6 | H17: =VLOOKUP($F$7,$J$101:$V$120,2+$G17,FALSE) -> no | I17: =CONCATENATE($B17," ",$C17) -> D# 1 | J17: =A17 -> 7 | K17: =IF($H17="si",IF(VLOOKUP("Grado",$J$100:$V$100,2+$G17,FALSE)=0,VLOOKUP("Grado",$J$100:$V$100,1+$G17,FALSE),VLOOKUP("Grado",$J$100:$V$100,2+$G17,FALSE)),"") | L17: D# | M17: =IFERROR(VLOOKUP(L17,$A$101:$B$105,2,FALSE),L17) -> Eb
A18: 8 | B18: =IF($G$5=$F$100,IFERROR(IF(VLOOKUP($H$7,lista_bemoles_switch,2,FALSE)="s",M18,L18),L18),IF($G$5=$F$102,M18,L18)) -> E | C18: 1 | D18: Blanca | E18: =$B$7*2^((A18-49)/12) -> 41.203445 | F18: 4ta Cuerda Bajo (E1) | G18: =IF(VLOOKUP($B18,$A$122:$B$138,2,FALSE)-$G$7<0,12+VLOOKUP($B18,$A$122:$B$138,2,FALSE)-$G$7,VLOOKUP($B18,$A$122:$B$138,2,FALSE)-$G$7) -> 7 | H18: =VLOOKUP($F$7,$J$101:$V$120,2+$G18,FALSE) -> si | I18: =CONCATENATE($B18," ",$C18) -> E 1 | J18: =A18 -> 8 | K18: =IF($H18="si",IF(VLOOKUP("Grado",$J$100:$V$100,2+$G18,FALSE)=0,VLOOKUP("Grado",$J$100:$V$100,1+$G18,FALSE),VLOOKUP("Grado",$J$100:$V$100,2+$G18,FALSE)),"") -> V Quinta | L18: E | M18: =IFERROR(VLOOKUP(L18,$A$101:$B$105,2,FALSE),L18) -> E | O18: Rango de Bajo
A19: 9 | B19: =IF($G$5=$F$100,IFERROR(IF(VLOOKUP($H$7,lista_bemoles_switch,2,FALSE)="s",M19,L19),L19),IF($G$5=$F$102,M19,L19)) -> F | C19: 1 | D19: Blanca | E19: =$B$7*2^((A19-49)/12) -> 43.653529 | G19: =IF(VLOOKUP($B19,$A$122:$B$138,2,FALSE)-$G$7<0,12+VLOOKUP($B19,$A$122:$B$138,2,FALSE)-$G$7,VLOOKUP($B19,$A$122:$B$138,2,FALSE)-$G$7) -> 8 | H19: =VLOOKUP($F$7,$J$101:$V$120,2+$G19,FALSE) -> no | I19: =CONCATENATE($B19," ",$C19) -> F 1 | J19: =A19 -> 9 | K19: =IF($H19="si",IF(VLOOKUP("Grado",$J$100:$V$100,2+$G19,FALSE)=0,VLOOKUP("Grado",$J$100:$V$100,1+$G19,FALSE),VLOOKUP("Grado",$J$100:$V$100,2+$G19,FALSE)),"") | L19: F | M19: =IFERROR(VLOOKUP(L19,$A$101:$B$105,2,FALSE),L19) -> F
A20: 10 | B20: =IF($G$5=$F$100,IFERROR(IF(VLOOKUP($H$7,lista_bemoles_switch,2,FALSE)="s",M20,L20),L20),IF($G$5=$F$102,M20,L20)) -> F# | C20: 1 | D20: Negra | E20: =$B$7*2^((A20-49)/12) -> 46.249303 | G20: =IF(VLOOKUP($B20,$A$122:$B$138,2,FALSE)-$G$7<0,12+VLOOKUP($B20,$A$122:$B$138,2,FALSE)-$G$7,VLOOKUP($B20,$A$122:$B$138,2,FALSE)-$G$7) -> 9 | H20: =VLOOKUP($F$7,$J$101:$V$120,2+$G20,FALSE) -> si | I20: =CONCATENATE($B20," ",$C20) -> F# 1 | J20: =A20 -> 10 | K20: =IF($H20="si",IF(VLOOKUP("Grado",$J$100:$V$100,2+$G20,FALSE)=0,VLOOKUP("Grado",$J$100:$V$100,1+$G20,FALSE),VLOOKUP("Grado",$J$100:$V$100,2+$G20,FALSE)),"") -> VI Sexta | L20: F# | M20: =IFERROR(VLOOKUP(L20,$A$101:$B$105,2,FALSE),L20) -> Gb
A21: 11 | B21: =IF($G$5=$F$100,IFERROR(IF(VLOOKUP($H$7,lista_bemoles_switch,2,FALSE)="s",M21,L21),L21),IF($G$5=$F$102,M21,L21)) -> G | C21: 1 | D21: Blanca | E21: =$B$7*2^((A21-49)/12) -> 48.999429 | G21: =IF(VLOOKUP($B21,$A$122:$B$138,2,FALSE)-$G$7<0,12+VLOOKUP($B21,$A$122:$B$138,2,FALSE)-$G$7,VLOOKUP($B21,$A$122:$B$138,2,FALSE)-$G$7) -> 10 | H21: =VLOOKUP($F$7,$J$101:$V$120,2+$G21,FALSE) -> no | I21: =CONCATENATE($B21," ",$C21) -> G 1 | J21: =A21 -> 11 | K21: =IF($H21="si",IF(VLOOKUP("Grado",$J$100:$V$100,2+$G21,FALSE)=0,VLOOKUP("Grado",$J$100:$V$100,1+$G21,FALSE),VLOOKUP("Grado",$J$100:$V$100,2+$G21,FALSE)),"") | L21: G | M21: =IFERROR(VLOOKUP(L21,$A$101:$B$105,2,FALSE),L21) -> G
A22: 12 | B22: =IF($G$5=$F$100,IFERROR(IF(VLOOKUP($H$7,lista_bemoles_switch,2,FALSE)="s",M22,L22),L22),IF($G$5=$F$102,M22,L22)) -> G# | C22: 1 | D22: Negra | E22: =$B$7*2^((A22-49)/12) -> 51.913087 | G22: =IF(VLOOKUP($B22,$A$122:$B$138,2,FALSE)-$G$7<0,12+VLOOKUP($B22,$A$122:$B$138,2,FALSE)-$G$7,VLOOKUP($B22,$A$122:$B$138,2,FALSE)-$G$7) -> 11 | H22: =VLOOKUP($F$7,$J$101:$V$120,2+$G22,FALSE) -> si | I22: =CONCATENATE($B22," ",$C22) -> G# 1 | J22: =A22 -> 12 | K22: =IF($H22="si",IF(VLOOKUP("Grado",$J$100:$V$100,2+$G22,FALSE)=0,VLOOKUP("Grado",$J$100:$V$100,1+$G22,FALSE),VLOOKUP("Grado",$J$100:$V$100,2+$G22,FALSE)),"") -> VII Séptima | L22: G# | M22: =IFERROR(VLOOKUP(L22,$A$101:$B$105,2,FALSE),L22) -> Ab
A23: 13 | B23: =IF($G$5=$F$100,IFERROR(IF(VLOOKUP($H$7,lista_bemoles_switch,2,FALSE)="s",M23,L23),L23),IF($G$5=$F$102,M23,L23)) -> A | C23: 1 | D23: Blanca | E23: =$B$7*2^((A23-49)/12) -> 55 | F23: 3ra Cuerda Bajo (A1) | G23: =IF(VLOOKUP($B23,$A$122:$B$138,2,FALSE)-$G$7<0,12+VLOOKUP($B23,$A$122:$B$138,2,FALSE)-$G$7,VLOOKUP($B23,$A$122:$B$138,2,FALSE)-$G$7) -> 0 | H23: =VLOOKUP($F$7,$J$101:$V$120,2+$G23,FALSE) -> si | I23: =CONCATENATE($B23," ",$C23) -> A 1 | J23: =A23 -> 13 | K23: =IF($H23="si",IF(VLOOKUP("Grado",$J$100:$V$100,2+$G23,FALSE)=0,VLOOKUP("Grado",$J$100:$V$100,1+$G23,FALSE),VLOOKUP("Grado",$J$100:$V$100,2+$G23,FALSE)),"") -> I Tónica | L23: A | M23: =IFERROR(VLOOKUP(L23,$A$101:$B$105,2,FALSE),L23) -> A
A24: 14 | B24: =IF($G$5=$F$100,IFERROR(IF(VLOOKUP($H$7,lista_bemoles_switch,2,FALSE)="s",M24,L24),L24),IF($G$5=$F$102,M24,L24)) -> A# | C24: 1 | D24: Negra | E24: =$B$7*2^((A24-49)/12) -> 58.27047 | G24: =IF(VLOOKUP($B24,$A$122:$B$138,2,FALSE)-$G$7<0,12+VLOOKUP($B24,$A$122:$B$138,2,FALSE)-$G$7,VLOOKUP($B24,$A$122:$B$138,2,FALSE)-$G$7) -> 1 | H24: =VLOOKUP($F$7,$J$101:$V$120,2+$G24,FALSE) -> no | I24: =CONCATENATE($B24," ",$C24) -> A# 1 | J24: =A24 -> 14 | K24: =IF($H24="si",IF(VLOOKUP("Grado",$J$100:$V$100,2+$G24,FALSE)=0,VLOOKUP("Grado",$J$100:$V$100,1+$G24,FALSE),VLOOKUP("Grado",$J$100:$V$100,2+$G24,FALSE)),"") | L24: A# | M24: =IFERROR(VLOOKUP(L24,$A$101:$B$105,2,FALSE),L24) -> Bb
A25: 15 | B25: =IF($G$5=$F$100,IFERROR(IF(VLOOKUP($H$7,lista_bemoles_switch,2,FALSE)="s",M25,L25),L25),IF($G$5=$F$102,M25,L25)) -> B | C25: 1 | D25: Blanca | E25: =$B$7*2^((A25-49)/12) -> 61.735413 | G25: =IF(VLOOKUP($B25,$A$122:$B$138,2,FALSE)-$G$7<0,12+VLOOKUP($B25,$A$122:$B$138,2,FALSE)-$G$7,VLOOKUP($B25,$A$122:$B$138,2,FALSE)-$G$7) -> 2 | H25: =VLOOKUP($F$7,$J$101:$V$120,2+$G25,FALSE) -> si | I25: =CONCATENATE($B25," ",$C25) -> B 1 | J25: =A25 -> 15 | K25: =IF($H25="si",IF(VLOOKUP("Grado",$J$100:$V$100,2+$G25,FALSE)=0,VLOOKUP("Grado",$J$100:$V$100,1+$G25,FALSE),VLOOKUP("Grado",$J$100:$V$100,2+$G25,FALSE)),"") -> II | L25: B | M25: =IFERROR(VLOOKUP(L25,$A$101:$B$105,2,FALSE),L25) -> B
A26: 16 | B26: =IF($G$5=$F$100,IFERROR(IF(VLOOKUP($H$7,lista_bemoles_switch,2,FALSE)="s",M26,L26),L26),IF($G$5=$F$102,M26,L26)) -> C | C26: 2 | D26: Blanca | E26: =$B$7*2^((A26-49)/12) -> 65.406391 | G26: =IF(VLOOKUP($B26,$A$122:$B$138,2,FALSE)-$G$7<0,12+VLOOKUP($B26,$A$122:$B$138,2,FALSE)-$G$7,VLOOKUP($B26,$A$122:$B$138,2,FALSE)-$G$7) -> 3 | H26: =VLOOKUP($F$7,$J$101:$V$120,2+$G26,FALSE) -> no | I26: =CONCATENATE($B26," ",$C26) -> C 2 | J26: =A26 -> 16 | K26: =IF($H26="si",IF(VLOOKUP("Grado",$J$100:$V$100,2+$G26,FALSE)=0,VLOOKUP("Grado",$J$100:$V$100,1+$G26,FALSE),VLOOKUP("Grado",$J$100:$V$100,2+$G26,FALSE)),"") | L26: C | M26: =IFERROR(VLOOKUP(L26,$A$101:$B$105,2,FALSE),L26) -> C
A27: 17 | B27: =IF($G$5=$F$100,IFERROR(IF(VLOOKUP($H$7,lista_bemoles_switch,2,FALSE)="s",M27,L27),L27),IF($G$5=$F$102,M27,L27)) -> C# | C27: 2 | D27: Negra | E27: =$B$7*2^((A27-49)/12) -> 69.295658 | G27: =IF(VLOOKUP($B27,$A$122:$B$138,2,FALSE)-$G$7<0,12+VLOOKUP($B27,$A$122:$B$138,2,FALSE)-$G$7,VLOOKUP($B27,$A$122:$B$138,2,FALSE)-$G$7) -> 4 | H27: =VLOOKUP($F$7,$J$101:$V$120,2+$G27,FALSE) -> si | I27: =CONCATENATE($B27," ",$C27) -> C# 2 | J27: =A27 -> 17 | K27: =IF($H27="si",IF(VLOOKUP("Grado",$J$100:$V$100,2+$G27,FALSE)=0,VLOOKUP("Grado",$J$100:$V$100,1+$G27,FALSE),VLOOKUP("Grado",$J$100:$V$100,2+$G27,FALSE)),"") -> III Tercera | L27: C# | M27: =IFERROR(VLOOKUP(L27,$A$101:$B$105,2,FALSE),L27) -> Db
A28: 18 | B28: =IF($G$5=$F$100,IFERROR(IF(VLOOKUP($H$7,lista_bemoles_switch,2,FALSE)="s",M28,L28),L28),IF($G$5=$F$102,M28,L28)) -> D | C28: 2 | D28: Blanca | E28: =$B$7*2^((A28-49)/12) -> 73.416192 | F28: 2da Cuerda Bajo (D2) | G28: =IF(VLOOKUP($B28,$A$122:$B$138,2,FALSE)-$G$7<0,12+VLOOKUP($B28,$A$122:$B$138,2,FALSE)-$G$7,VLOOKUP($B28,$A$122:$B$138,2,FALSE)-$G$7) -> 5 | H28: =VLOOKUP($F$7,$J$101:$V$120,2+$G28,FALSE) -> si | I28: =CONCATENATE($B28," ",$C28) -> D 2 | J28: =A28 -> 18 | K28: =IF($H28="si",IF(VLOOKUP("Grado",$J$100:$V$100,2+$G28,FALSE)=0,VLOOKUP("Grado",$J$100:$V$100,1+$G28,FALSE),VLOOKUP("Grado",$J$100:$V$100,2+$G28,FALSE)),"") -> IV Cuarta | L28: D | M28: =IFERROR(VLOOKUP(L28,$A$101:$B$105,2,FALSE),L28) -> D
A29: 19 | B29: =IF($G$5=$F$100,IFERROR(IF(VLOOKUP($H$7,lista_bemoles_switch,2,FALSE)="s",M29,L29),L29),IF($G$5=$F$102,M29,L29)) -> D# | C29: 2 | D29: Negra | E29: =$B$7*2^((A29-49)/12) -> 77.781746 | G29: =IF(VLOOKUP($B29,$A$122:$B$138,2,FALSE)-$G$7<0,12+VLOOKUP($B29,$A$122:$B$138,2,FALSE)-$G$7,VLOOKUP($B29,$A$122:$B$138,2,FALSE)-$G$7) -> 6 | H29: =VLOOKUP($F$7,$J$101:$V$120,2+$G29,FALSE) -> no | I29: =CONCATENATE($B29," ",$C29) -> D# 2 | J29: =A29 -> 19 | K29: =IF($H29="si",IF(VLOOKUP("Grado",$J$100:$V$100,2+$G29,FALSE)=0,VLOOKUP("Grado",$J$100:$V$100,1+$G29,FALSE),VLOOKUP("Grado",$J$100:$V$100,2+$G29,FALSE)),"") | L29: D# | M29: =IFERROR(VLOOKUP(L29,$A$101:$B$105,2,FALSE),L29) -> Eb
A30: 20 | B30: =IF($G$5=$F$100,IFERROR(IF(VLOOKUP($H$7,lista_bemoles_switch,2,FALSE)="s",M30,L30),L30),IF($G$5=$F$102,M30,L30)) -> E | C30: 2 | D30: Blanca | E30: =$B$7*2^((A30-49)/12) -> 82.406889 | F30: 6ta Cuerda Guitarra (E2) | G30: =IF(VLOOKUP($B30,$A$122:$B$138,2,FALSE)-$G$7<0,12+VLOOKUP($B30,$A$122:$B$138,2,FALSE)-$G$7,VLOOKUP($B30,$A$122:$B$138,2,FALSE)-$G$7) -> 7 | H30: =VLOOKUP($F$7,$J$101:$V$120,2+$G30,FALSE) -> si | I30: =CONCATENATE($B30," ",$C30) -> E 2 | J30: =A30 -> 20 | K30: =IF($H30="si",IF(VLOOKUP("Grado",$J$100:$V$100,2+$G30,FALSE)=0,VLOOKUP("Grado",$J$100:$V$100,1+$G30,FALSE),VLOOKUP("Grado",$J$100:$V$100,2+$G30,FALSE)),"") -> V Quinta | L30: E | M30: =IFERROR(VLOOKUP(L30,$A$101:$B$105,2,FALSE),L30) -> E | N30: Rango de Guitarra
A31: 21 | B31: =IF($G$5=$F$100,IFERROR(IF(VLOOKUP($H$7,lista_bemoles_switch,2,FALSE)="s",M31,L31),L31),IF($G$5=$F$102,M31,L31)) -> F | C31: 2 | D31: Blanca | E31: =$B$7*2^((A31-49)/12) -> 87.307058 | G31: =IF(VLOOKUP($B31,$A$122:$B$138,2,FALSE)-$G$7<0,12+VLOOKUP($B31,$A$122:$B$138,2,FALSE)-$G$7,VLOOKUP($B31,$A$122:$B$138,2,FALSE)-$G$7) -> 8 | H31: =VLOOKUP($F$7,$J$101:$V$120,2+$G31,FALSE) -> no | I31: =CONCATENATE($B31," ",$C31) -> F 2 | J31: =A31 -> 21 | K31: =IF($H31="si",IF(VLOOKUP("Grado",$J$100:$V$100,2+$G31,FALSE)=0,VLOOKUP("Grado",$J$100:$V$100,1+$G31,FALSE),VLOOKUP("Grado",$J$100:$V$100,2+$G31,FALSE)),"") | L31: F | M31: =IFERROR(VLOOKUP(L31,$A$101:$B$105,2,FALSE),L31) -> F
A32: 22 | B32: =IF($G$5=$F$100,IFERROR(IF(VLOOKUP($H$7,lista_bemoles_switch,2,FALSE)="s",M32,L32),L32),IF($G$5=$F$102,M32,L32)) -> F# | C32: 2 | D32: Negra | E32: =$B$7*2^((A32-49)/12) -> 92.498606 | G32: =IF(VLOOKUP($B32,$A$122:$B$138,2,FALSE)-$G$7<0,12+VLOOKUP($B32,$A$122:$B$138,2,FALSE)-$G$7,VLOOKUP($B32,$A$122:$B$138,2,FALSE)-$G$7) -> 9 | H32: =VLOOKUP($F$7,$J$101:$V$120,2+$G32,FALSE) -> si | I32: =CONCATENATE($B32," ",$C32) -> F# 2 | J32: =A32 -> 22 | K32: =IF($H32="si",IF(VLOOKUP("Grado",$J$100:$V$100,2+$G32,FALSE)=0,VLOOKUP("Grado",$J$100:$V$100,1+$G32,FALSE),VLOOKUP("Grado",$J$100:$V$100,2+$G32,FALSE)),"") -> VI Sexta | L32: F# | M32: =IFERROR(VLOOKUP(L32,$A$101:$B$105,2,FALSE),L32) -> Gb
A33: 23 | B33: =IF($G$5=$F$100,IFERROR(IF(VLOOKUP($H$7,lista_bemoles_switch,2,FALSE)="s",M33,L33),L33),IF($G$5=$F$102,M33,L33)) -> G | C33: 2 | D33: Blanca | E33: =$B$7*2^((A33-49)/12) -> 97.998859 | F33: 1ra Cuerda Bajo (G2) | G33: =IF(VLOOKUP($B33,$A$122:$B$138,2,FALSE)-$G$7<0,12+VLOOKUP($B33,$A$122:$B$138,2,FALSE)-$G$7,VLOOKUP($B33,$A$122:$B$138,2,FALSE)-$G$7) -> 10 | H33: =VLOOKUP($F$7,$J$101:$V$120,2+$G33,FALSE) -> no | I33: =CONCATENATE($B33," ",$C33) -> G 2 | J33: =A33 -> 23 | K33: =IF($H33="si",IF(VLOOKUP("Grado",$J$100:$V$100,2+$G33,FALSE)=0,VLOOKUP("Grado",$J$100:$V$100,1+$G33,FALSE),VLOOKUP("Grado",$J$100:$V$100,2+$G33,FALSE)),"") | L33: G | M33: =IFERROR(VLOOKUP(L33,$A$101:$B$105,2,FALSE),L33) -> G
A34: 24 | B34: =IF($G$5=$F$100,IFERROR(IF(VLOOKUP($H$7,lista_bemoles_switch,2,FALSE)="s",M34,L34),L34),IF($G$5=$F$102,M34,L34)) -> G# | C34: 2 | D34: Negra | E34: =$B$7*2^((A34-49)/12) -> 103.82617 | G34: =IF(VLOOKUP($B34,$A$122:$B$138,2,FALSE)-$G$7<0,12+VLOOKUP($B34,$A$122:$B$138,2,FALSE)-$G$7,VLOOKUP($B34,$A$122:$B$138,2,FALSE)-$G$7) -> 11 | H34: =VLOOKUP($F$7,$J$101:$V$120,2+$G34,FALSE) -> si | I34: =CONCATENATE($B34," ",$C34) -> G# 2 | J34: =A34 -> 24 | K34: =IF($H34="si",IF(VLOOKUP("Grado",$J$100:$V$100,2+$G34,FALSE)=0,VLOOKUP("Grado",$J$100:$V$100,1+$G34,FALSE),VLOOKUP("Grado",$J$100:$V$100,2+$G34,FALSE)),"") -> VII Séptima | L34: G# | M34: =IFERROR(VLOOKUP(L34,$A$101:$B$105,2,FALSE),L34) -> Ab
A35: 25 | B35: =IF($G$5=$F$100,IFERROR(IF(VLOOKUP($H$7,lista_bemoles_switch,2,FALSE)="s",M35,L35),L35),IF($G$5=$F$102,M35,L35)) -> A | C35: 2 | D35: Blanca | E35: =$B$7*2^((A35-49)/12) -> 110 | F35: 5ta Cuerda Guitarra (A2) | G35: =IF(VLOOKUP($B35,$A$122:$B$138,2,FALSE)-$G$7<0,12+VLOOKUP($B35,$A$122:$B$138,2,FALSE)-$G$7,VLOOKUP($B35,$A$122:$B$138,2,FALSE)-$G$7) -> 0 | H35: =VLOOKUP($F$7,$J$101:$V$120,2+$G35,FALSE) -> si | I35: =CONCATENATE($B35," ",$C35) -> A 2 | J35: =A35 -> 25 | K35: =IF($H35="si",IF(VLOOKUP("Grado",$J$100:$V$100,2+$G35,FALSE)=0,VLOOKUP("Grado",$J$100:$V$100,1+$G35,FALSE),VLOOKUP("Grado",$J$100:$V$100,2+$G35,FALSE)),"") -> I Tónica | L35: A | M35: =IFERROR(VLOOKUP(L35,$A$101:$B$105,2,FALSE),L35) -> A
A36: 26 | B36: =IF($G$5=$F$100,IFERROR(IF(VLOOKUP($H$7,lista_bemoles_switch,2,FALSE)="s",M36,L36),L36),IF($G$5=$F$102,M36,L36)) -> A# | C36: 2 | D36: Negra | E36: =$B$7*2^((A36-49)/12) -> 116.54094 | G36: =IF(VLOOKUP($B36,$A$122:$B$138,2,FALSE)-$G$7<0,12+VLOOKUP($B36,$A$122:$B$138,2,FALSE)-$G$7,VLOOKUP($B36,$A$122:$B$138,2,FALSE)-$G$7) -> 1 | H36: =VLOOKUP($F$7,$J$101:$V$120,2+$G36,FALSE) -> no | I36: =CONCATENATE($B36," ",$C36) -> A# 2 | J36: =A36 -> 26 | K36: =IF($H36="si",IF(VLOOKUP("Grado",$J$100:$V$100,2+$G36,FALSE)=0,VLOOKUP("Grado",$J$100:$V$100,1+$G36,FALSE),VLOOKUP("Grado",$J$100:$V$100,2+$G36,FALSE)),"") | L36: A# | M36: =IFERROR(VLOOKUP(L36,$A$101:$B$105,2,FALSE),L36) -> Bb
A37: 27 | B37: =IF($G$5=$F$100,IFERROR(IF(VLOOKUP($H$7,lista_bemoles_switch,2,FALSE)="s",M37,L37),L37),IF($G$5=$F$102,M37,L37)) -> B | C37: 2 | D37: Blanca | E37: =$B$7*2^((A37-49)/12) -> 123.47083 | G37: =IF(VLOOKUP($B37,$A$122:$B$138,2,FALSE)-$G$7<0,12+VLOOKUP($B37,$A$122:$B$138,2,FALSE)-$G$7,VLOOKUP($B37,$A$122:$B$138,2,FALSE)-$G$7) -> 2 | H37: =VLOOKUP($F$7,$J$101:$V$120,2+$G37,FALSE) -> si | I37: =CONCATENATE($B37," ",$C37) -> B 2 | J37: =A37 -> 27 | K37: =IF($H37="si",IF(VLOOKUP("Grado",$J$100:$V$100,2+$G37,FALSE)=0,VLOOKUP("Grado",$J$100:$V$100,1+$G37,FALSE),VLOOKUP("Grado",$J$100:$V$100,2+$G37,FALSE)),"") -> II | L37: B | M37: =IFERROR(VLOOKUP(L37,$A$101:$B$105,2,FALSE),L37) -> B
A38: 28 | B38: =IF($G$5=$F$100,IFERROR(IF(VLOOKUP($H$7,lista_bemoles_switch,2,FALSE)="s",M38,L38),L38),IF($G$5=$F$102,M38,L38)) -> C | C38: 3 | D38: Blanca | E38: =$B$7*2^((A38-49)/12) -> 130.81278 | G38: =IF(VLOOKUP($B38,$A$122:$B$138,2,FALSE)-$G$7<0,12+VLOOKUP($B38,$A$122:$B$138,2,FALSE)-$G$7,VLOOKUP($B38,$A$122:$B$138,2,FALSE)-$G$7) -> 3 | H38: =VLOOKUP($F$7,$J$101:$V$120,2+$G38,FALSE) -> no | I38: =CONCATENATE($B38," ",$C38) -> C 3 | J38: =A38 -> 28 | K38: =IF($H38="si",IF(VLOOKUP("Grado",$J$100:$V$100,2+$G38,FALSE)=0,VLOOKUP("Grado",$J$100:$V$100,1+$G38,FALSE),VLOOKUP("Grado",$J$100:$V$100,2+$G38,FALSE)),"") | L38: C | M38: =IFERROR(VLOOKUP(L38,$A$101:$B$105,2,FALSE),L38) -> C
A39: 29 | B39: =IF($G$5=$F$100,IFERROR(IF(VLOOKUP($H$7,lista_bemoles_switch,2,FALSE)="s",M39,L39),L39),IF($G$5=$F$102,M39,L39)) -> C# | C39: 3 | D39: Negra | E39: =$B$7*2^((A39-49)/12) -> 138.59132 | G39: =IF(VLOOKUP($B39,$A$122:$B$138,2,FALSE)-$G$7<0,12+VLOOKUP($B39,$A$122:$B$138,2,FALSE)-$G$7,VLOOKUP($B39,$A$122:$B$138,2,FALSE)-$G$7) -> 4 | H39: =VLOOKUP($F$7,$J$101:$V$120,2+$G39,FALSE) -> si | I39: =CONCATENATE($B39," ",$C39) -> C# 3 | J39: =A39 -> 29 | K39: =IF($H39="si",IF(VLOOKUP("Grado",$J$100:$V$100,2+$G39,FALSE)=0,VLOOKUP("Grado",$J$100:$V$100,1+$G39,FALSE),VLOOKUP("Grado",$J$100:$V$100,2+$G39,FALSE)),"") -> III Tercera | L39: C# | M39: =IFERROR(VLOOKUP(L39,$A$101:$B$105,2,FALSE),L39) -> Db
A40: 30 | B40: =IF($G$5=$F$100,IFERROR(IF(VLOOKUP($H$7,lista_bemoles_switch,2,FALSE)="s",M40,L40),L40),IF($G$5=$F$102,M40,L40)) -> D | C40: 3 | D40: Blanca | E40: =$B$7*2^((A40-49)/12) -> 146.83238 | F40: 4ta Cuerda Guitarra (D3) | G40: =IF(VLOOKUP($B40,$A$122:$B$138,2,FALSE)-$G$7<0,12+VLOOKUP($B40,$A$122:$B$138,2,FALSE)-$G$7,VLOOKUP($B40,$A$122:$B$138,2,FALSE)-$G$7) -> 5 | H40: =VLOOKUP($F$7,$J$101:$V$120,2+$G40,FALSE) -> si | I40: =CONCATENATE($B40," ",$C40) -> D 3 | J40: =A40 -> 30 | K40: =IF($H40="si",IF(VLOOKUP("Grado",$J$100:$V$100,2+$G40,FALSE)=0,VLOOKUP("Grado",$J$100:$V$100,1+$G40,FALSE),VLOOKUP("Grado",$J$100:$V$100,2+$G40,FALSE)),"") -> IV Cuarta | L40: D | M40: =IFERROR(VLOOKUP(L40,$A$101:$B$105,2,FALSE),L40) -> D
A41: 31 | B41: =IF($G$5=$F$100,IFERROR(IF(VLOOKUP($H$7,lista_bemoles_switch,2,FALSE)="s",M41,L41),L41),IF($G$5=$F$102,M41,L41)) -> D# | C41: 3 | D41: Negra | E41: =$B$7*2^((A41-49)/12) -> 155.56349 | G41: =IF(VLOOKUP($B41,$A$122:$B$138,2,FALSE)-$G$7<0,12+VLOOKUP($B41,$A$122:$B$138,2,FALSE)-$G$7,VLOOKUP($B41,$A$122:$B$138,2,FALSE)-$G$7) -> 6 | H41: =VLOOKUP($F$7,$J$101:$V$120,2+$G41,FALSE) -> no | I41: =CONCATENATE($B41," ",$C41) -> D# 3 | J41: =A41 -> 31 | K41: =IF($H41="si",IF(VLOOKUP("Grado",$J$100:$V$100,2+$G41,FALSE)=0,VLOOKUP("Grado",$J$100:$V$100,1+$G41,FALSE),VLOOKUP("Grado",$J$100:$V$100,2+$G41,FALSE)),"") | L41: D# | M41: =IFERROR(VLOOKUP(L41,$A$101:$B$105,2,FALSE),L41) -> Eb
A42: 32 | B42: =IF($G$5=$F$100,IFERROR(IF(VLOOKUP($H$7,lista_bemoles_switch,2,FALSE)="s",M42,L42),L42),IF($G$5=$F$102,M42,L42)) -> E | C42: 3 | D42: Blanca | E42: =$B$7*2^((A42-49)/12) -> 164.81378 | G42: =IF(VLOOKUP($B42,$A$122:$B$138,2,FALSE)-$G$7<0,12+VLOOKUP($B42,$A$122:$B$138,2,FALSE)-$G$7,VLOOKUP($B42,$A$122:$B$138,2,FALSE)-$G$7) -> 7 | H42: =VLOOKUP($F$7,$J$101:$V$120,2+$G42,FALSE) -> si | I42: =CONCATENATE($B42," ",$C42) -> E 3 | J42: =A42 -> 32 | K42: =IF($H42="si",IF(VLOOKUP("Grado",$J$100:$V$100,2+$G42,FALSE)=0,VLOOKUP("Grado",$J$100:$V$100,1+$G42,FALSE),VLOOKUP("Grado",$J$100:$V$100,2+$G42,FALSE)),"") -> V Quinta | L42: E | M42: =IFERROR(VLOOKUP(L42,$A$101:$B$105,2,FALSE),L42) -> E
A43: 33 | B43: =IF($G$5=$F$100,IFERROR(IF(VLOOKUP($H$7,lista_bemoles_switch,2,FALSE)="s",M43,L43),L43),IF($G$5=$F$102,M43,L43)) -> F | C43: 3 | D43: Blanca | E43: =$B$7*2^((A43-49)/12) -> 174.61412 | G43: =IF(VLOOKUP($B43,$A$122:$B$138,2,FALSE)-$G$7<0,12+VLOOKUP($B43,$A$122:$B$138,2,FALSE)-$G$7,VLOOKUP($B43,$A$122:$B$138,2,FALSE)-$G$7) -> 8 | H43: =VLOOKUP($F$7,$J$101:$V$120,2+$G43,FALSE) -> no | I43: =CONCATENATE($B43," ",$C43) -> F 3 | J43: =A43 -> 33 | K43: =IF($H43="si",IF(VLOOKUP("Grado",$J$100:$V$100,2+$G43,FALSE)=0,VLOOKUP("Grado",$J$100:$V$100,1+$G43,FALSE),VLOOKUP("Grado",$J$100:$V$100,2+$G43,FALSE)),"") | L43: F | M43: =IFERROR(VLOOKUP(L43,$A$101:$B$105,2,FALSE),L43) -> F
A44: 34 | B44: =IF($G$5=$F$100,IFERROR(IF(VLOOKUP($H$7,lista_bemoles_switch,2,FALSE)="s",M44,L44),L44),IF($G$5=$F$102,M44,L44)) -> F# | C44: 3 | D44: Negra | E44: =$B$7*2^((A44-49)/12) -> 184.99721 | G44: =IF(VLOOKUP($B44,$A$122:$B$138,2,FALSE)-$G$7<0,12+VLOOKUP($B44,$A$122:$B$138,2,FALSE)-$G$7,VLOOKUP($B44,$A$122:$B$138,2,FALSE)-$G$7) -> 9 | H44: =VLOOKUP($F$7,$J$101:$V$120,2+$G44,FALSE) -> si | I44: =CONCATENATE($B44," ",$C44) -> F# 3 | J44: =A44 -> 34 | K44: =IF($H44="si",IF(VLOOKUP("Grado",$J$100:$V$100,2+$G44,FALSE)=0,VLOOKUP("Grado",$J$100:$V$100,1+$G44,FALSE),VLOOKUP("Grado",$J$100:$V$100,2+$G44,FALSE)),"") -> VI Sexta | L44: F# | M44: =IFERROR(VLOOKUP(L44,$A$101:$B$105,2,FALSE),L44) -> Gb
A45: 35 | B45: =IF($G$5=$F$100,IFERROR(IF(VLOOKUP($H$7,lista_bemoles_switch,2,FALSE)="s",M45,L45),L45),IF($G$5=$F$102,M45,L45)) -> G | C45: 3 | D45: Blanca | E45: =$B$7*2^((A45-49)/12) -> 195.99772 | F45: 3ra Cuerda Guitarra (G3) | G45: =IF(VLOOKUP($B45,$A$122:$B$138,2,FALSE)-$G$7<0,12+VLOOKUP($B45,$A$122:$B$138,2,FALSE)-$G$7,VLOOKUP($B45,$A$122:$B$138,2,FALSE)-$G$7) -> 10 | H45: =VLOOKUP($F$7,$J$101:$V$120,2+$G45,FALSE) -> no | I45: =CONCATENATE($B45," ",$C45) -> G 3 | J45: =A45 -> 35 | K45: =IF($H45="si",IF(VLOOKUP("Grado",$J$100:$V$100,2+$G45,FALSE)=0,VLOOKUP("Grado",$J$100:$V$100,1+$G45,FALSE),VLOOKUP("Grado",$J$100:$V$100,2+$G45,FALSE)),"") | L45: G | M45: =IFERROR(VLOOKUP(L45,$A$101:$B$105,2,FALSE),L45) -> G
A46: 36 | B46: =IF($G$5=$F$100,IFERROR(IF(VLOOKUP($H$7,lista_bemoles_switch,2,FALSE)="s",M46,L46),L46),IF($G$5=$F$102,M46,L46)) -> G# | C46: 3 | D46: Negra | E46: =$B$7*2^((A46-49)/12) -> 207.65235 | G46: =IF(VLOOKUP($B46,$A$122:$B$138,2,FALSE)-$G$7<0,12+VLOOKUP($B46,$A$122:$B$138,2,FALSE)-$G$7,VLOOKUP($B46,$A$122:$B$138,2,FALSE)-$G$7) -> 11 | H46: =VLOOKUP($F$7,$J$101:$V$120,2+$G46,FALSE) -> si | I46: =CONCATENATE($B46," ",$C46) -> G# 3 | J46: =A46 -> 36 | K46: =IF($H46="si",IF(VLOOKUP("Grado",$J$100:$V$100,2+$G46,FALSE)=0,VLOOKUP("Grado",$J$100:$V$100,1+$G46,FALSE),VLOOKUP("Grado",$J$100:$V$100,2+$G46,FALSE)),"") -> VII Séptima | L46: G# | M46: =IFERROR(VLOOKUP(L46,$A$101:$B$105,2,FALSE),L46) -> Ab
A47: 37 | B47: =IF($G$5=$F$100,IFERROR(IF(VLOOKUP($H$7,lista_bemoles_switch,2,FALSE)="s",M47,L47),L47),IF($G$5=$F$102,M47,L47)) -> A | C47: 3 | D47: Blanca | E47: =$B$7*2^((A47-49)/12) -> 220 | G47: =IF(VLOOKUP($B47,$A$122:$B$138,2,FALSE)-$G$7<0,12+VLOOKUP($B47,$A$122:$B$138,2,FALSE)-$G$7,VLOOKUP($B47,$A$122:$B$138,2,FALSE)-$G$7) -> 0 | H47: =VLOOKUP($F$7,$J$101:$V$120,2+$G47,FALSE) -> si | I47: =CONCATENATE($B47," ",$C47) -> A 3 | J47: =A47 -> 37 | K47: =IF($H47="si",IF(VLOOKUP("Grado",$J$100:$V$100,2+$G47,FALSE)=0,VLOOKUP("Grado",$J$100:$V$100,1+$G47,FALSE),VLOOKUP("Grado",$J$100:$V$100,2+$G47,FALSE)),"") -> I Tónica | L47: A | M47: =IFERROR(VLOOKUP(L47,$A$101:$B$105,2,FALSE),L47) -> A
A48: 38 | B48: =IF($G$5=$F$100,IFERROR(IF(VLOOKUP($H$7,lista_bemoles_switch,2,FALSE)="s",M48,L48),L48),IF($G$5=$F$102,M48,L48)) -> A# | C48: 3 | D48: Negra | E48: =$B$7*2^((A48-49)/12) -> 233.08188 | G48: =IF(VLOOKUP($B48,$A$122:$B$138,2,FALSE)-$G$7<0,12+VLOOKUP($B48,$A$122:$B$138,2,FALSE)-$G$7,VLOOKUP($B48,$A$122:$B$138,2,FALSE)-$G$7) -> 1 | H48: =VLOOKUP($F$7,$J$101:$V$120,2+$G48,FALSE) -> no | I48: =CONCATENATE($B48," ",$C48) -> A# 3 | J48: =A48 -> 38 | K48: =IF($H48="si",IF(VLOOKUP("Grado",$J$100:$V$100,2+$G48,FALSE)=0,VLOOKUP("Grado",$J$100:$V$100,1+$G48,FALSE),VLOOKUP("Grado",$J$100:$V$100,2+$G48,FALSE)),"") | L48: A# | M48: =IFERROR(VLOOKUP(L48,$A$101:$B$105,2,FALSE),L48) -> Bb
A49: 39 | B49: =IF($G$5=$F$100,IFERROR(IF(VLOOKUP($H$7,lista_bemoles_switch,2,FALSE)="s",M49,L49),L49),IF($G$5=$F$102,M49,L49)) -> B | C49: 3 | D49: Blanca | E49: =$B$7*2^((A49-49)/12) -> 246.94165 | F49: 2da Cuerda Guitarra (B3) | G49: =IF(VLOOKUP($B49,$A$122:$B$138,2,FALSE)-$G$7<0,12+VLOOKUP($B49,$A$122:$B$138,2,FALSE)-$G$7,VLOOKUP($B49,$A$122:$B$138,2,FALSE)-$G$7) -> 2 | H49: =VLOOKUP($F$7,$J$101:$V$120,2+$G49,FALSE) -> si | I49: =CONCATENATE($B49," ",$C49) -> B 3 | J49: =A49 -> 39 | K49: =IF($H49="si",IF(VLOOKUP("Grado",$J$100:$V$100,2+$G49,FALSE)=0,VLOOKUP("Grado",$J$100:$V$100,1+$G49,FALSE),VLOOKUP("Grado",$J$100:$V$100,2+$G49,FALSE)),"") -> II | L49: B | M49: =IFERROR(VLOOKUP(L49,$A$101:$B$105,2,FALSE),L49) -> B
A50: 40 | B50: =IF($G$5=$F$100,IFERROR(IF(VLOOKUP($H$7,lista_bemoles_switch,2,FALSE)="s",M50,L50),L50),IF($G$5=$F$102,M50,L50)) -> C | C50: 4 | D50: Blanca | E50: =$B$7*2^((A50-49)/12) -> 261.62557 | F50: Do Central (Middle C) | G50: =IF(VLOOKUP($B50,$A$122:$B$138,2,FALSE)-$G$7<0,12+VLOOKUP($B50,$A$122:$B$138,2,FALSE)-$G$7,VLOOKUP($B50,$A$122:$B$138,2,FALSE)-$G$7) -> 3 | H50: =VLOOKUP($F$7,$J$101:$V$120,2+$G50,FALSE) -> no | I50: =CONCATENATE($B50," ",$C50) -> C 4 | J50: =A50 -> 40 | K50: =IF($H50="si",IF(VLOOKUP("Grado",$J$100:$V$100,2+$G50,FALSE)=0,VLOOKUP("Grado",$J$100:$V$100,1+$G50,FALSE),VLOOKUP("Grado",$J$100:$V$100,2+$G50,FALSE)),"") | L50: C | M50: =IFERROR(VLOOKUP(L50,$A$101:$B$105,2,FALSE),L50) -> C
A51: 41 | B51: =IF($G$5=$F$100,IFERROR(IF(VLOOKUP($H$7,lista_bemoles_switch,2,FALSE)="s",M51,L51),L51),IF($G$5=$F$102,M51,L51)) -> C# | C51: 4 | D51: Negra | E51: =$B$7*2^((A51-49)/12) -> 277.18263 | G51: =IF(VLOOKUP($B51,$A$122:$B$138,2,FALSE)-$G$7<0,12+VLOOKUP($B51,$A$122:$B$138,2,FALSE)-$G$7,VLOOKUP($B51,$A$122:$B$138,2,FALSE)-$G$7) -> 4 | H51: =VLOOKUP($F$7,$J$101:$V$120,2+$G51,FALSE) -> si | I51: =CONCATENATE($B51," ",$C51) -> C# 4 | J51: =A51 -> 41 | K51: =IF($H51="si",IF(VLOOKUP("Grado",$J$100:$V$100,2+$G51,FALSE)=0,VLOOKUP("Grado",$J$100:$V$100,1+$G51,FALSE),VLOOKUP("Grado",$J$100:$V$100,2+$G51,FALSE)),"") -> III Tercera | L51: C# | M51: =IFERROR(VLOOKUP(L51,$A$101:$B$105,2,FALSE),L51) -> Db
A52: 42 | B52: =IF($G$5=$F$100,IFERROR(IF(VLOOKUP($H$7,lista_bemoles_switch,2,FALSE)="s",M52,L52),L52),IF($G$5=$F$102,M52,L52)) -> D | C52: 4 | D52: Blanca | E52: =$B$7*2^((A52-49)/12) -> 293.66477 | G52: =IF(VLOOKUP($B52,$A$122:$B$138,2,FALSE)-$G$7<0,12+VLOOKUP($B52,$A$122:$B$138,2,FALSE)-$G$7,VLOOKUP($B52,$A$122:$B$138,2,FALSE)-$G$7) -> 5 | H52: =VLOOKUP($F$7,$J$101:$V$120,2+$G52,FALSE) -> si | I52: =CONCATENATE($B52," ",$C52) -> D 4 | J52: =A52 -> 42 | K52: =IF($H52="si",IF(VLOOKUP("Grado",$J$100:$V$100,2+$G52,FALSE)=0,VLOOKUP("Grado",$J$100:$V$100,1+$G52,FALSE),VLOOKUP("Grado",$J$100:$V$100,2+$G52,FALSE)),"") -> IV Cuarta | L52: D | M52: =IFERROR(VLOOKUP(L52,$A$101:$B$105,2,FALSE),L52) -> D
A53: 43 | B53: =IF($G$5=$F$100,IFERROR(IF(VLOOKUP($H$7,lista_bemoles_switch,2,FALSE)="s",M53,L53),L53),IF($G$5=$F$102,M53,L53)) -> D# | C53: 4 | D53: Negra | E53: =$B$7*2^((A53-49)/12) -> 311.12698 | G53: =IF(VLOOKUP($B53,$A$122:$B$138,2,FALSE)-$G$7<0,12+VLOOKUP($B53,$A$122:$B$138,2,FALSE)-$G$7,VLOOKUP($B53,$A$122:$B$138,2,FALSE)-$G$7) -> 6 | H53: =VLOOKUP($F$7,$J$101:$V$120,2+$G53,FALSE) -> no | I53: =CONCATENATE($B53," ",$C53) -> D# 4 | J53: =A53 -> 43 | K53: =IF($H53="si",IF(VLOOKUP("Grado",$J$100:$V$100,2+$G53,FALSE)=0,VLOOKUP("Grado",$J$100:$V$100,1+$G53,FALSE),VLOOKUP("Grado",$J$100:$V$100,2+$G53,FALSE)),"") | L53: D# | M53: =IFERROR(VLOOKUP(L53,$A$101:$B$105,2,FALSE),L53) -> Eb
A54: 44 | B54: =IF($G$5=$F$100,IFERROR(IF(VLOOKUP($H$7,lista_bemoles_switch,2,FALSE)="s",M54,L54),L54),IF($G$5=$F$102,M54,L54)) -> E | C54: 4 | D54: Blanca | E54: =$B$7*2^((A54-49)/12) -> 329.62756 | F54: 1ra Cuerda Guitarra (E4) | G54: =IF(VLOOKUP($B54,$A$122:$B$138,2,FALSE)-$G$7<0,12+VLOOKUP($B54,$A$122:$B$138,2,FALSE)-$G$7,VLOOKUP($B54,$A$122:$B$138,2,FALSE)-$G$7) -> 7 | H54: =VLOOKUP($F$7,$J$101:$V$120,2+$G54,FALSE) -> si | I54: =CONCATENATE($B54," ",$C54) -> E 4 | J54: =A54 -> 44 | K54: =IF($H54="si",IF(VLOOKUP("Grado",$J$100:$V$100,2+$G54,FALSE)=0,VLOOKUP("Grado",$J$100:$V$100,1+$G54,FALSE),VLOOKUP("Grado",$J$100:$V$100,2+$G54,FALSE)),"") -> V Quinta | L54: E | M54: =IFERROR(VLOOKUP(L54,$A$101:$B$105,2,FALSE),L54) -> E
A55: 45 | B55: =IF($G$5=$F$100,IFERROR(IF(VLOOKUP($H$7,lista_bemoles_switch,2,FALSE)="s",M55,L55),L55),IF($G$5=$F$102,M55,L55)) -> F | C55: 4 | D55: Blanca | E55: =$B$7*2^((A55-49)/12) -> 349.22823 | G55: =IF(VLOOKUP($B55,$A$122:$B$138,2,FALSE)-$G$7<0,12+VLOOKUP($B55,$A$122:$B$138,2,FALSE)-$G$7,VLOOKUP($B55,$A$122:$B$138,2,FALSE)-$G$7) -> 8 | H55: =VLOOKUP($F$7,$J$101:$V$120,2+$G55,FALSE) -> no | I55: =CONCATENATE($B55," ",$C55) -> F 4 | J55: =A55 -> 45 | K55: =IF($H55="si",IF(VLOOKUP("Grado",$J$100:$V$100,2+$G55,FALSE)=0,VLOOKUP("Grado",$J$100:$V$100,1+$G55,FALSE),VLOOKUP("Grado",$J$100:$V$100,2+$G55,FALSE)),"") | L55: F | M55: =IFERROR(VLOOKUP(L55,$A$101:$B$105,2,FALSE),L55) -> F
A56: 46 | B56: =IF($G$5=$F$100,IFERROR(IF(VLOOKUP($H$7,lista_bemoles_switch,2,FALSE)="s",M56,L56),L56),IF($G$5=$F$102,M56,L56)) -> F# | C56: 4 | D56: Negra | E56: =$B$7*2^((A56-49)/12) -> 369.99442 | G56: =IF(VLOOKUP($B56,$A$122:$B$138,2,FALSE)-$G$7<0,12+VLOOKUP($B56,$A$122:$B$138,2,FALSE)-$G$7,VLOOKUP($B56,$A$122:$B$138,2,FALSE)-$G$7) -> 9 | H56: =VLOOKUP($F$7,$J$101:$V$120,2+$G56,FALSE) -> si | I56: =CONCATENATE($B56," ",$C56) -> F# 4 | J56: =A56 -> 46 | K56: =IF($H56="si",IF(VLOOKUP("Grado",$J$100:$V$100,2+$G56,FALSE)=0,VLOOKUP("Grado",$J$100:$V$100,1+$G56,FALSE),VLOOKUP("Grado",$J$100:$V$100,2+$G56,FALSE)),"") -> VI Sexta | L56: F# | M56: =IFERROR(VLOOKUP(L56,$A$101:$B$105,2,FALSE),L56) -> Gb
A57: 47 | B57: =IF($G$5=$F$100,IFERROR(IF(VLOOKUP($H$7,lista_bemoles_switch,2,FALSE)="s",M57,L57),L57),IF($G$5=$F$102,M57,L57)) -> G | C57: 4 | D57: Blanca | E57: =$B$7*2^((A57-49)/12) -> 391.99544 | G57: =IF(VLOOKUP($B57,$A$122:$B$138,2,FALSE)-$G$7<0,12+VLOOKUP($B57,$A$122:$B$138,2,FALSE)-$G$7,VLOOKUP($B57,$A$122:$B$138,2,FALSE)-$G$7) -> 10 | H57: =VLOOKUP($F$7,$J$101:$V$120,2+$G57,FALSE) -> no | I57: =CONCATENATE($B57," ",$C57) -> G 4 | J57: =A57 -> 47 | K57: =IF($H57="si",IF(VLOOKUP("Grado",$J$100:$V$100,2+$G57,FALSE)=0,VLOOKUP("Grado",$J$100:$V$100,1+$G57,FALSE),VLOOKUP("Grado",$J$100:$V$100,2+$G57,FALSE)),"") | L57: G | M57: =IFERROR(VLOOKUP(L57,$A$101:$B$105,2,FALSE),L57) -> G
A58: 48 | B58: =IF($G$5=$F$100,IFERROR(IF(VLOOKUP($H$7,lista_bemoles_switch,2,FALSE)="s",M58,L58),L58),IF($G$5=$F$102,M58,L58)) -> G# | C58: 4 | D58: Negra | E58: =$B$7*2^((A58-49)/12) -> 415.3047 | G58: =IF(VLOOKUP($B58,$A$122:$B$138,2,FALSE)-$G$7<0,12+VLOOKUP($B58,$A$122:$B$138,2,FALSE)-$G$7,VLOOKUP($B58,$A$122:$B$138,2,FALSE)-$G$7) -> 11 | H58: =VLOOKUP($F$7,$J$101:$V$120,2+$G58,FALSE) -> si | I58: =CONCATENATE($B58," ",$C58) -> G# 4 | J58: =A58 -> 48 | K58: =IF($H58="si",IF(VLOOKUP("Grado",$J$100:$V$100,2+$G58,FALSE)=0,VLOOKUP("Grado",$J$100:$V$100,1+$G58,FALSE),VLOOKUP("Grado",$J$100:$V$100,2+$G58,FALSE)),"") -> VII Séptima | L58: G# | M58: =IFERROR(VLOOKUP(L58,$A$101:$B$105,2,FALSE),L58) -> Ab
A59: 49 | B59: =IF($G$5=$F$100,IFERROR(IF(VLOOKUP($H$7,lista_bemoles_switch,2,FALSE)="s",M59,L59),L59),IF($G$5=$F$102,M59,L59)) -> A | C59: 4 | D59: Blanca | E59: =$B$7*2^((A59-49)/12) -> 440 | F59: Referencia Afinación (A= 440) | G59: =IF(VLOOKUP($B59,$A$122:$B$138,2,FALSE)-$G$7<0,12+VLOOKUP($B59,$A$122:$B$138,2,FALSE)-$G$7,VLOOKUP($B59,$A$122:$B$138,2,FALSE)-$G$7) -> 0 | H59: =VLOOKUP($F$7,$J$101:$V$120,2+$G59,FALSE) -> si | I59: =CONCATENATE($B59," ",$C59) -> A 4 | J59: =A59 -> 49 | K59: =IF($H59="si",IF(VLOOKUP("Grado",$J$100:$V$100,2+$G59,FALSE)=0,VLOOKUP("Grado",$J$100:$V$100,1+$G59,FALSE),VLOOKUP("Grado",$J$100:$V$100,2+$G59,FALSE)),"") -> I Tónica | L59: A | M59: =IFERROR(VLOOKUP(L59,$A$101:$B$105,2,FALSE),L59) -> A
A60: 50 | B60: =IF($G$5=$F$100,IFERROR(IF(VLOOKUP($H$7,lista_bemoles_switch,2,FALSE)="s",M60,L60),L60),IF($G$5=$F$102,M60,L60)) -> A# | C60: 4 | D60: Negra | E60: =$B$7*2^((A60-49)/12) -> 466.16376 | G60: =IF(VLOOKUP($B60,$A$122:$B$138,2,FALSE)-$G$7<0,12+VLOOKUP($B60,$A$122:$B$138,2,FALSE)-$G$7,VLOOKUP($B60,$A$122:$B$138,2,FALSE)-$G$7) -> 1 | H60: =VLOOKUP($F$7,$J$101:$V$120,2+$G60,FALSE) -> no | I60: =CONCATENATE($B60," ",$C60) -> A# 4 | J60: =A60 -> 50 | K60: =IF($H60="si",IF(VLOOKUP("Grado",$J$100:$V$100,2+$G60,FALSE)=0,VLOOKUP("Grado",$J$100:$V$100,1+$G60,FALSE),VLOOKUP("Grado",$J$100:$V$100,2+$G60,FALSE)),"") | L60: A# | M60: =IFERROR(VLOOKUP(L60,$A$101:$B$105,2,FALSE),L60) -> Bb
A61: 51 | B61: =IF($G$5=$F$100,IFERROR(IF(VLOOKUP($H$7,lista_bemoles_switch,2,FALSE)="s",M61,L61),L61),IF($G$5=$F$102,M61,L61)) -> B | C61: 4 | D61: Blanca | E61: =$B$7*2^((A61-49)/12) -> 493.8833 | G61: =IF(VLOOKUP($B61,$A$122:$B$138,2,FALSE)-$G$7<0,12+VLOOKUP($B61,$A$122:$B$138,2,FALSE)-$G$7,VLOOKUP($B61,$A$122:$B$138,2,FALSE)-$G$7) -> 2 | H61: =VLOOKUP($F$7,$J$101:$V$120,2+$G61,FALSE) -> si | I61: =CONCATENATE($B61," ",$C61) -> B 4 | J61: =A61 -> 51 | K61: =IF($H61="si",IF(VLOOKUP("Grado",$J$100:$V$100,2+$G61,FALSE)=0,VLOOKUP("Grado",$J$100:$V$100,1+$G61,FALSE),VLOOKUP("Grado",$J$100:$V$100,2+$G61,FALSE)),"") -> II | L61: B | M61: =IFERROR(VLOOKUP(L61,$A$101:$B$105,2,FALSE),L61) -> B
A62: 52 | B62: =IF($G$5=$F$100,IFERROR(IF(VLOOKUP($H$7,lista_bemoles_switch,2,FALSE)="s",M62,L62),L62),IF($G$5=$F$102,M62,L62)) -> C | C62: 5 | D62: Blanca | E62: =$B$7*2^((A62-49)/12) -> 523.25113 | G62: =IF(VLOOKUP($B62,$A$122:$B$138,2,FALSE)-$G$7<0,12+VLOOKUP($B62,$A$122:$B$138,2,FALSE)-$G$7,VLOOKUP($B62,$A$122:$B$138,2,FALSE)-$G$7) -> 3 | H62: =VLOOKUP($F$7,$J$101:$V$120,2+$G62,FALSE) -> no | I62: =CONCATENATE($B62," ",$C62) -> C 5 | J62: =A62 -> 52 | K62: =IF($H62="si",IF(VLOOKUP("Grado",$J$100:$V$100,2+$G62,FALSE)=0,VLOOKUP("Grado",$J$100:$V$100,1+$G62,FALSE),VLOOKUP("Grado",$J$100:$V$100,2+$G62,FALSE)),"") | L62: C | M62: =IFERROR(VLOOKUP(L62,$A$101:$B$105,2,FALSE),L62) -> C
A63: 53 | B63: =IF($G$5=$F$100,IFERROR(IF(VLOOKUP($H$7,lista_bemoles_switch,2,FALSE)="s",M63,L63),L63),IF($G$5=$F$102,M63,L63)) -> C# | C63: 5 | D63: Negra | E63: =$B$7*2^((A63-49)/12) -> 554.36526 | G63: =IF(VLOOKUP($B63,$A$122:$B$138,2,FALSE)-$G$7<0,12+VLOOKUP($B63,$A$122:$B$138,2,FALSE)-$G$7,VLOOKUP($B63,$A$122:$B$138,2,FALSE)-$G$7) -> 4 | H63: =VLOOKUP($F$7,$J$101:$V$120,2+$G63,FALSE) -> si | I63: =CONCATENATE($B63," ",$C63) -> C# 5 | J63: =A63 -> 53 | K63: =IF($H63="si",IF(VLOOKUP("Grado",$J$100:$V$100,2+$G63,FALSE)=0,VLOOKUP("Grado",$J$100:$V$100,1+$G63,FALSE),VLOOKUP("Grado",$J$100:$V$100,2+$G63,FALSE)),"") -> III Tercera | L63: C# | M63: =IFERROR(VLOOKUP(L63,$A$101:$B$105,2,FALSE),L63) -> Db
A64: 54 | B64: =IF($G$5=$F$100,IFERROR(IF(VLOOKUP($H$7,lista_bemoles_switch,2,FALSE)="s",M64,L64),L64),IF($G$5=$F$102,M64,L64)) -> D | C64: 5 | D64: Blanca | E64: =$B$7*2^((A64-49)/12) -> 587.32954 | G64: =IF(VLOOKUP($B64,$A$122:$B$138,2,FALSE)-$G$7<0,12+VLOOKUP($B64,$A$122:$B$138,2,FALSE)-$G$7,VLOOKUP($B64,$A$122:$B$138,2,FALSE)-$G$7) -> 5 | H64: =VLOOKUP($F$7,$J$101:$V$120,2+$G64,FALSE) -> si | I64: =CONCATENATE($B64," ",$C64) -> D 5 | J64: =A64 -> 54 | K64: =IF($H64="si",IF(VLOOKUP("Grado",$J$100:$V$100,2+$G64,FALSE)=0,VLOOKUP("Grado",$J$100:$V$100,1+$G64,FALSE),VLOOKUP("Grado",$J$100:$V$100,2+$G64,FALSE)),"") -> IV Cuarta | L64: D | M64: =IFERROR(VLOOKUP(L64,$A$101:$B$105,2,FALSE),L64) -> D
A65: 55 | B65: =IF($G$5=$F$100,IFERROR(IF(VLOOKUP($H$7,lista_bemoles_switch,2,FALSE)="s",M65,L65),L65),IF($G$5=$F$102,M65,L65)) -> D# | C65: 5 | D65: Negra | E65: =$B$7*2^((A65-49)/12) -> 622.25397 | G65: =IF(VLOOKUP($B65,$A$122:$B$138,2,FALSE)-$G$7<0,12+VLOOKUP($B65,$A$122:$B$138,2,FALSE)-$G$7,VLOOKUP($B65,$A$122:$B$138,2,FALSE)-$G$7) -> 6 | H65: =VLOOKUP($F$7,$J$101:$V$120,2+$G65,FALSE) -> no | I65: =CONCATENATE($B65," ",$C65) -> D# 5 | J65: =A65 -> 55 | K65: =IF($H65="si",IF(VLOOKUP("Grado",$J$100:$V$100,2+$G65,FALSE)=0,VLOOKUP("Grado",$J$100:$V$100,1+$G65,FALSE),VLOOKUP("Grado",$J$100:$V$100,2+$G65,FALSE)),"") | L65: D# | M65: =IFERROR(VLOOKUP(L65,$A$101:$B$105,2,FALSE),L65) -> Eb
A66: 56 | B66: =IF($G$5=$F$100,IFERROR(IF(VLOOKUP($H$7,lista_bemoles_switch,2,FALSE)="s",M66,L66),L66),IF($G$5=$F$102,M66,L66)) -> E | C66: 5 | D66: Blanca | E66: =$B$7*2^((A66-49)/12) -> 659.25511 | G66: =IF(VLOOKUP($B66,$A$122:$B$138,2,FALSE)-$G$7<0,12+VLOOKUP($B66,$A$122:$B$138,2,FALSE)-$G$7,VLOOKUP($B66,$A$122:$B$138,2,FALSE)-$G$7) -> 7 | H66: =VLOOKUP($F$7,$J$101:$V$120,2+$G66,FALSE) -> si | I66: =CONCATENATE($B66," ",$C66) -> E 5 | J66: =A66 -> 56 | K66: =IF($H66="si",IF(VLOOKUP("Grado",$J$100:$V$100,2+$G66,FALSE)=0,VLOOKUP("Grado",$J$100:$V$100,1+$G66,FALSE),VLOOKUP("Grado",$J$100:$V$100,2+$G66,FALSE)),"") -> V Quinta | L66: E | M66: =IFERROR(VLOOKUP(L66,$A$101:$B$105,2,FALSE),L66) -> E
A67: 57 | B67: =IF($G$5=$F$100,IFERROR(IF(VLOOKUP($H$7,lista_bemoles_switch,2,FALSE)="s",M67,L67),L67),IF($G$5=$F$102,M67,L67)) -> F | C67: 5 | D67: Blanca | E67: =$B$7*2^((A67-49)/12) -> 698.45646 | G67: =IF(VLOOKUP($B67,$A$122:$B$138,2,FALSE)-$G$7<0,12+VLOOKUP($B67,$A$122:$B$138,2,FALSE)-$G$7,VLOOKUP($B67,$A$122:$B$138,2,FALSE)-$G$7) -> 8 | H67: =VLOOKUP($F$7,$J$101:$V$120,2+$G67,FALSE) -> no | I67: =CONCATENATE($B67," ",$C67) -> F 5 | J67: =A67 -> 57 | K67: =IF($H67="si",IF(VLOOKUP("Grado",$J$100:$V$100,2+$G67,FALSE)=0,VLOOKUP("Grado",$J$100:$V$100,1+$G67,FALSE),VLOOKUP("Grado",$J$100:$V$100,2+$G67,FALSE)),"") | L67: F | M67: =IFERROR(VLOOKUP(L67,$A$101:$B$105,2,FALSE),L67) -> F
A68: 58 | B68: =IF($G$5=$F$100,IFERROR(IF(VLOOKUP($H$7,lista_bemoles_switch,2,FALSE)="s",M68,L68),L68),IF($G$5=$F$102,M68,L68)) -> F# | C68: 5 | D68: Negra | E68: =$B$7*2^((A68-49)/12) -> 739.98885 | G68: =IF(VLOOKUP($B68,$A$122:$B$138,2,FALSE)-$G$7<0,12+VLOOKUP($B68,$A$122:$B$138,2,FALSE)-$G$7,VLOOKUP($B68,$A$122:$B$138,2,FALSE)-$G$7) -> 9 | H68: =VLOOKUP($F$7,$J$101:$V$120,2+$G68,FALSE) -> si | I68: =CONCATENATE($B68," ",$C68) -> F# 5 | J68: =A68 -> 58 | K68: =IF($H68="si",IF(VLOOKUP("Grado",$J$100:$V$100,2+$G68,FALSE)=0,VLOOKUP("Grado",$J$100:$V$100,1+$G68,FALSE),VLOOKUP("Grado",$J$100:$V$100,2+$G68,FALSE)),"") -> VI Sexta | L68: F# | M68: =IFERROR(VLOOKUP(L68,$A$101:$B$105,2,FALSE),L68) -> Gb
A69: 59 | B69: =IF($G$5=$F$100,IFERROR(IF(VLOOKUP($H$7,lista_bemoles_switch,2,FALSE)="s",M69,L69),L69),IF($G$5=$F$102,M69,L69)) -> G | C69: 5 | D69: Blanca | E69: =$B$7*2^((A69-49)/12) -> 783.99087 | G69: =IF(VLOOKUP($B69,$A$122:$B$138,2,FALSE)-$G$7<0,12+VLOOKUP($B69,$A$122:$B$138,2,FALSE)-$G$7,VLOOKUP($B69,$A$122:$B$138,2,FALSE)-$G$7) -> 10 | H69: =VLOOKUP($F$7,$J$101:$V$120,2+$G69,FALSE) -> no | I69: =CONCATENATE($B69," ",$C69) -> G 5 | J69: =A69 -> 59 | K69: =IF($H69="si",IF(VLOOKUP("Grado",$J$100:$V$100,2+$G69,FALSE)=0,VLOOKUP("Grado",$J$100:$V$100,1+$G69,FALSE),VLOOKUP("Grado",$J$100:$V$100,2+$G69,FALSE)),"") | L69: G | M69: =IFERROR(VLOOKUP(L69,$A$101:$B$105,2,FALSE),L69) -> G
A70: 60 | B70: =IF($G$5=$F$100,IFERROR(IF(VLOOKUP($H$7,lista_bemoles_switch,2,FALSE)="s",M70,L70),L70),IF($G$5=$F$102,M70,L70)) -> G# | C70: 5 | D70: Negra | E70: =$B$7*2^((A70-49)/12) -> 830.6094 | G70: =IF(VLOOKUP($B70,$A$122:$B$138,2,FALSE)-$G$7<0,12+VLOOKUP($B70,$A$122:$B$138,2,FALSE)-$G$7,VLOOKUP($B70,$A$122:$B$138,2,FALSE)-$G$7) -> 11 | H70: =VLOOKUP($F$7,$J$101:$V$120,2+$G70,FALSE) -> si | I70: =CONCATENATE($B70," ",$C70) -> G# 5 | J70: =A70 -> 60 | K70: =IF($H70="si",IF(VLOOKUP("Grado",$J$100:$V$100,2+$G70,FALSE)=0,VLOOKUP("Grado",$J$100:$V$100,1+$G70,FALSE),VLOOKUP("Grado",$J$100:$V$100,2+$G70,FALSE)),"") -> VII Séptima | L70: G# | M70: =IFERROR(VLOOKUP(L70,$A$101:$B$105,2,FALSE),L70) -> Ab
A71: 61 | B71: =IF($G$5=$F$100,IFERROR(IF(VLOOKUP($H$7,lista_bemoles_switch,2,FALSE)="s",M71,L71),L71),IF($G$5=$F$102,M71,L71)) -> A | C71: 5 | D71: Blanca | E71: =$B$7*2^((A71-49)/12) -> 880 | G71: =IF(VLOOKUP($B71,$A$122:$B$138,2,FALSE)-$G$7<0,12+VLOOKUP($B71,$A$122:$B$138,2,FALSE)-$G$7,VLOOKUP($B71,$A$122:$B$138,2,FALSE)-$G$7) -> 0 | H71: =VLOOKUP($F$7,$J$101:$V$120,2+$G71,FALSE) -> si | I71: =CONCATENATE($B71," ",$C71) -> A 5 | J71: =A71 -> 61 | K71: =IF($H71="si",IF(VLOOKUP("Grado",$J$100:$V$100,2+$G71,FALSE)=0,VLOOKUP("Grado",$J$100:$V$100,1+$G71,FALSE),VLOOKUP("Grado",$J$100:$V$100,2+$G71,FALSE)),"") -> I Tónica | L71: A | M71: =IFERROR(VLOOKUP(L71,$A$101:$B$105,2,FALSE),L71) -> A
... A77: 67 | B77: =IF($G$5=$F$100,IFERROR(IF(VLOOKUP($H$7,lista_bemoles_switch,2,FALSE)="s",M77,L77),L77),IF($G$5=$F$102,M77,L77)) -> D# | C77: 6 | D77: Negra | E77: =$B$7*2^((A77-49)/12) -> 1244.5079 | G77: =IF(VLOOKUP($B77,$A$122:$B$138,2,FALSE)-$G$7<0,12+VLOOKUP($B77,$A$122:$B$138,2,FALSE)-$G$7,VLOOKUP($B77,$A$122:$B$138,2,FALSE)-$G$7) -> 6 | H77: =VLOOKUP($F$7,$J$101:$V$120,2+$G77,FALSE) -> no | I77: =CONCATENATE($B77," ",$C77) -> D# 6 | J77: =A77 -> 67 | K77: =IF($H77="si",IF(VLOOKUP("Grado",$J$100:$V$100,2+$G77,FALSE)=0,VLOOKUP("Grado",$J$100:$V$100,1+$G77,FALSE),VLOOKUP("Grado",$J$100:$V$100,2+$G77,FALSE)),"") | L77: D# | M77: =IFERROR(VLOOKUP(L77,$A$101:$B$105,2,FALSE),L77) -> Eb
A78: 68 | B78: =IF($G$5=$F$100,IFERROR(IF(VLOOKUP($H$7,lista_bemoles_switch,2,FALSE)="s",M78,L78),L78),IF($G$5=$F$102,M78,L78)) -> E | C78: 6 | D78: Blanca | E78: =$B$7*2^((A78-49)/12) -> 1318.5102 | F78: Nota más aguda de guitarra | G78: =IF(VLOOKUP($B78,$A$122:$B$138,2,FALSE)-$G$7<0,12+VLOOKUP($B78,$A$122:$B$138,2,FALSE)-$G$7,VLOOKUP($B78,$A$122:$B$138,2,FALSE)-$G$7) -> 7 | H78: =VLOOKUP($F$7,$J$101:$V$120,2+$G78,FALSE) -> si | I78: =CONCATENATE($B78," ",$C78) -> E 6 | J78: =A78 -> 68 | K78: =IF($H78="si",IF(VLOOKUP("Grado",$J$100:$V$100,2+$G78,FALSE)=0,VLOOKUP("Grado",$J$100:$V$100,1+$G78,FALSE),VLOOKUP("Grado",$J$100:$V$100,2+$G78,FALSE)),"") -> V Quinta | L78: E | M78: =IFERROR(VLOOKUP(L78,$A$101:$B$105,2,FALSE),L78) -> E
A79: 69 | B79: =IF($G$5=$F$100,IFERROR(IF(VLOOKUP($H$7,lista_bemoles_switch,2,FALSE)="s",M79,L79),L79),IF($G$5=$F$102,M79,L79)) -> F | C79: 6 | D79: Blanca | E79: =$B$7*2^((A79-49)/12) -> 1396.9129 | G79: =IF(VLOOKUP($B79,$A$122:$B$138,2,FALSE)-$G$7<0,12+VLOOKUP($B79,$A$122:$B$138,2,FALSE)-$G$7,VLOOKUP($B79,$A$122:$B$138,2,FALSE)-$G$7) -> 8 | H79: =VLOOKUP($F$7,$J$101:$V$120,2+$G79,FALSE) -> no | I79: =CONCATENATE($B79," ",$C79) -> F 6 | J79: =A79 -> 69 | K79: =IF($H79="si",IF(VLOOKUP("Grado",$J$100:$V$100,2+$G79,FALSE)=0,VLOOKUP("Grado",$J$100:$V$100,1+$G79,FALSE),VLOOKUP("Grado",$J$100:$V$100,2+$G79,FALSE)),"") | L79: F | M79: =IFERROR(VLOOKUP(L79,$A$101:$B$105,2,FALSE),L79) -> F
A80: 70 | B80: =IF($G$5=$F$100,IFERROR(IF(VLOOKUP($H$7,lista_bemoles_switch,2,FALSE)="s",M80,L80),L80),IF($G$5=$F$102,M80,L80)) -> F# | C80: 6 | D80: Negra | E80: =$B$7*2^((A80-49)/12) -> 1479.9777 | G80: =IF(VLOOKUP($B80,$A$122:$B$138,2,FALSE)-$G$7<0,12+VLOOKUP($B80,$A$122:$B$138,2,FALSE)-$G$7,VLOOKUP($B80,$A$122:$B$138,2,FALSE)-$G$7) -> 9 | H80: =VLOOKUP($F$7,$J$101:$V$120,2+$G80,FALSE) -> si | I80: =CONCATENATE($B80," ",$C80) -> F# 6 | J80: =A80 -> 70 | K80: =IF($H80="si",IF(VLOOKUP("Grado",$J$100:$V$100,2+$G80,FALSE)=0,VLOOKUP("Grado",$J$100:$V$100,1+$G80,FALSE),VLOOKUP("Grado",$J$100:$V$100,2+$G80,FALSE)),"") -> VI Sexta | L80: F# | M80: =IFERROR(VLOOKUP(L80,$A$101:$B$105,2,FALSE),L80) -> Gb
A81: 71 | B81: =IF($G$5=$F$100,IFERROR(IF(VLOOKUP($H$7,lista_bemoles_switch,2,FALSE)="s",M81,L81),L81),IF($G$5=$F$102,M81,L81)) -> G | C81: 6 | D81: Blanca | E81: =$B$7*2^((A81-49)/12) -> 1567.9817 | G81: =IF(VLOOKUP($B81,$A$122:$B$138,2,FALSE)-$G$7<0,12+VLOOKUP($B81,$A$122:$B$138,2,FALSE)-$G$7,VLOOKUP($B81,$A$122:$B$138,2,FALSE)-$G$7) -> 10 | H81: =VLOOKUP($F$7,$J$101:$V$120,2+$G81,FALSE) -> no | I81: =CONCATENATE($B81," ",$C81) -> G 6 | J81: =A81 -> 71 | K81: =IF($H81="si",IF(VLOOKUP("Grado",$J$100:$V$100,2+$G81,FALSE)=0,VLOOKUP("Grado",$J$100:$V$100,1+$G81,FALSE),VLOOKUP("Grado",$J$100:$V$100,2+$G81,FALSE)),"") | L81: G | M81: =IFERROR(VLOOKUP(L81,$A$101:$B$105,2,FALSE),L81) -> G
A82: 72 | B82: =IF($G$5=$F$100,IFERROR(IF(VLOOKUP($H$7,lista_bemoles_switch,2,FALSE)="s",M82,L82),L82),IF($G$5=$F$102,M82,L82)) -> G# | C82: 6 | D82: Negra | E82: =$B$7*2^((A82-49)/12) -> 1661.2188 | G82: =IF(VLOOKUP($B82,$A$122:$B$138,2,FALSE)-$G$7<0,12+VLOOKUP($B82,$A$122:$B$138,2,FALSE)-$G$7,VLOOKUP($B82,$A$122:$B$138,2,FALSE)-$G$7) -> 11 | H82: =VLOOKUP($F$7,$J$101:$V$120,2+$G82,FALSE) -> si | I82: =CONCATENATE($B82," ",$C82) -> G# 6 | J82: =A82 -> 72 | K82: =IF($H82="si",IF(VLOOKUP("Grado",$J$100:$V$100,2+$G82,FALSE)=0,VLOOKUP("Grado",$J$100:$V$100,1+$G82,FALSE),VLOOKUP("Grado",$J$100:$V$100,2+$G82,FALSE)),"") -> VII Séptima | L82: G# | M82: =IFERROR(VLOOKUP(L82,$A$101:$B$105,2,FALSE),L82) -> Ab
A83: 73 | B83: =IF($G$5=$F$100,IFERROR(IF(VLOOKUP($H$7,lista_bemoles_switch,2,FALSE)="s",M83,L83),L83),IF($G$5=$F$102,M83,L83)) -> A | C83: 6 | D83: Blanca | E83: =$B$7*2^((A83-49)/12) -> 1760 | G83: =IF(VLOOKUP($B83,$A$122:$B$138,2,FALSE)-$G$7<0,12+VLOOKUP($B83,$A$122:$B$138,2,FALSE)-$G$7,VLOOKUP($B83,$A$122:$B$138,2,FALSE)-$G$7) -> 0 | H83: =VLOOKUP($F$7,$J$101:$V$120,2+$G83,FALSE) -> si | I83: =CONCATENATE($B83," ",$C83) -> A 6 | J83: =A83 -> 73 | K83: =IF($H83="si",IF(VLOOKUP("Grado",$J$100:$V$100,2+$G83,FALSE)=0,VLOOKUP("Grado",$J$100:$V$100,1+$G83,FALSE),VLOOKUP("Grado",$J$100:$V$100,2+$G83,FALSE)),"") -> I Tónica | L83: A | M83: =IFERROR(VLOOKUP(L83,$A$101:$B$105,2,FALSE),L83) -> A
A84: 74 | B84: =IF($G$5=$F$100,IFERROR(IF(VLOOKUP($H$7,lista_bemoles_switch,2,FALSE)="s",M84,L84),L84),IF($G$5=$F$102,M84,L84)) -> A# | C84: 6 | D84: Negra | E84: =$B$7*2^((A84-49)/12) -> 1864.655 | G84: =IF(VLOOKUP($B84,$A$122:$B$138,2,FALSE)-$G$7<0,12+VLOOKUP($B84,$A$122:$B$138,2,FALSE)-$G$7,VLOOKUP($B84,$A$122:$B$138,2,FALSE)-$G$7) -> 1 | H84: =VLOOKUP($F$7,$J$101:$V$120,2+$G84,FALSE) -> no | I84: =CONCATENATE($B84," ",$C84) -> A# 6 | J84: =A84 -> 74 | K84: =IF($H84="si",IF(VLOOKUP("Grado",$J$100:$V$100,2+$G84,FALSE)=0,VLOOKUP("Grado",$J$100:$V$100,1+$G84,FALSE),VLOOKUP("Grado",$J$100:$V$100,2+$G84,FALSE)),"") | L84: A# | M84: =IFERROR(VLOOKUP(L84,$A$101:$B$105,2,FALSE),L84) -> Bb
A85: 75 | B85: =IF($G$5=$F$100,IFERROR(IF(VLOOKUP($H$7,lista_bemoles_switch,2,FALSE)="s",M85,L85),L85),IF($G$5=$F$102,M85,L85)) -> B | C85: 6 | D85: Blanca | E85: =$B$7*2^((A85-49)/12) -> 1975.5332 | G85: =IF(VLOOKUP($B85,$A$122:$B$138,2,FALSE)-$G$7<0,12+VLOOKUP($B85,$A$122:$B$138,2,FALSE)-$G$7,VLOOKUP($B85,$A$122:$B$138,2,FALSE)-$G$7) -> 2 | H85: =VLOOKUP($F$7,$J$101:$V$120,2+$G85,FALSE) -> si | I85: =CONCATENATE($B85," ",$C85) -> B 6 | J85: =A85 -> 75 | K85: =IF($H85="si",IF(VLOOKUP("Grado",$J$100:$V$100,2+$G85,FALSE)=0,VLOOKUP("Grado",$J$100:$V$100,1+$G85,FALSE),VLOOKUP("Grado",$J$100:$V$100,2+$G85,FALSE)),"") -> II | L85: B | M85: =IFERROR(VLOOKUP(L85,$A$101:$B$105,2,FALSE),L85) -> B
A86: 76 | B86: =IF($G$5=$F$100,IFERROR(IF(VLOOKUP($H$7,lista_bemoles_switch,2,FALSE)="s",M86,L86),L86),IF($G$5=$F$102,M86,L86)) -> C | C86: 7 | D86: Blanca | E86: =$B$7*2^((A86-49)/12) -> 2093.0045 | G86: =IF(VLOOKUP($B86,$A$122:$B$138,2,FALSE)-$G$7<0,12+VLOOKUP($B86,$A$122:$B$138,2,FALSE)-$G$7,VLOOKUP($B86,$A$122:$B$138,2,FALSE)-$G$7) -> 3 | H86: =VLOOKUP($F$7,$J$101:$V$120,2+$G86,FALSE) -> no | I86: =CONCATENATE($B86," ",$C86) -> C 7 | J86: =A86 -> 76 | K86: =IF($H86="si",IF(VLOOKUP("Grado",$J$100:$V$100,2+$G86,FALSE)=0,VLOOKUP("Grado",$J$100:$V$100,1+$G86,FALSE),VLOOKUP("Grado",$J$100:$V$100,2+$G86,FALSE)),"") | L86: C | M86: =IFERROR(VLOOKUP(L86,$A$101:$B$105,2,FALSE),L86) -> C
A87: 77 | B87: =IF($G$5=$F$100,IFERROR(IF(VLOOKUP($H$7,lista_bemoles_switch,2,FALSE)="s",M87,L87),L87),IF($G$5=$F$102,M87,L87)) -> C# | C87: 7 | D87: Negra | E87: =$B$7*2^((A87-49)/12) -> 2217.461 | G87: =IF(VLOOKUP($B87,$A$122:$B$138,2,FALSE)-$G$7<0,12+VLOOKUP($B87,$A$122:$B$138,2,FALSE)-$G$7,VLOOKUP($B87,$A$122:$B$138,2,FALSE)-$G$7) -> 4 | H87: =VLOOKUP($F$7,$J$101:$V$120,2+$G87,FALSE) -> si | I87: =CONCATENATE($B87," ",$C87) -> C# 7 | J87: =A87 -> 77 | K87: =IF($H87="si",IF(VLOOKUP("Grado",$J$100:$V$100,2+$G87,FALSE)=0,VLOOKUP("Grado",$J$100:$V$100,1+$G87,FALSE),VLOOKUP("Grado",$J$100:$V$100,2+$G87,FALSE)),"") -> III Tercera | L87: C# | M87: =IFERROR(VLOOKUP(L87,$A$101:$B$105,2,FALSE),L87) -> Db
A88: 78 | B88: =IF($G$5=$F$100,IFERROR(IF(VLOOKUP($H$7,lista_bemoles_switch,2,FALSE)="s",M88,L88),L88),IF($G$5=$F$102,M88,L88)) -> D | C88: 7 | D88: Blanca | E88: =$B$7*2^((A88-49)/12) -> 2349.3181 | G88: =IF(VLOOKUP($B88,$A$122:$B$138,2,FALSE)-$G$7<0,12+VLOOKUP($B88,$A$122:$B$138,2,FALSE)-$G$7,VLOOKUP($B88,$A$122:$B$138,2,FALSE)-$G$7) -> 5 | H88: =VLOOKUP($F$7,$J$101:$V$120,2+$G88,FALSE) -> si | I88: =CONCATENATE($B88," ",$C88) -> D 7 | J88: =A88 -> 78 | K88: =IF($H88="si",IF(VLOOKUP("Grado",$J$100:$V$100,2+$G88,FALSE)=0,VLOOKUP("Grado",$J$100:$V$100,1+$G88,FALSE),VLOOKUP("Grado",$J$100:$V$100,2+$G88,FALSE)),"") -> IV Cuarta | L88: D | M88: =IFERROR(VLOOKUP(L88,$A$101:$B$105,2,FALSE),L88) -> D
A89: 79 | B89: =IF($G$5=$F$100,IFERROR(IF(VLOOKUP($H$7,lista_bemoles_switch,2,FALSE)="s",M89,L89),L89),IF($G$5=$F$102,M89,L89)) -> D# | C89: 7 | D89: Negra | E89: =$B$7*2^((A89-49)/12) -> 2489.0159 | G89: =IF(VLOOKUP($B89,$A$122:$B$138,2,FALSE)-$G$7<0,12+VLOOKUP($B89,$A$122:$B$138,2,FALSE)-$G$7,VLOOKUP($B89,$A$122:$B$138,2,FALSE)-$G$7) -> 6 | H89: =VLOOKUP($F$7,$J$101:$V$120,2+$G89,FALSE) -> no | I89: =CONCATENATE($B89," ",$C89) -> D# 7 | J89: =A89 -> 79 | K89: =IF($H89="si",IF(VLOOKUP("Grado",$J$100:$V$100,2+$G89,FALSE)=0,VLOOKUP("Grado",$J$100:$V$100,1+$G89,FALSE),VLOOKUP("Grado",$J$100:$V$100,2+$G89,FALSE)),"") | L89: D# | M89: =IFERROR(VLOOKUP(L89,$A$101:$B$105,2,FALSE),L89) -> Eb
A90: 80 | B90: =IF($G$5=$F$100,IFERROR(IF(VLOOKUP($H$7,lista_bemoles_switch,2,FALSE)="s",M90,L90),L90),IF($G$5=$F$102,M90,L90)) -> E | C90: 7 | D90: Blanca | E90: =$B$7*2^((A90-49)/12) -> 2637.0205 | G90: =IF(VLOOKUP($B90,$A$122:$B$138,2,FALSE)-$G$7<0,12+VLOOKUP($B90,$A$122:$B$138,2,FALSE)-$G$7,VLOOKUP($B90,$A$122:$B$138,2,FALSE)-$G$7) -> 7 | H90: =VLOOKUP($F$7,$J$101:$V$120,2+$G90,FALSE) -> si | I90: =CONCATENATE($B90," ",$C90) -> E 7 | J90: =A90 -> 80 | K90: =IF($H90="si",IF(VLOOKUP("Grado",$J$100:$V$100,2+$G90,FALSE)=0,VLOOKUP("Grado",$J$100:$V$100,1+$G90,FALSE),VLOOKUP("Grado",$J$100:$V$100,2+$G90,FALSE)),"") -> V Quinta | L90: E | M90: =IFERROR(VLOOKUP(L90,$A$101:$B$105,2,FALSE),L90) -> E
... A97: 87 | B97: =IF($G$5=$F$100,IFERROR(IF(VLOOKUP($H$7,lista_bemoles_switch,2,FALSE)="s",M97,L97),L97),IF($G$5=$F$102,M97,L97)) -> B | C97: 7 | D97: Blanca | E97: =$B$7*2^((A97-49)/12) -> 3951.0664 | G97: =IF(VLOOKUP($B97,$A$122:$B$138,2,FALSE)-$G$7<0,12+VLOOKUP($B97,$A$122:$B$138,2,FALSE)-$G$7,VLOOKUP($B97,$A$122:$B$138,2,FALSE)-$G$7) -> 2 | H97: =VLOOKUP($F$7,$J$101:$V$120,2+$G97,FALSE) -> si | I97: =CONCATENATE($B97," ",$C97) -> B 7 | J97: =A97 -> 87 | K97: =IF($H97="si",IF(VLOOKUP("Grado",$J$100:$V$100,2+$G97,FALSE)=0,VLOOKUP("Grado",$J$100:$V$100,1+$G97,FALSE),VLOOKUP("Grado",$J$100:$V$100,2+$G97,FALSE)),"") -> II | L97: B | M97: =IFERROR(VLOOKUP(L97,$A$101:$B$105,2,FALSE),L97) -> B
A98: 88 | B98: =IF($G$5=$F$100,IFERROR(IF(VLOOKUP($H$7,lista_bemoles_switch,2,FALSE)="s",M98,L98),L98),IF($G$5=$F$102,M98,L98)) -> C | C98: 8 | D98: Blanca | E98: =$B$7*2^((A98-49)/12) -> 4186.009 | F98: Límite Superior | G98: =IF(VLOOKUP($B98,$A$122:$B$138,2,FALSE)-$G$7<0,12+VLOOKUP($B98,$A$122:$B$138,2,FALSE)-$G$7,VLOOKUP($B98,$A$122:$B$138,2,FALSE)-$G$7) -> 3 | H98: =VLOOKUP($F$7,$J$101:$V$120,2+$G98,FALSE) -> no | I98: =CONCATENATE($B98," ",$C98) -> C 8 | J98: =A98 -> 88 | K98: =IF($H98="si",IF(VLOOKUP("Grado",$J$100:$V$100,2+$G98,FALSE)=0,VLOOKUP("Grado",$J$100:$V$100,1+$G98,FALSE),VLOOKUP("Grado",$J$100:$V$100,2+$G98,FALSE)),"") | L98: C | M98: =IFERROR(VLOOKUP(L98,$A$101:$B$105,2,FALSE),L98) -> C
A100: Enarmonías | D100: Visualizadores | F100: Auto (Teórico) | J100: Grado | K100: I Tónica | L100: II | N100: III Tercera | P100: IV Cuarta | Q100: V dis | R100: V Quinta | S100: VI Sexta | U100: VII Séptima | W100: nom | Y100: I | Z100: II | AA100: I | AB100: II | AC100: I | AD100: II | AE100: I
A101: F# | B101: Gb | D101: GTR | F101: Forzar # | J101: Cromático | K101: si | L101: si | M101: si | N101: si | O101: si | P101: si | Q101: si | R101: si | S101: si | T101: si | U101: si | V101: si | W101: chrom | X101: El espectro total. Contiene todos los sonidos disponibles en el sistema occidental. Es la base de los ejercicios de técnica y el mapa completo del diapasón.
A102: C# | B102: Db | D102: PIANO | F102: Forzar b | J102: Mayor | K102: si | L102: no | M102: si | N102: no | O102: si | P102: si | Q102: no | R102: si | S102: no | T102: si | U102: no | V102: si | W102: maj | X102: El estándar de oro, la escala reina: Ocupa los 7 grados I II III IV V VI VII. Es la escala base de la música occidental; brillante, estable y equilibrada. Día soleado.
A103: G# | B103: Ab | J103: Penta Mayor | K103: si | L103: no | M103: si | N103: no | O103: si | P103: no | Q103: no | R103: si | S103: no | T103: si | U103: no | V103: no | W103: pent maj | X103: Misticismo oriental. Elimina tensiones grados IV y VII, sonoridad fluida y etérea. Evoca paz de un jardín zen y melodías tradicionales de Asia.
A104: D# | B104: Eb | J104: Mayor armónica | K104: si | L104: no | M104: si | N104: no | O104: si | P104: si | Q104: no | R104: si | S104: si | T104: no | U104: no | V104: si | W104: maj harm | X104: Es como la Mayor, pero con una sonoridad más dramática por su sexta menor (+8).
A105: A# | B105: Bb | J105: Menor | K105: si | L105: no | M105: si | N105: si | O105: no | P105: si | Q105: no | R105: si | S105: si | T105: no | U105: si | V105: no | W105: m | X105: Es el espejo melancólico de la mayor; suena seria, reflexiva y triste. Es la banda sonora ideal para una tarde lluviosa o un momento de introspección.
J106: Penta menor | K106: si | L106: no | M106: no | N106: si | O106: no | P106: si | Q106: no | R106: si | S106: no | T106: no | U106: si | V106: no | W106: pent min | X106: Es la escala más utilizada en la guitarra eléctrica. Directa y poderosa; es la base fundamental para el rock y los solos legendarios de los años 70.
J107: Penta menor blues | K107: si | L107: no | M107: no | N107: si | O107: no | P107: si | Q107: si | R107: si | S107: no | T107: no | U107: si | V107: no | W107: blues | X107: Penta menor + la famosa Blue Note (+6) que imita el llanto o el quejido humano, visceral y honesto, como una charla de madrugada en un bar de jazz.
J108: Menor melódica (jazz) | K108: si | L108: no | M108: si | N108: si | O108: no | P108: si | Q108: no | R108: si | S108: no | T108: si | U108: no | V108: si | W108: mel min | X108: Final de Mayor pero inicio menor, sofisticada y moderna. Es la herramienta favorita para la improvisación avanzada y el jazz.
J109: Menor armónica (arab) | K109: si | L109: no | M109: si | N109: si | O109: no | P109: si | Q109: no | R109: si | S109: si | T109: no | U109: no | V109: si | W109: harm min | X109: El salto de 1.5 tonos entre el grado VI y VII crea un sonido exótico y misterioso. Evoca de inmediato desiertos, leyendas antiguas y melodías de Oriente Medio.
J110: Dórica (Funk/Jazz) | K110: si | L110: no | M110: si | N110: si | O110: no | P110: si | Q110: no | R110: si | S110: no | T110: si | U110: si | V110: no | W110: dor | X110: Escala menor más "sofisticada". VI Sexta mayor (+9 en lugar de +8), suena menos triste y más "cool" o brillante. Santana, Daft Punk.
J111: Mixolidia (Rock/Blues) | K111: si | L111: no | M111: si | N111: no | O111: si | P111: si | Q111: no | R111: si | S111: no | T111: si | U111: si | V111: no | W111: mix | X111: Similar a Mayor, pero +10 (en lugar de +11) en el grado VII le quita la tensión de querer resolver siempre a la tónica. The Beatles y AC/DC.
J112: Hexatónica (Whole tone) | K112: si | L112: no | M112: si | N112: no | O112: si | P112: no | Q112: si | R112: no | S112: si | T112: no | U112: si | V112: no | W112: whl | X112: Relacionada a acordes aumentados, dominantes alterados, impresionismo, Debussy. Al no tener centro tonal se siente ingrávida.
J113: Frigia (Metal/Flamenco) | K113: si | L113: si | M113: no | N113: si | O113: no | P113: si | Q113: no | R113: si | S113: si | T113: no | U113: si | V113: no | W113: phr | X113: Ese intervalo +1 (II Segunda Menor) es el que da toda la tensión oscura. En el metal y en el flamenco se usa para generar esa sensación de peligro o misterio.
J114: Frigia Dominante (Metal/Flamenco) | K114: si | L114: si | M114: no | N114: no | O114: si | P114: si | Q114: no | R114: si | S114: si | T114: no | U114: si | V114: no | W114: phr dom | X114: Tiene ese sabor exótico español que a todo el mundo le gusta producto de la III Tercera mayor (+4)
...

Sheet GTR
A1: Modifica solamente las celdas amarillas
D2: Tonalidad | F2: Escala
D3: A | F3: Mayor | J3: =IF(Rosetta!E5="GTR",IFERROR(VLOOKUP(F3,Rosetta!J100:X120,15,FALSE),""),"Cambia el visualizador a GTR en la hoja Rosetta") -> El estándar de oro, la escala reina: Ocupa los 7 grados I II III IV V VI VII. Es la escala base de la música occidental; brillante, estable y equilibrada. Día soleado. | AF3: Te ha sido útil? Considera una donación:
AF4: link.mercadopago.com.mx/abixites
F5: =Rosetta!H7 -> A maj | K5: Grados: | L5: I Tónica | N5: II | P5: III Tercera | R5: IV Cuarta | T5: V dis | V5: V Quinta | X5: VI Sexta | Z5: VII Séptima | AF5: paypal.me/abimaelruizb
K6: notas: | L6: =IFERROR(IF(VLOOKUP($F$5,lista_bemoles_switch,2,FALSE)="s",IFERROR(VLOOKUP(L$5,Rosetta!$K$11:$M$34,3,FALSE),""),IFERROR(VLOOKUP(L$5,Rosetta!$K$11:$L$34,2,FALSE),"")),IFERROR(VLOOKUP(L$5,Rosetta!$K$11:$L$34,2,FALSE),"")) -> A | M6: =IFERROR(IF(VLOOKUP($F$5,lista_bemoles_switch,2,FALSE)="s",IFERROR(VLOOKUP(M$5,Rosetta!$K$11:$M$34,3,FALSE),""),IFERROR(VLOOKUP(M$5,Rosetta!$K$11:$L$34,2,FALSE),"")),IFERROR(VLOOKUP(M$5,Rosetta!$K$11:$L$34,2,FALSE),"")) | N6: =IFERROR(IF(VLOOKUP($F$5,lista_bemoles_switch,2,FALSE)="s",IFERROR(VLOOKUP(N$5,Rosetta!$K$11:$M$34,3,FALSE),""),IFERROR(VLOOKUP(N$5,Rosetta!$K$11:$L$34,2,FALSE),"")),IFERROR(VLOOKUP(N$5,Rosetta!$K$11:$L$34,2,FALSE),"")) -> B | O6: =IFERROR(IF(VLOOKUP($F$5,lista_bemoles_switch,2,FALSE)="s",IFERROR(VLOOKUP(O$5,Rosetta!$K$11:$M$34,3,FALSE),""),IFERROR(VLOOKUP(O$5,Rosetta!$K$11:$L$34,2,FALSE),"")),IFERROR(VLOOKUP(O$5,Rosetta!$K$11:$L$34,2,FALSE),"")) | P6: =IFERROR(IF(VLOOKUP($F$5,lista_bemoles_switch,2,FALSE)="s",IFERROR(VLOOKUP(P$5,Rosetta!$K$11:$M$34,3,FALSE),""),IFERROR(VLOOKUP(P$5,Rosetta!$K$11:$L$34,2,FALSE),"")),IFERROR(VLOOKUP(P$5,Rosetta!$K$11:$L$34,2,FALSE),"")) -> C# | Q6: =IFERROR(IF(VLOOKUP($F$5,lista_bemoles_switch,2,FALSE)="s",IFERROR(VLOOKUP(Q$5,Rosetta!$K$11:$M$34,3,FALSE),""),IFERROR(VLOOKUP(Q$5,Rosetta!$K$11:$L$34,2,FALSE),"")),IFERROR(VLOOKUP(Q$5,Rosetta!$K$11:$L$34,2,FALSE),"")) | R6: =IFERROR(IF(VLOOKUP($F$5,lista_bemoles_switch,2,FALSE)="s",IFERROR(VLOOKUP(R$5,Rosetta!$K$11:$M$34,3,FALSE),""),IFERROR(VLOOKUP(R$5,Rosetta!$K$11:$L$34,2,FALSE),"")),IFERROR(VLOOKUP(R$5,Rosetta!$K$11:$L$34,2,FALSE),"")) -> D | S6: =IFERROR(IF(VLOOKUP($F$5,lista_bemoles_switch,2,FALSE)="s",IFERROR(VLOOKUP(S$5,Rosetta!$K$11:$M$34,3,FALSE),""),IFERROR(VLOOKUP(S$5,Rosetta!$K$11:$L$34,2,FALSE),"")),IFERROR(VLOOKUP(S$5,Rosetta!$K$11:$L$34,2,FALSE),"")) | ... Z6: =IFERROR(IF(VLOOKUP($F$5,lista_bemoles_switch,2,FALSE)="s",IFERROR(VLOOKUP(Z$5,Rosetta!$K$11:$M$34,3,FALSE),""),IFERROR(VLOOKUP(Z$5,Rosetta!$K$11:$L$34,2,FALSE),"")),IFERROR(VLOOKUP(Z$5,Rosetta!$K$11:$L$34,2,FALSE),"")) -> G# | AF6: Banamex 002180700568138276
A7: Copia estos patrones en la celda F11 | K7: semitonos: | L7: =IF(L$6="","",CONCATENATE("+",VLOOKUP(L$6,Rosetta!$B$11:$G$98,6,FALSE))) -> +0 | N7: =IF(N$6="","",CONCATENATE("+",VLOOKUP(N$6,Rosetta!$B$11:$G$98,6,FALSE))) -> +2 | P7: =IF(P$6="","",CONCATENATE("+",VLOOKUP(P$6,Rosetta!$B$11:$G$98,6,FALSE))) -> +4 | R7: =IF(R$6="","",CONCATENATE("+",VLOOKUP(R$6,Rosetta!$B$11:$G$98,6,FALSE))) -> +5 | T7: =IF(T$6="","",CONCATENATE("+",VLOOKUP(T$6,Rosetta!$B$11:$G$98,6,FALSE))) | V7: =IF(V$6="","",CONCATENATE("+",VLOOKUP(V$6,Rosetta!$B$11:$G$98,6,FALSE))) -> +7 | X7: =IF(X$6="","",CONCATENATE("+",VLOOKUP(X$6,Rosetta!$B$11:$G$98,6,FALSE))) -> +9 | Z7: =IF(Z$6="","",CONCATENATE("+",VLOOKUP(Z$6,Rosetta!$B$11:$G$98,6,FALSE))) -> +11
F9: Traste | I9: * | K9: * | M9: * | O9: * | R9: ** | U9: * | W9: * | Y9: * | AA9: * | AD9: **
A10: GTR | B10: Bajo 4 | C10: Bajo 5 | D10: Bajo 6 | E10: IDn | F10: Cuerda | G10: 1 | H10: 2 | I10: 3 | J10: 4 | K10: 5 | L10: 6 | M10: 7 | N10: 8 | O10: 9 | P10: 10 | Q10: 11 | R10: 12 | S10: 13 | T10: 14 | U10: 15 | V10: 16 | W10: 17 | X10: 18 | Y10: 19 | Z10: 20 | AA10: 21 | AB10: 22 | AC10: 23 | AD10: 24
A11: E 4 | B11: 0 | C11: 0 | D11: C 3 | E11: =IFERROR(VLOOKUP($F11,Rosetta!$I$11:$J$98,2,FALSE),"") -> 44 | F11: E 4 | G11: =IFERROR(VLOOKUP($E11+G$10,Rosetta!$A$11:$I$98,9,FALSE),"") -> F 4 | H11: =IFERROR(VLOOKUP($E11+H$10,Rosetta!$A$11:$I$98,9,FALSE),"") -> F# 4 | I11: =IFERROR(VLOOKUP($E11+I$10,Rosetta!$A$11:$I$98,9,FALSE),"") -> G 4 | J11: =IFERROR(VLOOKUP($E11+J$10,Rosetta!$A$11:$I$98,9,FALSE),"") -> G# 4 | K11: =IFERROR(VLOOKUP($E11+K$10,Rosetta!$A$11:$I$98,9,FALSE),"") -> A 4 | L11: =IFERROR(VLOOKUP($E11+L$10,Rosetta!$A$11:$I$98,9,FALSE),"") -> A# 4 | M11: =IFERROR(VLOOKUP($E11+M$10,Rosetta!$A$11:$I$98,9,FALSE),"") -> B 4 | N11: =IFERROR(VLOOKUP($E11+N$10,Rosetta!$A$11:$I$98,9,FALSE),"") -> C 5 | ... AD11: =IFERROR(VLOOKUP($E11+AD$10,Rosetta!$A$11:$I$98,9,FALSE),"") -> E 6
A12: B 3 | B12: 0 | C12: G 2 | D12: G 2 | E12: =IFERROR(VLOOKUP($F12,Rosetta!$I$11:$J$98,2,FALSE),"") -> 39 | F12: B 3 | G12: =IFERROR(VLOOKUP($E12+G$10,Rosetta!$A$11:$I$98,9,FALSE),"") -> C 4 | H12: =IFERROR(VLOOKUP($E12+H$10,Rosetta!$A$11:$I$98,9,FALSE),"") -> C# 4 | I12: =IFERROR(VLOOKUP($E12+I$10,Rosetta!$A$11:$I$98,9,FALSE),"") -> D 4 | J12: =IFERROR(VLOOKUP($E12+J$10,Rosetta!$A$11:$I$98,9,FALSE),"") -> D# 4 | K12: =IFERROR(VLOOKUP($E12+K$10,Rosetta!$A$11:$I$98,9,FALSE),"") -> E 4 | L12: =IFERROR(VLOOKUP($E12+L$10,Rosetta!$A$11:$I$98,9,FALSE),"") -> F 4 | M12: =IFERROR(VLOOKUP($E12+M$10,Rosetta!$A$11:$I$98,9,FALSE),"") -> F# 4 | N12: =IFERROR(VLOOKUP($E12+N$10,Rosetta!$A$11:$I$98,9,FALSE),"") -> G 4 | ... AD12: =IFERROR(VLOOKUP($E12+AD$10,Rosetta!$A$11:$I$98,9,FALSE),"") -> B 5
A13: G 3 | B13: G 2 | C13: D 2 | D13: D 2 | E13: =IFERROR(VLOOKUP($F13,Rosetta!$I$11:$J$98,2,FALSE),"") -> 35 | F13: G 3 | G13: =IFERROR(VLOOKUP($E13+G$10,Rosetta!$A$11:$I$98,9,FALSE),"") -> G# 3 | H13: =IFERROR(VLOOKUP($E13+H$10,Rosetta!$A$11:$I$98,9,FALSE),"") -> A 3 | I13: =IFERROR(VLOOKUP($E13+I$10,Rosetta!$A$11:$I$98,9,FALSE),"") -> A# 3 | J13: =IFERROR(VLOOKUP($E13+J$10,Rosetta!$A$11:$I$98,9,FALSE),"") -> B 3 | K13: =IFERROR(VLOOKUP($E13+K$10,Rosetta!$A$11:$I$98,9,FALSE),"") -> C 4 | L13: =IFERROR(VLOOKUP($E13+L$10,Rosetta!$A$11:$I$98,9,FALSE),"") -> C# 4 | M13: =IFERROR(VLOOKUP($E13+M$10,Rosetta!$A$11:$I$98,9,FALSE),"") -> D 4 | N13: =IFERROR(VLOOKUP($E13+N$10,Rosetta!$A$11:$I$98,9,FALSE),"") -> D# 4 | ... AD13: =IFERROR(VLOOKUP($E13+AD$10,Rosetta!$A$11:$I$98,9,FALSE),"") -> G 5
A14: D 3 | B14: D 2 | C14: A 1 | D14: A 1 | E14: =IFERROR(VLOOKUP($F14,Rosetta!$I$11:$J$98,2,FALSE),"") -> 30 | F14: D 3 | G14: =IFERROR(VLOOKUP($E14+G$10,Rosetta!$A$11:$I$98,9,FALSE),"") -> D# 3 | H14: =IFERROR(VLOOKUP($E14+H$10,Rosetta!$A$11:$I$98,9,FALSE),"") -> E 3 | I14: =IFERROR(VLOOKUP($E14+I$10,Rosetta!$A$11:$I$98,9,FALSE),"") -> F 3 | J14: =IFERROR(VLOOKUP($E14+J$10,Rosetta!$A$11:$I$98,9,FALSE),"") -> F# 3 | K14: =IFERROR(VLOOKUP($E14+K$10,Rosetta!$A$11:$I$98,9,FALSE),"") -> G 3 | L14: =IFERROR(VLOOKUP($E14+L$10,Rosetta!$A$11:$I$98,9,FALSE),"") -> G# 3 | M14: =IFERROR(VLOOKUP($E14+M$10,Rosetta!$A$11:$I$98,9,FALSE),"") -> A 3 | N14: =IFERROR(VLOOKUP($E14+N$10,Rosetta!$A$11:$I$98,9,FALSE),"") -> A# 3 | ... AD14: =IFERROR(VLOOKUP($E14+AD$10,Rosetta!$A$11:$I$98,9,FALSE),"") -> D 5
A15: A 2 | B15: A 1 | C15: E 1 | D15: E 1 | E15: =IFERROR(VLOOKUP($F15,Rosetta!$I$11:$J$98,2,FALSE),"") -> 25 | F15: A 2 | G15: =IFERROR(VLOOKUP($E15+G$10,Rosetta!$A$11:$I$98,9,FALSE),"") -> A# 2 | H15: =IFERROR(VLOOKUP($E15+H$10,Rosetta!$A$11:$I$98,9,FALSE),"") -> B 2 | I15: =IFERROR(VLOOKUP($E15+I$10,Rosetta!$A$11:$I$98,9,FALSE),"") -> C 3 | J15: =IFERROR(VLOOKUP($E15+J$10,Rosetta!$A$11:$I$98,9,FALSE),"") -> C# 3 | K15: =IFERROR(VLOOKUP($E15+K$10,Rosetta!$A$11:$I$98,9,FALSE),"") -> D 3 | L15: =IFERROR(VLOOKUP($E15+L$10,Rosetta!$A$11:$I$98,9,FALSE),"") -> D# 3 | M15: =IFERROR(VLOOKUP($E15+M$10,Rosetta!$A$11:$I$98,9,FALSE),"") -> E 3 | N15: =IFERROR(VLOOKUP($E15+N$10,Rosetta!$A$11:$I$98,9,FALSE),"") -> F 3 | ... AD15: =IFERROR(VLOOKUP($E15+AD$10,Rosetta!$A$11:$I$98,9,FALSE),"") -> A 4
A16: E 2 | B16: E 1 | C16: B 0 | D16: B 0 | E16: =IFERROR(VLOOKUP($F16,Rosetta!$I$11:$J$98,2,FALSE),"") -> 20 | F16: E 2 | G16: =IFERROR(VLOOKUP($E16+G$10,Rosetta!$A$11:$I$98,9,FALSE),"") -> F 2 | H16: =IFERROR(VLOOKUP($E16+H$10,Rosetta!$A$11:$I$98,9,FALSE),"") -> F# 2 | I16: =IFERROR(VLOOKUP($E16+I$10,Rosetta!$A$11:$I$98,9,FALSE),"") -> G 2 | J16: =IFERROR(VLOOKUP($E16+J$10,Rosetta!$A$11:$I$98,9,FALSE),"") -> G# 2 | K16: =IFERROR(VLOOKUP($E16+K$10,Rosetta!$A$11:$I$98,9,FALSE),"") -> A 2 | L16: =IFERROR(VLOOKUP($E16+L$10,Rosetta!$A$11:$I$98,9,FALSE),"") -> A# 2 | M16: =IFERROR(VLOOKUP($E16+M$10,Rosetta!$A$11:$I$98,9,FALSE),"") -> B 2 | N16: =IFERROR(VLOOKUP($E16+N$10,Rosetta!$A$11:$I$98,9,FALSE),"") -> C 3 | ... AD16: =IFERROR(VLOOKUP($E16+AD$10,Rosetta!$A$11:$I$98,9,FALSE),"") -> E 4
F17: ^ | I17: * | K17: * | M17: * | O17: * | R17: ** | U17: * | W17: * | Y17: * | AA17: * | AD17: **
F21: 0 | G21: 1 | H21: 2 | I21: 3 | J21: 4 | K21: 5 | L21: 6 | M21: 7 | N21: 8 | O21: 9 | P21: 10 | Q21: 11 | R21: 12 | S21: 13 | T21: 14 | U21: 15 | V21: 16 | W21: 17 | X21: 18 | Y21: 19 | Z21: 20 | AA21: 21 | AB21: 22 | AC21: 23 | AD21: 24
E22: =E11 -> 44 | F22: =IF(F32="si",IF(VLOOKUP("Grado",Rosetta!$J$100:$V$100,2+VLOOKUP($E22+F$21,Rosetta!$A$11:$I$98,7,FALSE),FALSE)=0,VLOOKUP("Grado",Rosetta!$J$100:$V$100,1+VLOOKUP($E22+F$21,Rosetta!$A$11:$I$98,7,FALSE),FALSE),VLOOKUP("Grado",Rosetta!$J$100:$V$100,2+VLOOKUP($E22+F$21,Rosetta!$A$11:$I$98,7,FALSE),FALSE)),"") -> V Quinta | G22: =IF(G32="si",IF(VLOOKUP("Grado",Rosetta!$J$100:$V$100,2+VLOOKUP($E22+G$21,Rosetta!$A$11:$I$98,7,FALSE),FALSE)=0,VLOOKUP("Grado",Rosetta!$J$100:$V$100,1+VLOOKUP($E22+G$21,Rosetta!$A$11:$I$98,7,FALSE),FALSE),VLOOKUP("Grado",Rosetta!$J$100:$V$100,2+VLOOKUP($E22+G$21,Rosetta!$A$11:$I$98,7,FALSE),FALSE)),"") | H22: =IF(H32="si",IF(VLOOKUP("Grado",Rosetta!$J$100:$V$100,2+VLOOKUP($E22+H$21,Rosetta!$A$11:$I$98,7,FALSE),FALSE)=0,VLOOKUP("Grado",Rosetta!$J$100:$V$100,1+VLOOKUP($E22+H$21,Rosetta!$A$11:$I$98,7,FALSE),FALSE),VLOOKUP("Grado",Rosetta!$J$100:$V$100,2+VLOOKUP($E22+H$21,Rosetta!$A$11:$I$98,7,FALSE),FALSE)),"") -> VI Sexta | I22: =IF(I32="si",IF(VLOOKUP("Grado",Rosetta!$J$100:$V$100,2+VLOOKUP($E22+I$21,Rosetta!$A$11:$I$98,7,FALSE),FALSE)=0,VLOOKUP("Grado",Rosetta!$J$100:$V$100,1+VLOOKUP($E22+I$21,Rosetta!$A$11:$I$98,7,FALSE),FALSE),VLOOKUP("Grado",Rosetta!$J$100:$V$100,2+VLOOKUP($E22+I$21,Rosetta!$A$11:$I$98,7,FALSE),FALSE)),"") | J22: =IF(J32="si",IF(VLOOKUP("Grado",Rosetta!$J$100:$V$100,2+VLOOKUP($E22+J$21,Rosetta!$A$11:$I$98,7,FALSE),FALSE)=0,VLOOKUP("Grado",Rosetta!$J$100:$V$100,1+VLOOKUP($E22+J$21,Rosetta!$A$11:$I$98,7,FALSE),FALSE),VLOOKUP("Grado",Rosetta!$J$100:$V$100,2+VLOOKUP($E22+J$21,Rosetta!$A$11:$I$98,7,FALSE),FALSE)),"") -> VII Séptima | K22: =IF(K32="si",IF(VLOOKUP("Grado",Rosetta!$J$100:$V$100,2+VLOOKUP($E22+K$21,Rosetta!$A$11:$I$98,7,FALSE),FALSE)=0,VLOOKUP("Grado",Rosetta!$J$100:$V$100,1+VLOOKUP($E22+K$21,Rosetta!$A$11:$I$98,7,FALSE),FALSE),VLOOKUP("Grado",Rosetta!$J$100:$V$100,2+VLOOKUP($E22+K$21,Rosetta!$A$11:$I$98,7,FALSE),FALSE)),"") -> I Tónica | L22: =IF(L32="si",IF(VLOOKUP("Grado",Rosetta!$J$100:$V$100,2+VLOOKUP($E22+L$21,Rosetta!$A$11:$I$98,7,FALSE),FALSE)=0,VLOOKUP("Grado",Rosetta!$J$100:$V$100,1+VLOOKUP($E22+L$21,Rosetta!$A$11:$I$98,7,FALSE),FALSE),VLOOKUP("Grado",Rosetta!$J$100:$V$100,2+VLOOKUP($E22+L$21,Rosetta!$A$11:$I$98,7,FALSE),FALSE)),"") | M22: =IF(M32="si",IF(VLOOKUP("Grado",Rosetta!$J$100:$V$100,2+VLOOKUP($E22+M$21,Rosetta!$A$11:$I$98,7,FALSE),FALSE)=0,VLOOKUP("Grado",Rosetta!$J$100:$V$100,1+VLOOKUP($E22+M$21,Rosetta!$A$11:$I$98,7,FALSE),FALSE),VLOOKUP("Grado",Rosetta!$J$100:$V$100,2+VLOOKUP($E22+M$21,Rosetta!$A$11:$I$98,7,FALSE),FALSE)),"") -> II | ... AD22: =IF(AD32="si",IF(VLOOKUP("Grado",Rosetta!$J$100:$V$100,2+VLOOKUP($E22+AD$21,Rosetta!$A$11:$I$98,7,FALSE),FALSE)=0,VLOOKUP("Grado",Rosetta!$J$100:$V$100,1+VLOOKUP($E22+AD$21,Rosetta!$A$11:$I$98,7,FALSE),FALSE),VLOOKUP("Grado",Rosetta!$J$100:$V$100,2+VLOOKUP($E22+AD$21,Rosetta!$A$11:$I$98,7,FALSE),FALSE)),"") -> V Quinta
E23: =E12 -> 39 | F23: =IF(F33="si",IF(VLOOKUP("Grado",Rosetta!$J$100:$V$100,2+VLOOKUP($E23+F$21,Rosetta!$A$11:$I$98,7,FALSE),FALSE)=0,VLOOKUP("Grado",Rosetta!$J$100:$V$100,1+VLOOKUP($E23+F$21,Rosetta!$A$11:$I$98,7,FALSE),FALSE),VLOOKUP("Grado",Rosetta!$J$100:$V$100,2+VLOOKUP($E23+F$21,Rosetta!$A$11:$I$98,7,FALSE),FALSE)),"") -> II | G23: =IF(G33="si",IF(VLOOKUP("Grado",Rosetta!$J$100:$V$100,2+VLOOKUP($E23+G$21,Rosetta!$A$11:$I$98,7,FALSE),FALSE)=0,VLOOKUP("Grado",Rosetta!$J$100:$V$100,1+VLOOKUP($E23+G$21,Rosetta!$A$11:$I$98,7,FALSE),FALSE),VLOOKUP("Grado",Rosetta!$J$100:$V$100,2+VLOOKUP($E23+G$21,Rosetta!$A$11:$I$98,7,FALSE),FALSE)),"") | H23: =IF(H33="si",IF(VLOOKUP("Grado",Rosetta!$J$100:$V$100,2+VLOOKUP($E23+H$21,Rosetta!$A$11:$I$98,7,FALSE),FALSE)=0,VLOOKUP("Grado",Rosetta!$J$100:$V$100,1+VLOOKUP($E23+H$21,Rosetta!$A$11:$I$98,7,FALSE),FALSE),VLOOKUP("Grado",Rosetta!$J$100:$V$100,2+VLOOKUP($E23+H$21,Rosetta!$A$11:$I$98,7,FALSE),FALSE)),"") -> III Tercera | I23: =IF(I33="si",IF(VLOOKUP("Grado",Rosetta!$J$100:$V$100,2+VLOOKUP($E23+I$21,Rosetta!$A$11:$I$98,7,FALSE),FALSE)=0,VLOOKUP("Grado",Rosetta!$J$100:$V$100,1+VLOOKUP($E23+I$21,Rosetta!$A$11:$I$98,7,FALSE),FALSE),VLOOKUP("Grado",Rosetta!$J$100:$V$100,2+VLOOKUP($E23+I$21,Rosetta!$A$11:$I$98,7,FALSE),FALSE)),"") -> IV Cuarta | J23: =IF(J33="si",IF(VLOOKUP("Grado",Rosetta!$J$100:$V$100,2+VLOOKUP($E23+J$21,Rosetta!$A$11:$I$98,7,FALSE),FALSE)=0,VLOOKUP("Grado",Rosetta!$J$100:$V$100,1+VLOOKUP($E23+J$21,Rosetta!$A$11:$I$98,7,FALSE),FALSE),VLOOKUP("Grado",Rosetta!$J$100:$V$100,2+VLOOKUP($E23+J$21,Rosetta!$A$11:$I$98,7,FALSE),FALSE)),"") | K23: =IF(K33="si",IF(VLOOKUP("Grado",Rosetta!$J$100:$V$100,2+VLOOKUP($E23+K$21,Rosetta!$A$11:$I$98,7,FALSE),FALSE)=0,VLOOKUP("Grado",Rosetta!$J$100:$V$100,1+VLOOKUP($E23+K$21,Rosetta!$A$11:$I$98,7,FALSE),FALSE),VLOOKUP("Grado",Rosetta!$J$100:$V$100,2+VLOOKUP($E23+K$21,Rosetta!$A$11:$I$98,7,FALSE),FALSE)),"") -> V Quinta | L23: =IF(L33="si",IF(VLOOKUP("Grado",Rosetta!$J$100:$V$100,2+VLOOKUP($E23+L$21,Rosetta!$A$11:$I$98,7,FALSE),FALSE)=0,VLOOKUP("Grado",Rosetta!$J$100:$V$100,1+VLOOKUP($E23+L$21,Rosetta!$A$11:$I$98,7,FALSE),FALSE),VLOOKUP("Grado",Rosetta!$J$100:$V$100,2+VLOOKUP($E23+L$21,Rosetta!$A$11:$I$98,7,FALSE),FALSE)),"") | M23: =IF(M33="si",IF(VLOOKUP("Grado",Rosetta!$J$100:$V$100,2+VLOOKUP($E23+M$21,Rosetta!$A$11:$I$98,7,FALSE),FALSE)=0,VLOOKUP("Grado",Rosetta!$J$100:$V$100,1+VLOOKUP($E23+M$21,Rosetta!$A$11:$I$98,7,FALSE),FALSE),VLOOKUP("Grado",Rosetta!$J$100:$V$100,2+VLOOKUP($E23+M$21,Rosetta!$A$11:$I$98,7,FALSE),FALSE)),"") -> VI Sexta | ... AD23: =IF(AD33="si",IF(VLOOKUP("Grado",Rosetta!$J$100:$V$100,2+VLOOKUP($E23+AD$21,Rosetta!$A$11:$I$98,7,FALSE),FALSE)=0,VLOOKUP("Grado",Rosetta!$J$100:$V$100,1+VLOOKUP($E23+AD$21,Rosetta!$A$11:$I$98,7,FALSE),FALSE),VLOOKUP("Grado",Rosetta!$J$100:$V$100,2+VLOOKUP($E23+AD$21,Rosetta!$A$11:$I$98,7,FALSE),FALSE)),"") -> II
E24: =E13 -> 35 | F24: =IF(F34="si",IF(VLOOKUP("Grado",Rosetta!$J$100:$V$100,2+VLOOKUP($E24+F$21,Rosetta!$A$11:$I$98,7,FALSE),FALSE)=0,VLOOKUP("Grado",Rosetta!$J$100:$V$100,1+VLOOKUP($E24+F$21,Rosetta!$A$11:$I$98,7,FALSE),FALSE),VLOOKUP("Grado",Rosetta!$J$100:$V$100,2+VLOOKUP($E24+F$21,Rosetta!$A$11:$I$98,7,FALSE),FALSE)),"") | G24: =IF(G34="si",IF(VLOOKUP("Grado",Rosetta!$J$100:$V$100,2+VLOOKUP($E24+G$21,Rosetta!$A$11:$I$98,7,FALSE),FALSE)=0,VLOOKUP("Grado",Rosetta!$J$100:$V$100,1+VLOOKUP($E24+G$21,Rosetta!$A$11:$I$98,7,FALSE),FALSE),VLOOKUP("Grado",Rosetta!$J$100:$V$100,2+VLOOKUP($E24+G$21,Rosetta!$A$11:$I$98,7,FALSE),FALSE)),"") -> VII Séptima | H24: =IF(H34="si",IF(VLOOKUP("Grado",Rosetta!$J$100:$V$100,2+VLOOKUP($E24+H$21,Rosetta!$A$11:$I$98,7,FALSE),FALSE)=0,VLOOKUP("Grado",Rosetta!$J$100:$V$100,1+VLOOKUP($E24+H$21,Rosetta!$A$11:$I$98,7,FALSE),FALSE),VLOOKUP("Grado",Rosetta!$J$100:$V$100,2+VLOOKUP($E24+H$21,Rosetta!$A$11:$I$98,7,FALSE),FALSE)),"") -> I Tónica | I24: =IF(I34="si",IF(VLOOKUP("Grado",Rosetta!$J$100:$V$100,2+VLOOKUP($E24+I$21,Rosetta!$A$11:$I$98,7,FALSE),FALSE)=0,VLOOKUP("Grado",Rosetta!$J$100:$V$100,1+VLOOKUP($E24+I$21,Rosetta!$A$11:$I$98,7,FALSE),FALSE),VLOOKUP("Grado",Rosetta!$J$100:$V$100,2+VLOOKUP($E24+I$21,Rosetta!$A$11:$I$98,7,FALSE),FALSE)),"") | J24: =IF(J34="si",IF(VLOOKUP("Grado",Rosetta!$J$100:$V$100,2+VLOOKUP($E24+J$21,Rosetta!$A$11:$I$98,7,FALSE),FALSE)=0,VLOOKUP("Grado",Rosetta!$J$100:$V$100,1+VLOOKUP($E24+J$21,Rosetta!$A$11:$I$98,7,FALSE),FALSE),VLOOKUP("Grado",Rosetta!$J$100:$V$100,2+VLOOKUP($E24+J$21,Rosetta!$A$11:$I$98,7,FALSE),FALSE)),"") -> II | K24: =IF(K34="si",IF(VLOOKUP("Grado",Rosetta!$J$100:$V$100,2+VLOOKUP($E24+K$21,Rosetta!$A$11:$I$98,7,FALSE),FALSE)=0,VLOOKUP("Grado",Rosetta!$J$100:$V$100,1+VLOOKUP($E24+K$21,Rosetta!$A$11:$I$98,7,FALSE),FALSE),VLOOKUP("Grado",Rosetta!$J$100:$V$100,2+VLOOKUP($E24+K$21,Rosetta!$A$11:$I$98,7,FALSE),FALSE)),"") | L24: =IF(L34="si",IF(VLOOKUP("Grado",Rosetta!$J$100:$V$100,2+VLOOKUP($E24+L$21,Rosetta!$A$11:$I$98,7,FALSE),FALSE)=0,VLOOKUP("Grado",Rosetta!$J$100:$V$100,1+VLOOKUP($E24+L$21,Rosetta!$A$11:$I$98,7,FALSE),FALSE),VLOOKUP("Grado",Rosetta!$J$100:$V$100,2+VLOOKUP($E24+L$21,Rosetta!$A$11:$I$98,7,FALSE),FALSE)),"") -> III Tercera | M24: =IF(M34="si",IF(VLOOKUP("Grado",Rosetta!$J$100:$V$100,2+VLOOKUP($E24+M$21,Rosetta!$A$11:$I$98,7,FALSE),FALSE)=0,VLOOKUP("Grado",Rosetta!$J$100:$V$100,1+VLOOKUP($E24+M$21,Rosetta!$A$11:$I$98,7,FALSE),FALSE),VLOOKUP("Grado",Rosetta!$J$100:$V$100,2+VLOOKUP($E24+M$21,Rosetta!$A$11:$I$98,7,FALSE),FALSE)),"") -> IV Cuarta | ... AD24: =IF(AD34="si",IF(VLOOKUP("Grado",Rosetta!$J$100:$V$100,2+VLOOKUP($E24+AD$21,Rosetta!$A$11:$I$98,7,FALSE),FALSE)=0,VLOOKUP("Grado",Rosetta!$J$100:$V$100,1+VLOOKUP($E24+AD$21,Rosetta!$A$11:$I$98,7,FALSE),FALSE),VLOOKUP("Grado",Rosetta!$J$100:$V$100,2+VLOOKUP($E24+AD$21,Rosetta!$A$11:$I$98,7,FALSE),FALSE)),"")
E25: =E14 -> 30 | F25: =IF(F35="si",IF(VLOOKUP("Grado",Rosetta!$J$100:$V$100,2+VLOOKUP($E25+F$21,Rosetta!$A$11:$I$98,7,FALSE),FALSE)=0,VLOOKUP("Grado",Rosetta!$J$100:$V$100,1+VLOOKUP($E25+F$21,Rosetta!$A$11:$I$98,7,FALSE),FALSE),VLOOKUP("Grado",Rosetta!$J$100:$V$100,2+VLOOKUP($E25+F$21,Rosetta!$A$11:$I$98,7,FALSE),FALSE)),"") -> IV Cuarta | G25: =IF(G35="si",IF(VLOOKUP("Grado",Rosetta!$J$100:$V$100,2+VLOOKUP($E25+G$21,Rosetta!$A$11:$I$98,7,FALSE),FALSE)=0,VLOOKUP("Grado",Rosetta!$J$100:$V$100,1+VLOOKUP($E25+G$21,Rosetta!$A$11:$I$98,7,FALSE),FALSE),VLOOKUP("Grado",Rosetta!$J$100:$V$100,2+VLOOKUP($E25+G$21,Rosetta!$A$11:$I$98,7,FALSE),FALSE)),"") | H25: =IF(H35="si",IF(VLOOKUP("Grado",Rosetta!$J$100:$V$100,2+VLOOKUP($E25+H$21,Rosetta!$A$11:$I$98,7,FALSE),FALSE)=0,VLOOKUP("Grado",Rosetta!$J$100:$V$100,1+VLOOKUP($E25+H$21,Rosetta!$A$11:$I$98,7,FALSE),FALSE),VLOOKUP("Grado",Rosetta!$J$100:$V$100,2+VLOOKUP($E25+H$21,Rosetta!$A$11:$I$98,7,FALSE),FALSE)),"") -> V Quinta | I25: =IF(I35="si",IF(VLOOKUP("Grado",Rosetta!$J$100:$V$100,2+VLOOKUP($E25+I$21,Rosetta!$A$11:$I$98,7,FALSE),FALSE)=0,VLOOKUP("Grado",Rosetta!$J$100:$V$100,1+VLOOKUP($E25+I$21,Rosetta!$A$11:$I$98,7,FALSE),FALSE),VLOOKUP("Grado",Rosetta!$J$100:$V$100,2+VLOOKUP($E25+I$21,Rosetta!$A$11:$I$98,7,FALSE),FALSE)),"") | J25: =IF(J35="si",IF(VLOOKUP("Grado",Rosetta!$J$100:$V$100,2+VLOOKUP($E25+J$21,Rosetta!$A$11:$I$98,7,FALSE),FALSE)=0,VLOOKUP("Grado",Rosetta!$J$100:$V$100,1+VLOOKUP($E25+J$21,Rosetta!$A$11:$I$98,7,FALSE),FALSE),VLOOKUP("Grado",Rosetta!$J$100:$V$100,2+VLOOKUP($E25+J$21,Rosetta!$A$11:$I$98,7,FALSE),FALSE)),"") -> VI Sexta | K25: =IF(K35="si",IF(VLOOKUP("Grado",Rosetta!$J$100:$V$100,2+VLOOKUP($E25+K$21,Rosetta!$A$11:$I$98,7,FALSE),FALSE)=0,VLOOKUP("Grado",Rosetta!$J$100:$V$100,1+VLOOKUP($E25+K$21,Rosetta!$A$11:$I$98,7,FALSE),FALSE),VLOOKUP("Grado",Rosetta!$J$100:$V$100,2+VLOOKUP($E25+K$21,Rosetta!$A$11:$I$98,7,FALSE),FALSE)),"") | L25: =IF(L35="si",IF(VLOOKUP("Grado",Rosetta!$J$100:$V$100,2+VLOOKUP($E25+L$21,Rosetta!$A$11:$I$98,7,FALSE),FALSE)=0,VLOOKUP("Grado",Rosetta!$J$100:$V$100,1+VLOOKUP($E25+L$21,Rosetta!$A$11:$I$98,7,FALSE),FALSE),VLOOKUP("Grado",Rosetta!$J$100:$V$100,2+VLOOKUP($E25+L$21,Rosetta!$A$11:$I$98,7,FALSE),FALSE)),"") -> VII Séptima | M25: =IF(M35="si",IF(VLOOKUP("Grado",Rosetta!$J$100:$V$100,2+VLOOKUP($E25+M$21,Rosetta!$A$11:$I$98,7,FALSE),FALSE)=0,VLOOKUP("Grado",Rosetta!$J$100:$V$100,1+VLOOKUP($E25+M$21,Rosetta!$A$11:$I$98,7,FALSE),FALSE),VLOOKUP("Grado",Rosetta!$J$100:$V$100,2+VLOOKUP($E25+M$21,Rosetta!$A$11:$I$98,7,FALSE),FALSE)),"") -> I Tónica | ... AD25: =IF(AD35="si",IF(VLOOKUP("Grado",Rosetta!$J$100:$V$100,2+VLOOKUP($E25+AD$21,Rosetta!$A$11:$I$98,7,FALSE),FALSE)=0,VLOOKUP("Grado",Rosetta!$J$100:$V$100,1+VLOOKUP($E25+AD$21,Rosetta!$A$11:$I$98,7,FALSE),FALSE),VLOOKUP("Grado",Rosetta!$J$100:$V$100,2+VLOOKUP($E25+AD$21,Rosetta!$A$11:$I$98,7,FALSE),FALSE)),"") -> IV Cuarta
E26: =E15 -> 25 | F26: =IF(F36="si",IF(VLOOKUP("Grado",Rosetta!$J$100:$V$100,2+VLOOKUP($E26+F$21,Rosetta!$A$11:$I$98,7,FALSE),FALSE)=0,VLOOKUP("Grado",Rosetta!$J$100:$V$100,1+VLOOKUP($E26+F$21,Rosetta!$A$11:$I$98,7,FALSE),FALSE),VLOOKUP("Grado",Rosetta!$J$100:$V$100,2+VLOOKUP($E26+F$21,Rosetta!$A$11:$I$98,7,FALSE),FALSE)),"") -> I Tónica | G26: =IF(G36="si",IF(VLOOKUP("Grado",Rosetta!$J$100:$V$100,2+VLOOKUP($E26+G$21,Rosetta!$A$11:$I$98,7,FALSE),FALSE)=0,VLOOKUP("Grado",Rosetta!$J$100:$V$100,1+VLOOKUP($E26+G$21,Rosetta!$A$11:$I$98,7,FALSE),FALSE),VLOOKUP("Grado",Rosetta!$J$100:$V$100,2+VLOOKUP($E26+G$21,Rosetta!$A$11:$I$98,7,FALSE),FALSE)),"") | H26: =IF(H36="si",IF(VLOOKUP("Grado",Rosetta!$J$100:$V$100,2+VLOOKUP($E26+H$21,Rosetta!$A$11:$I$98,7,FALSE),FALSE)=0,VLOOKUP("Grado",Rosetta!$J$100:$V$100,1+VLOOKUP($E26+H$21,Rosetta!$A$11:$I$98,7,FALSE),FALSE),VLOOKUP("Grado",Rosetta!$J$100:$V$100,2+VLOOKUP($E26+H$21,Rosetta!$A$11:$I$98,7,FALSE),FALSE)),"") -> II | I26: =IF(I36="si",IF(VLOOKUP("Grado",Rosetta!$J$100:$V$100,2+VLOOKUP($E26+I$21,Rosetta!$A$11:$I$98,7,FALSE),FALSE)=0,VLOOKUP("Grado",Rosetta!$J$100:$V$100,1+VLOOKUP($E26+I$21,Rosetta!$A$11:$I$98,7,FALSE),FALSE),VLOOKUP("Grado",Rosetta!$J$100:$V$100,2+VLOOKUP($E26+I$21,Rosetta!$A$11:$I$98,7,FALSE),FALSE)),"") | J26: =IF(J36="si",IF(VLOOKUP("Grado",Rosetta!$J$100:$V$100,2+VLOOKUP($E26+J$21,Rosetta!$A$11:$I$98,7,FALSE),FALSE)=0,VLOOKUP("Grado",Rosetta!$J$100:$V$100,1+VLOOKUP($E26+J$21,Rosetta!$A$11:$I$98,7,FALSE),FALSE),VLOOKUP("Grado",Rosetta!$J$100:$V$100,2+VLOOKUP($E26+J$21,Rosetta!$A$11:$I$98,7,FALSE),FALSE)),"") -> III Tercera | K26: =IF(K36="si",IF(VLOOKUP("Grado",Rosetta!$J$100:$V$100,2+VLOOKUP($E26+K$21,Rosetta!$A$11:$I$98,7,FALSE),FALSE)=0,VLOOKUP("Grado",Rosetta!$J$100:$V$100,1+VLOOKUP($E26+K$21,Rosetta!$A$11:$I$98,7,FALSE),FALSE),VLOOKUP("Grado",Rosetta!$J$100:$V$100,2+VLOOKUP($E26+K$21,Rosetta!$A$11:$I$98,7,FALSE),FALSE)),"") -> IV Cuarta | L26: =IF(L36="si",IF(VLOOKUP("Grado",Rosetta!$J$100:$V$100,2+VLOOKUP($E26+L$21,Rosetta!$A$11:$I$98,7,FALSE),FALSE)=0,VLOOKUP("Grado",Rosetta!$J$100:$V$100,1+VLOOKUP($E26+L$21,Rosetta!$A$11:$I$98,7,FALSE),FALSE),VLOOKUP("Grado",Rosetta!$J$100:$V$100,2+VLOOKUP($E26+L$21,Rosetta!$A$11:$I$98,7,FALSE),FALSE)),"") | M26: =IF(M36="si",IF(VLOOKUP("Grado",Rosetta!$J$100:$V$100,2+VLOOKUP($E26+M$21,Rosetta!$A$11:$I$98,7,FALSE),FALSE)=0,VLOOKUP("Grado",Rosetta!$J$100:$V$100,1+VLOOKUP($E26+M$21,Rosetta!$A$11:$I$98,7,FALSE),FALSE),VLOOKUP("Grado",Rosetta!$J$100:$V$100,2+VLOOKUP($E26+M$21,Rosetta!$A$11:$I$98,7,FALSE),FALSE)),"") -> V Quinta | ... AD26: =IF(AD36="si",IF(VLOOKUP("Grado",Rosetta!$J$100:$V$100,2+VLOOKUP($E26+AD$21,Rosetta!$A$11:$I$98,7,FALSE),FALSE)=0,VLOOKUP("Grado",Rosetta!$J$100:$V$100,1+VLOOKUP($E26+AD$21,Rosetta!$A$11:$I$98,7,FALSE),FALSE),VLOOKUP("Grado",Rosetta!$J$100:$V$100,2+VLOOKUP($E26+AD$21,Rosetta!$A$11:$I$98,7,FALSE),FALSE)),"") -> I Tónica
E27: =E16 -> 20 | F27: =IF(F37="si",IF(VLOOKUP("Grado",Rosetta!$J$100:$V$100,2+VLOOKUP($E27+F$21,Rosetta!$A$11:$I$98,7,FALSE),FALSE)=0,VLOOKUP("Grado",Rosetta!$J$100:$V$100,1+VLOOKUP($E27+F$21,Rosetta!$A$11:$I$98,7,FALSE),FALSE),VLOOKUP("Grado",Rosetta!$J$100:$V$100,2+VLOOKUP($E27+F$21,Rosetta!$A$11:$I$98,7,FALSE),FALSE)),"") -> V Quinta | G27: =IF(G37="si",IF(VLOOKUP("Grado",Rosetta!$J$100:$V$100,2+VLOOKUP($E27+G$21,Rosetta!$A$11:$I$98,7,FALSE),FALSE)=0,VLOOKUP("Grado",Rosetta!$J$100:$V$100,1+VLOOKUP($E27+G$21,Rosetta!$A$11:$I$98,7,FALSE),FALSE),VLOOKUP("Grado",Rosetta!$J$100:$V$100,2+VLOOKUP($E27+G$21,Rosetta!$A$11:$I$98,7,FALSE),FALSE)),"") | H27: =IF(H37="si",IF(VLOOKUP("Grado",Rosetta!$J$100:$V$100,2+VLOOKUP($E27+H$21,Rosetta!$A$11:$I$98,7,FALSE),FALSE)=0,VLOOKUP("Grado",Rosetta!$J$100:$V$100,1+VLOOKUP($E27+H$21,Rosetta!$A$11:$I$98,7,FALSE),FALSE),VLOOKUP("Grado",Rosetta!$J$100:$V$100,2+VLOOKUP($E27+H$21,Rosetta!$A$11:$I$98,7,FALSE),FALSE)),"") -> VI Sexta | I27: =IF(I37="si",IF(VLOOKUP("Grado",Rosetta!$J$100:$V$100,2+VLOOKUP($E27+I$21,Rosetta!$A$11:$I$98,7,FALSE),FALSE)=0,VLOOKUP("Grado",Rosetta!$J$100:$V$100,1+VLOOKUP($E27+I$21,Rosetta!$A$11:$I$98,7,FALSE),FALSE),VLOOKUP("Grado",Rosetta!$J$100:$V$100,2+VLOOKUP($E27+I$21,Rosetta!$A$11:$I$98,7,FALSE),FALSE)),"") | J27: =IF(J37="si",IF(VLOOKUP("Grado",Rosetta!$J$100:$V$100,2+VLOOKUP($E27+J$21,Rosetta!$A$11:$I$98,7,FALSE),FALSE)=0,VLOOKUP("Grado",Rosetta!$J$100:$V$100,1+VLOOKUP($E27+J$21,Rosetta!$A$11:$I$98,7,FALSE),FALSE),VLOOKUP("Grado",Rosetta!$J$100:$V$100,2+VLOOKUP($E27+J$21,Rosetta!$A$11:$I$98,7,FALSE),FALSE)),"") -> VII Séptima | K27: =IF(K37="si",IF(VLOOKUP("Grado",Rosetta!$J$100:$V$100,2+VLOOKUP($E27+K$21,Rosetta!$A$11:$I$98,7,FALSE),FALSE)=0,VLOOKUP("Grado",Rosetta!$J$100:$V$100,1+VLOOKUP($E27+K$21,Rosetta!$A$11:$I$98,7,FALSE),FALSE),VLOOKUP("Grado",Rosetta!$J$100:$V$100,2+VLOOKUP($E27+K$21,Rosetta!$A$11:$I$98,7,FALSE),FALSE)),"") -> I Tónica | L27: =IF(L37="si",IF(VLOOKUP("Grado",Rosetta!$J$100:$V$100,2+VLOOKUP($E27+L$21,Rosetta!$A$11:$I$98,7,FALSE),FALSE)=0,VLOOKUP("Grado",Rosetta!$J$100:$V$100,1+VLOOKUP($E27+L$21,Rosetta!$A$11:$I$98,7,FALSE),FALSE),VLOOKUP("Grado",Rosetta!$J$100:$V$100,2+VLOOKUP($E27+L$21,Rosetta!$A$11:$I$98,7,FALSE),FALSE)),"") | M27: =IF(M37="si",IF(VLOOKUP("Grado",Rosetta!$J$100:$V$100,2+VLOOKUP($E27+M$21,Rosetta!$A$11:$I$98,7,FALSE),FALSE)=0,VLOOKUP("Grado",Rosetta!$J$100:$V$100,1+VLOOKUP($E27+M$21,Rosetta!$A$11:$I$98,7,FALSE),FALSE),VLOOKUP("Grado",Rosetta!$J$100:$V$100,2+VLOOKUP($E27+M$21,Rosetta!$A$11:$I$98,7,FALSE),FALSE)),"") -> II | ... AD27: =IF(AD37="si",IF(VLOOKUP("Grado",Rosetta!$J$100:$V$100,2+VLOOKUP($E27+AD$21,Rosetta!$A$11:$I$98,7,FALSE),FALSE)=0,VLOOKUP("Grado",Rosetta!$J$100:$V$100,1+VLOOKUP($E27+AD$21,Rosetta!$A$11:$I$98,7,FALSE),FALSE),VLOOKUP("Grado",Rosetta!$J$100:$V$100,2+VLOOKUP($E27+AD$21,Rosetta!$A$11:$I$98,7,FALSE),FALSE)),"") -> V Quinta
F31: 0 | G31: 1 | H31: 2 | I31: 3 | J31: 4 | K31: 5 | L31: 6 | M31: 7 | N31: 8 | O31: 9 | P31: 10 | Q31: 11 | R31: 12 | S31: 13 | T31: 14 | U31: 15 | V31: 16 | W31: 17 | X31: 18 | Y31: 19 | Z31: 20 | AA31: 21 | AB31: 22 | AC31: 23 | AD31: 24
E32: =E11 -> 44 | F32: =IFERROR(VLOOKUP($E32,Rosetta!$A$11:$I$98,8,FALSE),"") -> si | G32: =IFERROR(VLOOKUP($E32+G$10,Rosetta!$A$11:$I$98,8,FALSE),"") -> no | H32: =IFERROR(VLOOKUP($E32+H$10,Rosetta!$A$11:$I$98,8,FALSE),"") -> si | I32: =IFERROR(VLOOKUP($E32+I$10,Rosetta!$A$11:$I$98,8,FALSE),"") -> no | J32: =IFERROR(VLOOKUP($E32+J$10,Rosetta!$A$11:$I$98,8,FALSE),"") -> si | K32: =IFERROR(VLOOKUP($E32+K$10,Rosetta!$A$11:$I$98,8,FALSE),"") -> si | L32: =IFERROR(VLOOKUP($E32+L$10,Rosetta!$A$11:$I$98,8,FALSE),"") -> no | M32: =IFERROR(VLOOKUP($E32+M$10,Rosetta!$A$11:$I$98,8,FALSE),"") -> si | N32: =IFERROR(VLOOKUP($E32+N$10,Rosetta!$A$11:$I$98,8,FALSE),"") -> no | ... AD32: =IFERROR(VLOOKUP($E32+AD$10,Rosetta!$A$11:$I$98,8,FALSE),"") -> si
E33: =E12 -> 39 | F33: =IFERROR(VLOOKUP($E33,Rosetta!$A$11:$I$98,8,FALSE),"") -> si | G33: =IFERROR(VLOOKUP($E33+G$10,Rosetta!$A$11:$I$98,8,FALSE),"") -> no | H33: =IFERROR(VLOOKUP($E33+H$10,Rosetta!$A$11:$I$98,8,FALSE),"") -> si | I33: =IFERROR(VLOOKUP($E33+I$10,Rosetta!$A$11:$I$98,8,FALSE),"") -> si | J33: =IFERROR(VLOOKUP($E33+J$10,Rosetta!$A$11:$I$98,8,FALSE),"") -> no | K33: =IFERROR(VLOOKUP($E33+K$10,Rosetta!$A$11:$I$98,8,FALSE),"") -> si | L33: =IFERROR(VLOOKUP($E33+L$10,Rosetta!$A$11:$I$98,8,FALSE),"") -> no | M33: =IFERROR(VLOOKUP($E33+M$10,Rosetta!$A$11:$I$98,8,FALSE),"") -> si | N33: =IFERROR(VLOOKUP($E33+N$10,Rosetta!$A$11:$I$98,8,FALSE),"") -> no | ... AD33: =IFERROR(VLOOKUP($E33+AD$10,Rosetta!$A$11:$I$98,8,FALSE),"") -> si
E34: =E13 -> 35 | F34: =IFERROR(VLOOKUP($E34,Rosetta!$A$11:$I$98,8,FALSE),"") -> no | G34: =IFERROR(VLOOKUP($E34+G$10,Rosetta!$A$11:$I$98,8,FALSE),"") -> si | H34: =IFERROR(VLOOKUP($E34+H$10,Rosetta!$A$11:$I$98,8,FALSE),"") -> si | I34: =IFERROR(VLOOKUP($E34+I$10,Rosetta!$A$11:$I$98,8,FALSE),"") -> no | J34: =IFERROR(VLOOKUP($E34+J$10,Rosetta!$A$11:$I$98,8,FALSE),"") -> si | K34: =IFERROR(VLOOKUP($E34+K$10,Rosetta!$A$11:$I$98,8,FALSE),"") -> no | L34: =IFERROR(VLOOKUP($E34+L$10,Rosetta!$A$11:$I$98,8,FALSE),"") -> si | M34: =IFERROR(VLOOKUP($E34+M$10,Rosetta!$A$11:$I$98,8,FALSE),"") -> si | N34: =IFERROR(VLOOKUP($E34+N$10,Rosetta!$A$11:$I$98,8,FALSE),"") -> no | ... AD34: =IFERROR(VLOOKUP($E34+AD$10,Rosetta!$A$11:$I$98,8,FALSE),"") -> no
E35: =E14 -> 30 | F35: =IFERROR(VLOOKUP($E35,Rosetta!$A$11:$I$98,8,FALSE),"") -> si | G35: =IFERROR(VLOOKUP($E35+G$10,Rosetta!$A$11:$I$98,8,FALSE),"") -> no | H35: =IFERROR(VLOOKUP($E35+H$10,Rosetta!$A$11:$I$98,8,FALSE),"") -> si | I35: =IFERROR(VLOOKUP($E35+I$10,Rosetta!$A$11:$I$98,8,FALSE),"") -> no | J35: =IFERROR(VLOOKUP($E35+J$10,Rosetta!$A$11:$I$98,8,FALSE),"") -> si | K35: =IFERROR(VLOOKUP($E35+K$10,Rosetta!$A$11:$I$98,8,FALSE),"") -> no | L35: =IFERROR(VLOOKUP($E35+L$10,Rosetta!$A$11:$I$98,8,FALSE),"") -> si | M35: =IFERROR(VLOOKUP($E35+M$10,Rosetta!$A$11:$I$98,8,FALSE),"") -> si | N35: =IFERROR(VLOOKUP($E35+N$10,Rosetta!$A$11:$I$98,8,FALSE),"") -> no | ... AD35: =IFERROR(VLOOKUP($E35+AD$10,Rosetta!$A$11:$I$98,8,FALSE),"") -> si
E36: =E15 -> 25 | F36: =IFERROR(VLOOKUP($E36,Rosetta!$A$11:$I$98,8,FALSE),"") -> si | G36: =IFERROR(VLOOKUP($E36+G$10,Rosetta!$A$11:$I$98,8,FALSE),"") -> no | H36: =IFERROR(VLOOKUP($E36+H$10,Rosetta!$A$11:$I$98,8,FALSE),"") -> si | I36: =IFERROR(VLOOKUP($E36+I$10,Rosetta!$A$11:$I$98,8,FALSE),"") -> no | J36: =IFERROR(VLOOKUP($E36+J$10,Rosetta!$A$11:$I$98,8,FALSE),"") -> si | K36: =IFERROR(VLOOKUP($E36+K$10,Rosetta!$A$11:$I$98,8,FALSE),"") -> si | L36: =IFERROR(VLOOKUP($E36+L$10,Rosetta!$A$11:$I$98,8,FALSE),"") -> no | M36: =IFERROR(VLOOKUP($E36+M$10,Rosetta!$A$11:$I$98,8,FALSE),"") -> si | N36: =IFERROR(VLOOKUP($E36+N$10,Rosetta!$A$11:$I$98,8,FALSE),"") -> no | ... AD36: =IFERROR(VLOOKUP($E36+AD$10,Rosetta!$A$11:$I$98,8,FALSE),"") -> si
E37: =E16 -> 20 | F37: =IFERROR(VLOOKUP($E37,Rosetta!$A$11:$I$98,8,FALSE),"") -> si | G37: =IFERROR(VLOOKUP($E37+G$10,Rosetta!$A$11:$I$98,8,FALSE),"") -> no | H37: =IFERROR(VLOOKUP($E37+H$10,Rosetta!$A$11:$I$98,8,FALSE),"") -> si | I37: =IFERROR(VLOOKUP($E37+I$10,Rosetta!$A$11:$I$98,8,FALSE),"") -> no | J37: =IFERROR(VLOOKUP($E37+J$10,Rosetta!$A$11:$I$98,8,FALSE),"") -> si | K37: =IFERROR(VLOOKUP($E37+K$10,Rosetta!$A$11:$I$98,8,FALSE),"") -> si | L37: =IFERROR(VLOOKUP($E37+L$10,Rosetta!$A$11:$I$98,8,FALSE),"") -> no | M37: =IFERROR(VLOOKUP($E37+M$10,Rosetta!$A$11:$I$98,8,FALSE),"") -> si | N37: =IFERROR(VLOOKUP($E37+N$10,Rosetta!$A$11:$I$98,8,FALSE),"") -> no | ... AD37: =IFERROR(VLOOKUP($E37+AD$10,Rosetta!$A$11:$I$98,8,FALSE),"") -> si

Sheet PIANO
A1: Modifica solamente las celdas amarillas
D2: Tonalidad | F2: Escala
C3: C | F3: Mayor
C4: =Rosetta!H7 -> A maj
C5: =IF(Rosetta!E5="PIANO",IFERROR(VLOOKUP(F3,Rosetta!J100:X120,15,FALSE),""),"Cambia el visualizador a PIANO en la hoja Rosetta.") -> Cambia el visualizador a PIANO en la hoja Rosetta. | BD5: Te ha sido útil? Considera una donación:
BD6: link.mercadopago.com.mx/abixites
K7: Grados: | O7: I Tónica | S7: II | W7: III Tercera | AA7: IV Cuarta | AE7: V dis | AI7: V Quinta | AM7: VI Sexta | AQ7: VII Séptima | BD7: paypal.me/abimaelruizb
M8: Notas: | O8: =IFERROR(IFERROR(IF(VLOOKUP($C$4,lista_bemoles_switch,2,FALSE)="s",VLOOKUP(PIANO!O$7,Rosetta!$K$11:$M$33,3,FALSE),VLOOKUP(PIANO!O$7,Rosetta!$K$11:$M$33,2,FALSE)),VLOOKUP(PIANO!O$7,Rosetta!$K$11:$M$33,2,FALSE)),"") -> A | S8: =IFERROR(IFERROR(IF(VLOOKUP($C$4,lista_bemoles_switch,2,FALSE)="s",VLOOKUP(PIANO!S$7,Rosetta!$K$11:$M$33,3,FALSE),VLOOKUP(PIANO!S$7,Rosetta!$K$11:$M$33,2,FALSE)),VLOOKUP(PIANO!S$7,Rosetta!$K$11:$M$33,2,FALSE)),"") -> B | W8: =IFERROR(IFERROR(IF(VLOOKUP($C$4,lista_bemoles_switch,2,FALSE)="s",VLOOKUP(PIANO!W$7,Rosetta!$K$11:$M$33,3,FALSE),VLOOKUP(PIANO!W$7,Rosetta!$K$11:$M$33,2,FALSE)),VLOOKUP(PIANO!W$7,Rosetta!$K$11:$M$33,2,FALSE)),"") -> C# | AA8: =IFERROR(IFERROR(IF(VLOOKUP($C$4,lista_bemoles_switch,2,FALSE)="s",VLOOKUP(PIANO!AA$7,Rosetta!$K$11:$M$33,3,FALSE),VLOOKUP(PIANO!AA$7,Rosetta!$K$11:$M$33,2,FALSE)),VLOOKUP(PIANO!AA$7,Rosetta!$K$11:$M$33,2,FALSE)),"") -> D | AE8: =IFERROR(IFERROR(IF(VLOOKUP($C$4,lista_bemoles_switch,2,FALSE)="s",VLOOKUP(PIANO!AE$7,Rosetta!$K$11:$M$33,3,FALSE),VLOOKUP(PIANO!AE$7,Rosetta!$K$11:$M$33,2,FALSE)),VLOOKUP(PIANO!AE$7,Rosetta!$K$11:$M$33,2,FALSE)),"") | AI8: =IFERROR(IFERROR(IF(VLOOKUP($C$4,lista_bemoles_switch,2,FALSE)="s",VLOOKUP(PIANO!AI$7,Rosetta!$K$11:$M$33,3,FALSE),VLOOKUP(PIANO!AI$7,Rosetta!$K$11:$M$33,2,FALSE)),VLOOKUP(PIANO!AI$7,Rosetta!$K$11:$M$33,2,FALSE)),"") -> E | AM8: =IFERROR(IFERROR(IF(VLOOKUP($C$4,lista_bemoles_switch,2,FALSE)="s",VLOOKUP(PIANO!AM$7,Rosetta!$K$11:$M$33,3,FALSE),VLOOKUP(PIANO!AM$7,Rosetta!$K$11:$M$33,2,FALSE)),VLOOKUP(PIANO!AM$7,Rosetta!$K$11:$M$33,2,FALSE)),"") -> F# | AQ8: =IFERROR(IFERROR(IF(VLOOKUP($C$4,lista_bemoles_switch,2,FALSE)="s",VLOOKUP(PIANO!AQ$7,Rosetta!$K$11:$M$33,3,FALSE),VLOOKUP(PIANO!AQ$7,Rosetta!$K$11:$M$33,2,FALSE)),VLOOKUP(PIANO!AQ$7,Rosetta!$K$11:$M$33,2,FALSE)),"") -> G# | BD8: Banamex 002180700568138276
M9: Semitonos: | O9: =IF(O8="","",CONCATENATE("+",VLOOKUP(O$8,Rosetta!$B$11:$G$22,6,FALSE))) -> +0 | S9: =IF(S8="","",CONCATENATE("+",VLOOKUP(S$8,Rosetta!$B$11:$G$22,6,FALSE))) -> +2 | W9: =IF(W8="","",CONCATENATE("+",VLOOKUP(W$8,Rosetta!$B$11:$G$22,6,FALSE))) -> +4 | AA9: =IF(AA8="","",CONCATENATE("+",VLOOKUP(AA$8,Rosetta!$B$11:$G$22,6,FALSE))) -> +5 | AE9: =IF(AE8="","",CONCATENATE("+",VLOOKUP(AE$8,Rosetta!$B$11:$G$22,6,FALSE))) | AI9: =IF(AI8="","",CONCATENATE("+",VLOOKUP(AI$8,Rosetta!$B$11:$G$22,6,FALSE))) -> +7 | AM9: =IF(AM8="","",CONCATENATE("+",VLOOKUP(AM$8,Rosetta!$B$11:$G$22,6,FALSE))) -> +9 | AQ9: =IF(AQ8="","",CONCATENATE("+",VLOOKUP(AQ$8,Rosetta!$B$11:$G$22,6,FALSE))) -> +11
D11: =VLOOKUP(D12,Rosetta!$A$11:$B$98,2,FALSE) -> A# | J11: =VLOOKUP(J12,Rosetta!$A$11:$B$98,2,FALSE) -> C# | M11: =VLOOKUP(M12,Rosetta!$A$11:$B$98,2,FALSE) -> D# | S11: =VLOOKUP(S12,Rosetta!$A$11:$B$98,2,FALSE) -> F# | V11: =VLOOKUP(V12,Rosetta!$A$11:$B$98,2,FALSE) -> G# | Y11: =VLOOKUP(Y12,Rosetta!$A$11:$B$98,2,FALSE) -> A# | AE11: =VLOOKUP(AE12,Rosetta!$A$11:$B$98,2,FALSE) -> C# | AH11: =VLOOKUP(AH12,Rosetta!$A$11:$B$98,2,FALSE) -> D# | AN11: =VLOOKUP(AN12,Rosetta!$A$11:$B$98,2,FALSE) -> F# | AQ11: =VLOOKUP(AQ12,Rosetta!$A$11:$B$98,2,FALSE) -> G# | AT11: =VLOOKUP(AT12,Rosetta!$A$11:$B$98,2,FALSE) -> A#
B12: 36 | C12: 37 | D12: 38 | E12: 38 | F12: 39 | G12: 39 | H12: 40 | I12: 40 | J12: 41 | K12: 41 | L12: 42 | M12: 43 | N12: 43 | O12: 44 | P12: 44 | Q12: 45 | R12: 45 | S12: 46 | T12: 46 | U12: 47 | V12: 48 | W12: 48 | X12: 49 | Y12: 50 | Z12: 50 | AA12: 51 | AB12: 51 | AC12: 52 | AD12: 52 | AE12: 53 | AF12: 53 | AG12: 54 | AH12: 55 | AI12: 55 | AJ12: 56 | AK12: 56 | AL12: 57 | AM12: 57 | AN12: 58 | AO12: 58 | AP12: 59 | AQ12: 60 | AR12: 60 | AS12: 61 | AT12: 62 | AU12: 62 | AV12: 63 | AW12: 63 | AX12: 64 | AY12: 64 | AZ12: 65
B13: 37 | C13: 37 | D13: 37 | E13: 39 | F13: 39 | G13: 39 | H13: 40 | I13: 40 | J13: 40 | K13: 42 | L13: 42 | M13: 42 | N13: 44 | O13: 44 | P13: 44 | Q13: 45 | R13: 45 | S13: 45 | T13: 47 | U13: 47 | V13: 47 | W13: 49 | X13: 49 | Y13: 49 | Z13: 51 | AA13: 51 | AB13: 51 | AC13: 52 | AD13: 52 | AE13: 52 | AF13: 54 | AG13: 54 | AH13: 54 | AI13: 56 | AJ13: 56 | AK13: 56 | AL13: 57 | AM13: 57 | AN13: 57 | AO13: 59 | AP13: 59 | AQ13: 59 | AR13: 61 | AS13: 61 | AT13: 61 | AU13: 63 | AV13: 63 | AW13: 63 | AX13: 64 | AY13: 64 | AZ13: 64
B14: =VLOOKUP(B13,Rosetta!$A$11:$B$98,2,FALSE) -> A | E14: =VLOOKUP(E13,Rosetta!$A$11:$B$98,2,FALSE) -> B | H14: =VLOOKUP(H13,Rosetta!$A$11:$B$98,2,FALSE) -> C | K14: =VLOOKUP(K13,Rosetta!$A$11:$B$98,2,FALSE) -> D | N14: =VLOOKUP(N13,Rosetta!$A$11:$B$98,2,FALSE) -> E | Q14: =VLOOKUP(Q13,Rosetta!$A$11:$B$98,2,FALSE) -> F | T14: =VLOOKUP(T13,Rosetta!$A$11:$B$98,2,FALSE) -> G | W14: =VLOOKUP(W13,Rosetta!$A$11:$B$98,2,FALSE) -> A | Z14: =VLOOKUP(Z13,Rosetta!$A$11:$B$98,2,FALSE) -> B | AC14: =VLOOKUP(AC13,Rosetta!$A$11:$B$98,2,FALSE) -> C | AF14: =VLOOKUP(AF13,Rosetta!$A$11:$B$98,2,FALSE) -> D | AI14: =VLOOKUP(AI13,Rosetta!$A$11:$B$98,2,FALSE) -> E | AL14: =VLOOKUP(AL13,Rosetta!$A$11:$B$98,2,FALSE) -> F | AO14: =VLOOKUP(AO13,Rosetta!$A$11:$B$98,2,FALSE) -> G | AR14: =VLOOKUP(AR13,Rosetta!$A$11:$B$98,2,FALSE) -> A | AU14: =VLOOKUP(AU13,Rosetta!$A$11:$B$98,2,FALSE) -> B | AX14: =VLOOKUP(AX13,Rosetta!$A$11:$B$98,2,FALSE) -> C
B19: =VLOOKUP(B12,Rosetta!$A$11:$D$98,4,FALSE) -> Negra | C19: =VLOOKUP(C12,Rosetta!$A$11:$D$98,4,FALSE) -> Blanca | D19: =VLOOKUP(D12,Rosetta!$A$11:$D$98,4,FALSE) -> Negra | E19: =VLOOKUP(E12,Rosetta!$A$11:$D$98,4,FALSE) -> Negra | F19: =VLOOKUP(F12,Rosetta!$A$11:$D$98,4,FALSE) -> Blanca | G19: =VLOOKUP(G12,Rosetta!$A$11:$D$98,4,FALSE) -> Blanca | H19: =VLOOKUP(H12,Rosetta!$A$11:$D$98,4,FALSE) -> Blanca | I19: =VLOOKUP(I12,Rosetta!$A$11:$D$98,4,FALSE) -> Blanca | ... AZ19: =VLOOKUP(AZ12,Rosetta!$A$11:$D$98,4,FALSE) -> Negra
B20: =VLOOKUP(B13,Rosetta!$A$11:$D$98,4,FALSE) -> Blanca | C20: =VLOOKUP(C13,Rosetta!$A$11:$D$98,4,FALSE) -> Blanca | D20: =VLOOKUP(D13,Rosetta!$A$11:$D$98,4,FALSE) -> Blanca | E20: =VLOOKUP(E13,Rosetta!$A$11:$D$98,4,FALSE) -> Blanca | F20: =VLOOKUP(F13,Rosetta!$A$11:$D$98,4,FALSE) -> Blanca | G20: =VLOOKUP(G13,Rosetta!$A$11:$D$98,4,FALSE) -> Blanca | H20: =VLOOKUP(H13,Rosetta!$A$11:$D$98,4,FALSE) -> Blanca | I20: =VLOOKUP(I13,Rosetta!$A$11:$D$98,4,FALSE) -> Blanca | ... AZ20: =VLOOKUP(AZ13,Rosetta!$A$11:$D$98,4,FALSE) -> Blanca
B24: =VLOOKUP(B12,Rosetta!$A$11:$I$98,8,FALSE) -> si | C24: =VLOOKUP(C12,Rosetta!$A$11:$I$98,8,FALSE) -> si | D24: =VLOOKUP(D12,Rosetta!$A$11:$I$98,8,FALSE) -> no | E24: =VLOOKUP(E12,Rosetta!$A$11:$I$98,8,FALSE) -> no | F24: =VLOOKUP(F12,Rosetta!$A$11:$I$98,8,FALSE) -> si | G24: =VLOOKUP(G12,Rosetta!$A$11:$I$98,8,FALSE) -> si | H24: =VLOOKUP(H12,Rosetta!$A$11:$I$98,8,FALSE) -> no | I24: =VLOOKUP(I12,Rosetta!$A$11:$I$98,8,FALSE) -> no | ... AZ24: =VLOOKUP(AZ12,Rosetta!$A$11:$I$98,8,FALSE) -> si
B25: =VLOOKUP(B13,Rosetta!$A$11:$I$98,8,FALSE) -> si | C25: =VLOOKUP(C13,Rosetta!$A$11:$I$98,8,FALSE) -> si | D25: =VLOOKUP(D13,Rosetta!$A$11:$I$98,8,FALSE) -> si | E25: =VLOOKUP(E13,Rosetta!$A$11:$I$98,8,FALSE) -> si | F25: =VLOOKUP(F13,Rosetta!$A$11:$I$98,8,FALSE) -> si | G25: =VLOOKUP(G13,Rosetta!$A$11:$I$98,8,FALSE) -> si | H25: =VLOOKUP(H13,Rosetta!$A$11:$I$98,8,FALSE) -> no | I25: =VLOOKUP(I13,Rosetta!$A$11:$I$98,8,FALSE) -> no | ... AZ25: =VLOOKUP(AZ13,Rosetta!$A$11:$I$98,8,FALSE) -> no
B28: =VLOOKUP(B12,Rosetta!$A$10:$K$98,11,FALSE) -> VII Séptima | C28: =VLOOKUP(C12,Rosetta!$A$10:$K$98,11,FALSE) -> I Tónica | D28: =VLOOKUP(D12,Rosetta!$A$10:$K$98,11,FALSE) | E28: =VLOOKUP(E12,Rosetta!$A$10:$K$98,11,FALSE) | F28: =VLOOKUP(F12,Rosetta!$A$10:$K$98,11,FALSE) -> II | G28: =VLOOKUP(G12,Rosetta!$A$10:$K$98,11,FALSE) -> II | H28: =VLOOKUP(H12,Rosetta!$A$10:$K$98,11,FALSE) | I28: =VLOOKUP(I12,Rosetta!$A$10:$K$98,11,FALSE) | ... AZ28: =VLOOKUP(AZ12,Rosetta!$A$10:$K$98,11,FALSE) -> III Tercera
B29: =VLOOKUP(B13,Rosetta!$A$10:$K$98,11,FALSE) -> I Tónica | C29: =VLOOKUP(C13,Rosetta!$A$10:$K$98,11,FALSE) -> I Tónica | D29: =VLOOKUP(D13,Rosetta!$A$10:$K$98,11,FALSE) -> I Tónica | E29: =VLOOKUP(E13,Rosetta!$A$10:$K$98,11,FALSE) -> II | F29: =VLOOKUP(F13,Rosetta!$A$10:$K$98,11,FALSE) -> II | G29: =VLOOKUP(G13,Rosetta!$A$10:$K$98,11,FALSE) -> II | H29: =VLOOKUP(H13,Rosetta!$A$10:$K$98,11,FALSE) | I29: =VLOOKUP(I13,Rosetta!$A$10:$K$98,11,FALSE) | ... AZ29: =VLOOKUP(AZ13,Rosetta!$A$10:$K$98,11,FALSE)

Sheet Transporta Canciones
B1: Transporta de Canciones
H2: =IFERROR(VLOOKUP(C3,Tonalidades,2,FALSE),"") -> 48 | I2: =IFERROR(IF(H2-H5<0,12+H2-H5,H2-H5),"") -> 8 | M2: Te ha sido útil? Considera una donación:
B3: Trasportar a: | C3: G# | H3: =IFERROR(VLOOKUP(#REF!,Tonalidades,2,FALSE),"") | M3: link.mercadopago.com.mx/abixites
D4: Escala | E4: De | F4: A | G4: Grado | H4: =IFERROR(VLOOKUP(C4,Tonalidades,2,FALSE),"") | M4: paypal.me/abimaelruizb
B5: Tonalidad Base | C5: C | D5: Mayor | E5: =IFERROR(CONCATENATE(C5," ",VLOOKUP(D5,Rosetta!$J$101:$W$112,14,FALSE)),"") -> C maj | F5: =IFERROR(CONCATENATE(VLOOKUP(H5+$I$2,Rosetta!$A$11:$B$98,2,FALSE)," ",VLOOKUP('Transporta Canciones'!D5,Rosetta!$J$101:$W$112,14,FALSE)),"") -> G# maj | G5: I Tónica | H5: =IFERROR(VLOOKUP(C5,Tonalidades,2,FALSE),"") -> 40 | I5: =IFERROR(IF(H5-$H$2<0,12+H5-$H$2,H5-$H$2),"") -> 4 | J5: =IFERROR(IF(H5-$H$5<0,12+H5-$H$5,H5-$H$5),"") -> 0 | M5: Banamex 002180700568138276
B6: Cambio 1 | C6: A | D6: menor | E6: =IFERROR(CONCATENATE(C6," ",VLOOKUP(D6,Rosetta!$J$101:$W$112,14,FALSE)),"") -> A m | F6: =IFERROR(CONCATENATE(VLOOKUP(H6+$I$2,Rosetta!$A$11:$B$98,2,FALSE)," ",VLOOKUP('Transporta Canciones'!D6,Rosetta!$J$101:$W$112,14,FALSE)),"") -> F m | G6: =IFERROR(IF(VLOOKUP("Grado",Rosetta!$J$100:$V$100,J6+1,FALSE)=0,VLOOKUP("Grado",Rosetta!$J$100:$V$100,J6+2,FALSE),VLOOKUP("Grado",Rosetta!$J$100:$V$100,J6+1,FALSE)),"") -> VI Sexta | H6: =IFERROR(VLOOKUP(C6,Tonalidades,2,FALSE),"") -> 37 | I6: =IFERROR(IF(H6-$H$2<0,12+H6-$H$2,H6-$H$2),"") -> 1 | J6: =IFERROR(IF(H6-$H$5<0,12+H6-$H$5,H6-$H$5),"") -> 9
B7: Cambio 2 | C7: F | D7: Mayor | E7: =IFERROR(CONCATENATE(C7," ",VLOOKUP(D7,Rosetta!$J$101:$W$112,14,FALSE)),"") -> F maj | F7: =IFERROR(CONCATENATE(VLOOKUP(H7+$I$2,Rosetta!$A$11:$B$98,2,FALSE)," ",VLOOKUP('Transporta Canciones'!D7,Rosetta!$J$101:$W$112,14,FALSE)),"") -> C# maj | G7: =IFERROR(IF(VLOOKUP("Grado",Rosetta!$J$100:$V$100,J7+1,FALSE)=0,VLOOKUP("Grado",Rosetta!$J$100:$V$100,J7+2,FALSE),VLOOKUP("Grado",Rosetta!$J$100:$V$100,J7+1,FALSE)),"") -> IV Cuarta | H7: =IFERROR(VLOOKUP(C7,Tonalidades,2,FALSE),"") -> 45 | I7: =IFERROR(IF(H7-$H$2<0,12+H7-$H$2,H7-$H$2),"") -> 9 | J7: =IFERROR(IF(H7-$H$5<0,12+H7-$H$5,H7-$H$5),"") -> 5
B8: Cambio 3 | C8: G | D8: Mayor | E8: =IFERROR(CONCATENATE(C8," ",VLOOKUP(D8,Rosetta!$J$101:$W$112,14,FALSE)),"") -> G maj | F8: =IFERROR(CONCATENATE(VLOOKUP(H8+$I$2,Rosetta!$A$11:$B$98,2,FALSE)," ",VLOOKUP('Transporta Canciones'!D8,Rosetta!$J$101:$W$112,14,FALSE)),"") -> D# maj | G8: =IFERROR(IF(VLOOKUP("Grado",Rosetta!$J$100:$V$100,J8+1,FALSE)=0,VLOOKUP("Grado",Rosetta!$J$100:$V$100,J8+2,FALSE),VLOOKUP("Grado",Rosetta!$J$100:$V$100,J8+1,FALSE)),"") -> V dis | H8: =IFERROR(VLOOKUP(C8,Tonalidades,2,FALSE),"") -> 47 | I8: =IFERROR(IF(H8-$H$2<0,12+H8-$H$2,H8-$H$2),"") -> 11 | J8: =IFERROR(IF(H8-$H$5<0,12+H8-$H$5,H8-$H$5),"") -> 7
B9: Cambio 4 | C9: Bb | D9: Mayor | E9: =IFERROR(CONCATENATE(C9," ",VLOOKUP(D9,Rosetta!$J$101:$W$112,14,FALSE)),"") -> Bb maj | F9: =IFERROR(CONCATENATE(VLOOKUP(H9+$I$2,Rosetta!$A$11:$B$98,2,FALSE)," ",VLOOKUP('Transporta Canciones'!D9,Rosetta!$J$101:$W$112,14,FALSE)),"") -> F# maj | G9: =IFERROR(IF(VLOOKUP("Grado",Rosetta!$J$100:$V$100,J9+1,FALSE)=0,VLOOKUP("Grado",Rosetta!$J$100:$V$100,J9+2,FALSE),VLOOKUP("Grado",Rosetta!$J$100:$V$100,J9+1,FALSE)),"") -> VII Séptima | H9: =IFERROR(VLOOKUP(C9,Tonalidades,2,FALSE),"") -> 38 | I9: =IFERROR(IF(H9-$H$2<0,12+H9-$H$2,H9-$H$2),"") -> 2 | J9: =IFERROR(IF(H9-$H$5<0,12+H9-$H$5,H9-$H$5),"") -> 10
B10: Cambio 5 | C10: G | D10: menor | E10: =IFERROR(CONCATENATE(C10," ",VLOOKUP(D10,Rosetta!$J$101:$W$112,14,FALSE)),"") -> G m | F10: =IFERROR(CONCATENATE(VLOOKUP(H10+$I$2,Rosetta!$A$11:$B$98,2,FALSE)," ",VLOOKUP('Transporta Canciones'!D10,Rosetta!$J$101:$W$112,14,FALSE)),"") -> D# m | G10: =IFERROR(IF(VLOOKUP("Grado",Rosetta!$J$100:$V$100,J10+1,FALSE)=0,VLOOKUP("Grado",Rosetta!$J$100:$V$100,J10+2,FALSE),VLOOKUP("Grado",Rosetta!$J$100:$V$100,J10+1,FALSE)),"") -> V dis | H10: =IFERROR(VLOOKUP(C10,Tonalidades,2,FALSE),"") -> 47 | I10: =IFERROR(IF(H10-$H$2<0,12+H10-$H$2,H10-$H$2),"") -> 11 | J10: =IFERROR(IF(H10-$H$5<0,12+H10-$H$5,H10-$H$5),"") -> 7
B11: Cambio 6 | E11: =IFERROR(CONCATENATE(C11," ",VLOOKUP(D11,Rosetta!$J$101:$W$112,14,FALSE)),"") | F11: =IFERROR(CONCATENATE(VLOOKUP(H11+$I$2,Rosetta!$A$11:$B$98,2,FALSE)," ",VLOOKUP('Transporta Canciones'!D11,Rosetta!$J$101:$W$112,14,FALSE)),"") | G11: =IFERROR(IF(VLOOKUP("Grado",Rosetta!$J$100:$V$100,J11+1,FALSE)=0,VLOOKUP("Grado",Rosetta!$J$100:$V$100,J11+2,FALSE),VLOOKUP("Grado",Rosetta!$J$100:$V$100,J11+1,FALSE)),"") | H11: =IFERROR(VLOOKUP(C11,Tonalidades,2,FALSE),"") | I11: =IFERROR(IF(H11-$H$2<0,12+H11-$H$2,H11-$H$2),"") | J11: =IFERROR(IF(H11-$H$5<0,12+H11-$H$5,H11-$H$5),"")
B12: Cambio 7 | E12: =IFERROR(CONCATENATE(C12," ",VLOOKUP(D12,Rosetta!$J$101:$W$112,14,FALSE)),"") | F12: =IFERROR(CONCATENATE(VLOOKUP(H12+$I$2,Rosetta!$A$11:$B$98,2,FALSE)," ",VLOOKUP('Transporta Canciones'!D12,Rosetta!$J$101:$W$112,14,FALSE)),"") | G12: =IFERROR(IF(VLOOKUP("Grado",Rosetta!$J$100:$V$100,J12+1,FALSE)=0,VLOOKUP("Grado",Rosetta!$J$100:$V$100,J12+2,FALSE),VLOOKUP("Grado",Rosetta!$J$100:$V$100,J12+1,FALSE)),"") | H12: =IFERROR(VLOOKUP(C12,Tonalidades,2,FALSE),"") | I12: =IFERROR(IF(H12-$H$2<0,12+H12-$H$2,H12-$H$2),"") | J12: =IFERROR(IF(H12-$H$5<0,12+H12-$H$5,H12-$H$5),"")
B13: Cambio 8 | E13: =IFERROR(CONCATENATE(C13," ",VLOOKUP(D13,Rosetta!$J$101:$W$112,14,FALSE)),"") | F13: =IFERROR(CONCATENATE(VLOOKUP(H13+$I$2,Rosetta!$A$11:$B$98,2,FALSE)," ",VLOOKUP('Transporta Canciones'!D13,Rosetta!$J$101:$W$112,14,FALSE)),"") | G13: =IFERROR(IF(VLOOKUP("Grado",Rosetta!$J$100:$V$100,J13+1,FALSE)=0,VLOOKUP("Grado",Rosetta!$J$100:$V$100,J13+2,FALSE),VLOOKUP("Grado",Rosetta!$J$100:$V$100,J13+1,FALSE)),"") | H13: =IFERROR(VLOOKUP(C13,Tonalidades,2,FALSE),"") | I13: =IFERROR(IF(H13-$H$2<0,12+H13-$H$2,H13-$H$2),"") | J13: =IFERROR(IF(H13-$H$5<0,12+H13-$H$5,H13-$H$5),"")
B14: Cambio 9 | E14: =IFERROR(CONCATENATE(C14," ",VLOOKUP(D14,Rosetta!$J$101:$W$112,14,FALSE)),"") | F14: =IFERROR(CONCATENATE(VLOOKUP(H14+$I$2,Rosetta!$A$11:$B$98,2,FALSE)," ",VLOOKUP('Transporta Canciones'!D14,Rosetta!$J$101:$W$112,14,FALSE)),"") | G14: =IFERROR(IF(VLOOKUP("Grado",Rosetta!$J$100:$V$100,J14+1,FALSE)=0,VLOOKUP("Grado",Rosetta!$J$100:$V$100,J14+2,FALSE),VLOOKUP("Grado",Rosetta!$J$100:$V$100,J14+1,FALSE)),"") | H14: =IFERROR(VLOOKUP(C14,Tonalidades,2,FALSE),"") | I14: =IFERROR(IF(H14-$H$2<0,12+H14-$H$2,H14-$H$2),"") | J14: =IFERROR(IF(H14-$H$5<0,12+H14-$H$5,H14-$H$5),"")
B15: Cambio 10 | E15: =IFERROR(CONCATENATE(C15," ",VLOOKUP(D15,Rosetta!$J$101:$W$112,14,FALSE)),"") | F15: =IFERROR(CONCATENATE(VLOOKUP(H15+$I$2,Rosetta!$A$11:$B$98,2,FALSE)," ",VLOOKUP('Transporta Canciones'!D15,Rosetta!$J$101:$W$112,14,FALSE)),"") | G15: =IFERROR(IF(VLOOKUP("Grado",Rosetta!$J$100:$V$100,J15+1,FALSE)=0,VLOOKUP("Grado",Rosetta!$J$100:$V$100,J15+2,FALSE),VLOOKUP("Grado",Rosetta!$J$100:$V$100,J15+1,FALSE)),"") | H15: =IFERROR(VLOOKUP(C15,Tonalidades,2,FALSE),"") | I15: =IFERROR(IF(H15-$H$2<0,12+H15-$H$2,H15-$H$2),"") | J15: =IFERROR(IF(H15-$H$5<0,12+H15-$H$5,H15-$H$5),"")
B16: Cambio 11 | E16: =IFERROR(CONCATENATE(C16," ",VLOOKUP(D16,Rosetta!$J$101:$W$112,14,FALSE)),"") | F16: =IFERROR(CONCATENATE(VLOOKUP(H16+$I$2,Rosetta!$A$11:$B$98,2,FALSE)," ",VLOOKUP('Transporta Canciones'!D16,Rosetta!$J$101:$W$112,14,FALSE)),"") | G16: =IFERROR(IF(VLOOKUP("Grado",Rosetta!$J$100:$V$100,J16+1,FALSE)=0,VLOOKUP("Grado",Rosetta!$J$100:$V$100,J16+2,FALSE),VLOOKUP("Grado",Rosetta!$J$100:$V$100,J16+1,FALSE)),"") | H16: =IFERROR(VLOOKUP(C16,Tonalidades,2,FALSE),"") | I16: =IFERROR(IF(H16-$H$2<0,12+H16-$H$2,H16-$H$2),"") | J16: =IFERROR(IF(H16-$H$5<0,12+H16-$H$5,H16-$H$5),"")
B17: Cambio 12 | E17: =IFERROR(CONCATENATE(C17," ",VLOOKUP(D17,Rosetta!$J$101:$W$112,14,FALSE)),"") | F17: =IFERROR(CONCATENATE(VLOOKUP(H17+$I$2,Rosetta!$A$11:$B$98,2,FALSE)," ",VLOOKUP('Transporta Canciones'!D17,Rosetta!$J$101:$W$112,14,FALSE)),"") | G17: =IFERROR(IF(VLOOKUP("Grado",Rosetta!$J$100:$V$100,J17+1,FALSE)=0,VLOOKUP("Grado",Rosetta!$J$100:$V$100,J17+2,FALSE),VLOOKUP("Grado",Rosetta!$J$100:$V$100,J17+1,FALSE)),"") | H17: =IFERROR(VLOOKUP(C17,Tonalidades,2,FALSE),"") | I17: =IFERROR(IF(H17-$H$2<0,12+H17-$H$2,H17-$H$2),"") | J17: =IFERROR(IF(H17-$H$5<0,12+H17-$H$5,H17-$H$5),"")
B18: Cambio 13 | E18: =IFERROR(CONCATENATE(C18," ",VLOOKUP(D18,Rosetta!$J$101:$W$112,14,FALSE)),"") | F18: =IFERROR(CONCATENATE(VLOOKUP(H18+$I$2,Rosetta!$A$11:$B$98,2,FALSE)," ",VLOOKUP('Transporta Canciones'!D18,Rosetta!$J$101:$W$112,14,FALSE)),"") | G18: =IFERROR(IF(VLOOKUP("Grado",Rosetta!$J$100:$V$100,J18+1,FALSE)=0,VLOOKUP("Grado",Rosetta!$J$100:$V$100,J18+2,FALSE),VLOOKUP("Grado",Rosetta!$J$100:$V$100,J18+1,FALSE)),"") | H18: =IFERROR(VLOOKUP(C18,Tonalidades,2,FALSE),"") | I18: =IFERROR(IF(H18-$H$2<0,12+H18-$H$2,H18-$H$2),"") | J18: =IFERROR(IF(H18-$H$5<0,12+H18-$H$5,H18-$H$5),"")
B19: Cambio 14 | E19: =IFERROR(CONCATENATE(C19," ",VLOOKUP(D19,Rosetta!$J$101:$W$112,14,FALSE)),"") | F19: =IFERROR(CONCATENATE(VLOOKUP(H19+$I$2,Rosetta!$A$11:$B$98,2,FALSE)," ",VLOOKUP('Transporta Canciones'!D19,Rosetta!$J$101:$W$112,14,FALSE)),"") | G19: =IFERROR(IF(VLOOKUP("Grado",Rosetta!$J$100:$V$100,J19+1,FALSE)=0,VLOOKUP("Grado",Rosetta!$J$100:$V$100,J19+2,FALSE),VLOOKUP("Grado",Rosetta!$J$100:$V$100,J19+1,FALSE)),"") | H19: =IFERROR(VLOOKUP(C19,Tonalidades,2,FALSE),"") | I19: =IFERROR(IF(H19-$H$2<0,12+H19-$H$2,H19-$H$2),"") | J19: =IFERROR(IF(H19-$H$5<0,12+H19-$H$5,H19-$H$5),"")
B20: Cambio 15 | E20: =IFERROR(CONCATENATE(C20," ",VLOOKUP(D20,Rosetta!$J$101:$W$112,14,FALSE)),"") | F20: =IFERROR(CONCATENATE(VLOOKUP(H20+$I$2,Rosetta!$A$11:$B$98,2,FALSE)," ",VLOOKUP('Transporta Canciones'!D20,Rosetta!$J$101:$W$112,14,FALSE)),"") | G20: =IFERROR(IF(VLOOKUP("Grado",Rosetta!$J$100:$V$100,J20+1,FALSE)=0,VLOOKUP("Grado",Rosetta!$J$100:$V$100,J20+2,FALSE),VLOOKUP("Grado",Rosetta!$J$100:$V$100,J20+1,FALSE)),"") | H20: =IFERROR(VLOOKUP(C20,Tonalidades,2,FALSE),"") | I20: =IFERROR(IF(H20-$H$2<0,12+H20-$H$2,H20-$H$2),"") | J20: =IFERROR(IF(H20-$H$5<0,12+H20-$H$5,H20-$H$5),"")
B21: Cambio 16 | E21: =IFERROR(CONCATENATE(C21," ",VLOOKUP(D21,Rosetta!$J$101:$W$112,14,FALSE)),"") | F21: =IFERROR(CONCATENATE(VLOOKUP(H21+$I$2,Rosetta!$A$11:$B$98,2,FALSE)," ",VLOOKUP('Transporta Canciones'!D21,Rosetta!$J$101:$W$112,14,FALSE)),"") | G21: =IFERROR(IF(VLOOKUP("Grado",Rosetta!$J$100:$V$100,J21+1,FALSE)=0,VLOOKUP("Grado",Rosetta!$J$100:$V$100,J21+2,FALSE),VLOOKUP("Grado",Rosetta!$J$100:$V$100,J21+1,FALSE)),"") | H21: =IFERROR(VLOOKUP(C21,Tonalidades,2,FALSE),"") | I21: =IFERROR(IF(H21-$H$2<0,12+H21-$H$2,H21-$H$2),"") | J21: =IFERROR(IF(H21-$H$5<0,12+H21-$H$5,H21-$H$5),"")

Sheet Ilustraciones
B3: Tonalidad | D3: Octava | F3: Nota
B4: C | C4: + | D4: 4 | E4: = | F4: C 4
H9: Escalas
H10: Menor | I10: Mayor | J10: Alteraciones # y b (todas las naturales blancas, excepto)
H11: A | I11: C
H12: E | I12: G | J12: F#
H13: B | I13: D | J13: F# | K13: C#
H14: Gb | I14: A | J14: F# | K14: C# | L14: G#
H15: Db | I15: E | J15: F# | K15: C# | L15: G# | M15: D#
H16: Ab | I16: B | J16: F# | K16: C# | L16: G# | M16: D# | N16: A#
H17: Eb | I17: F# | J17: F# | K17: C# | L17: G# | M17: D# | N17: A# | O17: F (E#) | P17: son la misma
H18: Eb | I18: Gb | J18: Bb | K18: Eb | L18: Ab | M18: Db | N18: Gb | O18: B (Cb)
H19: Bb | I19: Db | J19: Bb | K19: Eb | L19: Ab | M19: Db | N19: Gb
H20: F | I20: Ab | J20: Bb | K20: Eb | L20: Ab | M20: Db
H21: C | I21: Eb | J21: Bb | K21: Eb | L21: Ab
H22: G | I22: Bb | J22: Bb | K22: Eb
H23: D | I23: F | J23: Bb
